BEGIN:VCALENDAR
VERSION:2.0
PRODID:-//Explore Martin County NC - ECPv6.14.2//NONSGML v1.0//EN
CALSCALE:GREGORIAN
METHOD:PUBLISH
X-ORIGINAL-URL:https://exploremartincounty.com
X-WR-CALDESC:Events for Explore Martin County NC
REFRESH-INTERVAL;VALUE=DURATION:PT1H
X-Robots-Tag:noindex
X-PUBLISHED-TTL:PT1H
BEGIN:VTIMEZONE
TZID:America/New_York
BEGIN:DAYLIGHT
TZOFFSETFROM:-0500
TZOFFSETTO:-0400
TZNAME:EDT
DTSTART:20240310T070000
END:DAYLIGHT
BEGIN:STANDARD
TZOFFSETFROM:-0400
TZOFFSETTO:-0500
TZNAME:EST
DTSTART:20241103T060000
END:STANDARD
END:VTIMEZONE
BEGIN:VEVENT
DTSTART;TZID=America/New_York:20241214T090000
DTEND;TZID=America/New_York:20241214T120000
DTSTAMP:20260423T100029
CREATED:20241211T023320Z
LAST-MODIFIED:20241211T023320Z
UID:10000581-1734166800-1734177600@exploremartincounty.com
SUMMARY:3rd Annual Jingle Jog Food Drive
DESCRIPTION:Join us for a mile-long walk or jog around Godwin-Coppage park to support the local food drive. Bring canned goods to donate and help make a difference in our community!
URL:https://exploremartincounty.com/event/3rd-annual-jingle-jog-food-drive/
LOCATION:Godwin-Coppage Park\, 1073 Tyner Rd.\, Williamston\, NC\, 27892\, United States
ORGANIZER;CN="Fitness Unlimited Williamston":MAILTO:fitnessunlimitedwilliamston@gmail.com
END:VEVENT
END:VCALENDAR