BEGIN:VCALENDAR
VERSION:2.0
PRODID:-//Explore Martin County NC - ECPv6.14.2//NONSGML v1.0//EN
CALSCALE:GREGORIAN
METHOD:PUBLISH
X-ORIGINAL-URL:https://exploremartincounty.com
X-WR-CALDESC:Events for Explore Martin County NC
REFRESH-INTERVAL;VALUE=DURATION:PT1H
X-Robots-Tag:noindex
X-PUBLISHED-TTL:PT1H
BEGIN:VTIMEZONE
TZID:America/New_York
BEGIN:DAYLIGHT
TZOFFSETFROM:-0500
TZOFFSETTO:-0400
TZNAME:EDT
DTSTART:20260308T070000
END:DAYLIGHT
BEGIN:STANDARD
TZOFFSETFROM:-0400
TZOFFSETTO:-0500
TZNAME:EST
DTSTART:20261101T060000
END:STANDARD
END:VTIMEZONE
BEGIN:VEVENT
DTSTART;TZID=America/New_York:20260925T170000
DTEND;TZID=America/New_York:20260925T220000
DTSTAMP:20260422T181522
CREATED:20260422T172110Z
LAST-MODIFIED:20260422T172110Z
UID:10006313-1790355600-1790373600@exploremartincounty.com
SUMMARY:Carolina Stampede Music Fest
DESCRIPTION:SAVE THE DATE!\n\n\n\n\nThe Carolina Stampede Music Fest is BACK for the 30th Anniversary and is currently connecting with vendors and sponsors who want to be part of this milestone year. Check out event details and opportunities HERE!\n\n\n\n\n“The committee has aimed to curate the Carolina Stampede Music Fest to truly embody our mission: celebrating community\, local culture\, and music diversity. This festival is more than just a lineup — it’s a movement to uplift local artists\, honor our North Carolina heritage\, and bring us together through the power of music. From the bluegrass roots in the mountains to the beach music of the coast\, North Carolina’s rich musical traditions tell the story of who we are. Our small towns are built on neighborly spirit\, good food\, and a love for gathering together — and that’s precisely what Stampede is all about. We are community-strong\, and music is what unites us. We can’t wait to share this experience with you! Interested in getting involved? Stay tuned for ways to help! Whether it’s volunteering\, supporting local vendors\, or simply spreading the word\, every bit of community involvement makes a difference. Please follow the Carolina Stampede Music Festival Facebook page for more updates and festival info!”\n\n\n\n\n\n\n Thousands of attendees\n Live music\, food trucks\, family fun\n A celebration of local talent and culture\n Strong promotional reach across the region\n\n\n\n\n\nGet involved\, get noticed\, and be part of the Stampede magic! Questions? Contact LaShonda Cartwright at lcartwright@townofwilliamston.com or Jackie Escobar at jescobar@townofwilliamston.com.
URL:https://exploremartincounty.com/event/carolina-stampede-music-fest-2/2026-09-25/
LOCATION:Downtown Williamston\, 111 W. Main Street\, Williamston\, NC\, 27892\, United States
ORGANIZER;CN="Carolina Stampede Music Fest":MAILTO:jescobar@townofwilliamston.com
END:VEVENT
BEGIN:VEVENT
DTSTART;TZID=America/New_York:20260926T093000
DTEND;TZID=America/New_York:20260926T220000
DTSTAMP:20260422T181522
CREATED:20260422T172110Z
LAST-MODIFIED:20260422T172110Z
UID:10006314-1790415000-1790460000@exploremartincounty.com
SUMMARY:Carolina Stampede Music Fest
DESCRIPTION:SAVE THE DATE!\n\n\n\n\nThe Carolina Stampede Music Fest is BACK for the 30th Anniversary and is currently connecting with vendors and sponsors who want to be part of this milestone year. Check out event details and opportunities HERE!\n\n\n\n\n“The committee has aimed to curate the Carolina Stampede Music Fest to truly embody our mission: celebrating community\, local culture\, and music diversity. This festival is more than just a lineup — it’s a movement to uplift local artists\, honor our North Carolina heritage\, and bring us together through the power of music. From the bluegrass roots in the mountains to the beach music of the coast\, North Carolina’s rich musical traditions tell the story of who we are. Our small towns are built on neighborly spirit\, good food\, and a love for gathering together — and that’s precisely what Stampede is all about. We are community-strong\, and music is what unites us. We can’t wait to share this experience with you! Interested in getting involved? Stay tuned for ways to help! Whether it’s volunteering\, supporting local vendors\, or simply spreading the word\, every bit of community involvement makes a difference. Please follow the Carolina Stampede Music Festival Facebook page for more updates and festival info!”\n\n\n\n\n\n\n Thousands of attendees\n Live music\, food trucks\, family fun\n A celebration of local talent and culture\n Strong promotional reach across the region\n\n\n\n\n\nGet involved\, get noticed\, and be part of the Stampede magic! Questions? Contact LaShonda Cartwright at lcartwright@townofwilliamston.com or Jackie Escobar at jescobar@townofwilliamston.com.
URL:https://exploremartincounty.com/event/carolina-stampede-music-fest-2/2026-09-26/
LOCATION:Downtown Williamston\, 111 W. Main Street\, Williamston\, NC\, 27892\, United States
ORGANIZER;CN="Carolina Stampede Music Fest":MAILTO:jescobar@townofwilliamston.com
END:VEVENT
END:VCALENDAR