BEGIN:VCALENDAR
VERSION:2.0
PRODID:-//Explore Martin County NC - ECPv6.14.2//NONSGML v1.0//EN
CALSCALE:GREGORIAN
METHOD:PUBLISH
X-WR-CALNAME:Explore Martin County NC
X-ORIGINAL-URL:https://exploremartincounty.com
X-WR-CALDESC:Events for Explore Martin County NC
REFRESH-INTERVAL;VALUE=DURATION:PT1H
X-Robots-Tag:noindex
X-PUBLISHED-TTL:PT1H
BEGIN:VTIMEZONE
TZID:America/New_York
BEGIN:DAYLIGHT
TZOFFSETFROM:-0500
TZOFFSETTO:-0400
TZNAME:EDT
DTSTART:20250309T070000
END:DAYLIGHT
BEGIN:STANDARD
TZOFFSETFROM:-0400
TZOFFSETTO:-0500
TZNAME:EST
DTSTART:20251102T060000
END:STANDARD
END:VTIMEZONE
BEGIN:VEVENT
DTSTART;TZID=America/New_York:20250613T120000
DTEND;TZID=America/New_York:20250613T160000
DTSTAMP:20260425T233324
CREATED:20250318T203012Z
LAST-MODIFIED:20250527T162406Z
UID:10003762-1749816000-1749830400@exploremartincounty.com
SUMMARY:Bailey Phelps Art Exhibition & Reception
DESCRIPTION:This art exhibition at the Martin County Arts Council Flatiron Gallery will take place from June 12th to July 24th. The opening reception on June 12th will be from 6:30 PM to 8 PM. \n \n 
URL:https://exploremartincounty.com/event/bailey-phelps-art-exhibition-reception-2/2025-06-13/
LOCATION:Martin County Arts Council – Flat Iron Gallery\, 124 Washington St\, Williamston\, NC\, 27892\, United States
END:VEVENT
BEGIN:VEVENT
DTSTART;TZID=America/New_York:20250613T100000
DTEND;TZID=America/New_York:20250613T220000
DTSTAMP:20260425T233324
CREATED:20241219T163930Z
LAST-MODIFIED:20250612T181402Z
UID:10004083-1749808800-1749852000@exploremartincounty.com
SUMMARY:2025 Da Bomb Barrel Racing
DESCRIPTION:Da Bomb Barrel Racing will host their “Big Summer Blowout Barrel Race” at the Senator Bob Martin Eastern Agricultural Center\, June 13th & 14th\, 2025. Show times are Friday: 10 AM – 10 PM\, Saturday: 8 AM – 6 PM. Admission is free for spectators.  For details please visit www.dabombbarrelracing.com or call (910) 639-6387. \n \n \n 
URL:https://exploremartincounty.com/event/2025-da-bomb-barrel-racing/2025-06-13/
LOCATION:Senator Bob Martin Eastern Agricultural Center\, 2900 NC-125\, Williamston\, NC\, 27892\, United States
ORGANIZER;CN="Da Bomb Barrel Racing LLC":MAILTO:dabombbarrels@yahoo.com
END:VEVENT
BEGIN:VEVENT
DTSTART;TZID=America/New_York:20250613T080000
DTEND;TZID=America/New_York:20250613T120000
DTSTAMP:20260425T233324
CREATED:20250224T213337Z
LAST-MODIFIED:20250224T213337Z
UID:10003351-1749801600-1749816000@exploremartincounty.com
SUMMARY:Martin County 4-H Poultry Show
DESCRIPTION:The 2025 Martin County 4-H Poultry Show will be June 13th\, 2025 at the Martin County Farmer’s Market. More info coming soon! \n \n 
URL:https://exploremartincounty.com/event/martin-county-4-h-poultry-show/
LOCATION:Martin County Farmers Market\, 4001 W Main St\, Williamston\, NC\, 27892\, United States
ORGANIZER;CN="Martin County Cooperative Extension":MAILTO:embaker6@ncsu.edu
END:VEVENT
BEGIN:VEVENT
DTSTART;TZID=America/New_York:20250612T183000
DTEND;TZID=America/New_York:20250612T200000
DTSTAMP:20260425T233324
CREATED:20250318T202851Z
LAST-MODIFIED:20250527T162504Z
UID:10003759-1749753000-1749758400@exploremartincounty.com
SUMMARY:Bailey Phelps Art Exhibition & Reception
DESCRIPTION:This art exhibition at the Martin County Arts Council Flatiron Gallery will take place from June 12th to July 24th. The opening reception on June 12th will be from 6:30 PM to 8 PM. \n \n 
URL:https://exploremartincounty.com/event/bailey-phelps-art-exhibition-reception/
LOCATION:Martin County Arts Council – Flat Iron Gallery\, 124 Washington St\, Williamston\, NC\, 27892\, United States
END:VEVENT
BEGIN:VEVENT
DTSTART;TZID=America/New_York:20250612T173000
DTEND;TZID=America/New_York:20250612T213000
DTSTAMP:20260425T233324
CREATED:20250325T204517Z
LAST-MODIFIED:20250904T213658Z
UID:10003939-1749749400-1749763800@exploremartincounty.com
SUMMARY:Thursday Night Doubles - Farm Life Disc Golf
DESCRIPTION:Thursday night doubles run in spring\, summer\, and fall. Start time is 5:30 PM\, except for the summer months\, as the days get longer\, wherein 6 PM will be the new start time. \n  \nThis beautiful course is a tightly wooded course with swamps and a pond. Alt. pin placements make for a fun and challenging time. Situated on a private family farm\, so please call the owner before playing. The phone number is also posted on a sign near the 1st tee. \n  \nDebbie Roberson\nPhone: 252-217-9738
URL:https://exploremartincounty.com/event/thursday-night-doubles-farm-life-disc-golf/2025-06-12/
LOCATION:Farm Life Disc Golf\, 1233 Kent Roberson Rd.\, Williamston\, NC\, 27892\, United States
END:VEVENT
BEGIN:VEVENT
DTSTART;TZID=America/New_York:20250612T170000
DTEND;TZID=America/New_York:20250612T220000
DTSTAMP:20260425T233324
CREATED:20250519T214104Z
LAST-MODIFIED:20250610T201008Z
UID:10004117-1749747600-1749765600@exploremartincounty.com
SUMMARY:The Snack Shack Ribbon Cutting Celebration
DESCRIPTION:Join in the fun at The Snack Shack’s Ribbon Cutting Celebration on June 12th starting at 5 PM. Downtown Williamston’s newest destination for entertainment and more is located at 101 B Main St\, Williamston\, NC. (***This is the new date\, the business had to reschedule the original May 29th event.***)\n\n\n\nThe Snack Shack Grand Opening on Thursday at 5 PM\n\n\n\nRT Johnson will be playing an acoustic show!\n\n\n\n\nTucci’s Fired Up will be serving great pizza and more!\n\n\n\n\nThe Funnel Kake King will be there serving funnel cakes!\n\n\n\n\nServing ice cream\, banana splits\, lemonades and orangeades!
URL:https://exploremartincounty.com/event/the-snack-shack-ribbon-cutting-celebration/
LOCATION:The Snack Shack\, 101 B Main St\, Williamston\, NC\, 27892\, United States
END:VEVENT
BEGIN:VEVENT
DTSTART;TZID=America/New_York:20250612T120000
DTEND;TZID=America/New_York:20250612T160000
DTSTAMP:20260425T233324
CREATED:20250318T203012Z
LAST-MODIFIED:20250527T162406Z
UID:10003761-1749729600-1749744000@exploremartincounty.com
SUMMARY:Bailey Phelps Art Exhibition & Reception
DESCRIPTION:This art exhibition at the Martin County Arts Council Flatiron Gallery will take place from June 12th to July 24th. The opening reception on June 12th will be from 6:30 PM to 8 PM. \n \n 
URL:https://exploremartincounty.com/event/bailey-phelps-art-exhibition-reception-2/2025-06-12/
LOCATION:Martin County Arts Council – Flat Iron Gallery\, 124 Washington St\, Williamston\, NC\, 27892\, United States
END:VEVENT
BEGIN:VEVENT
DTSTART;TZID=America/New_York:20250611T150000
DTEND;TZID=America/New_York:20250611T170000
DTSTAMP:20260425T233324
CREATED:20250609T182356Z
LAST-MODIFIED:20250609T190147Z
UID:10004186-1749654000-1749661200@exploremartincounty.com
SUMMARY:Magical Storyteller Mark Daniels - Summer Reading Kickoff Event
DESCRIPTION:Join Robersonville Public Library for a kids summer reading program with a lot of exciting events. This program is free and open to the public.
URL:https://exploremartincounty.com/event/storyteller-mark-daniels-summer-reading-kickoff-event/
LOCATION:First Christian Church – Robersonville\, 126 S Main St\, Robersonville\, 27871\, United States
ORGANIZER;CN="Robersonville Public Library":MAILTO:dburkhart@bhmlib.org
END:VEVENT
BEGIN:VEVENT
DTSTART;TZID=America/New_York:20250611T140000
DTEND;TZID=America/New_York:20250611T160000
DTSTAMP:20260425T233324
CREATED:20250317T203242Z
LAST-MODIFIED:20250317T203242Z
UID:10003469-1749650400-1749657600@exploremartincounty.com
SUMMARY:Bingo - Everetts Ruritan Club
DESCRIPTION:Bingo is every Wednesday at 2 PM at the Everetts Ruritan Club building. Price is $1 per card. Prizes are small items.
URL:https://exploremartincounty.com/event/bingo-everetts-ruritan-club/2025-06-11/
LOCATION:Everetts Ruritan Club\, 205 Ayers St\, Williamston\, NC\, 27892\, United States
END:VEVENT
BEGIN:VEVENT
DTSTART;TZID=America/New_York:20250609T180000
DTEND;TZID=America/New_York:20250609T200000
DTSTAMP:20260425T233324
CREATED:20250324T184752Z
LAST-MODIFIED:20250325T155852Z
UID:10003916-1749492000-1749499200@exploremartincounty.com
SUMMARY:Line Dancing Class
DESCRIPTION:Register now for Martin Community College’s Line Dancing Class series\, taking place on ***UPDATED DATES*** Monday nights from April 14th to July 14th. ***UPDATED DATES*** Please contact Lena Jackson at 252-789-0257 to register. \n \n 
URL:https://exploremartincounty.com/event/line-dancing-class-3-2/2025-06-09/
LOCATION:Martin Community College\, Kehukee Park Rd\, Williamston\, 27892\, United States
END:VEVENT
BEGIN:VEVENT
DTSTART;TZID=America/New_York:20250609T150000
DTEND;TZID=America/New_York:20250609T170000
DTSTAMP:20260425T233324
CREATED:20250602T195744Z
LAST-MODIFIED:20250602T195744Z
UID:10004177-1749481200-1749488400@exploremartincounty.com
SUMMARY:FOAMnFUN Party - Summer Reading Kickoff Event
DESCRIPTION:SUMMER READING IS HERE! Join library staff for a fun FOAMnFUN party with our favorite magical storyteller Mark Daniel! Please be sure to wear to wear a bathing suit or your clothes will get wet. Don’t forget a towel. This event will take place at Martin Memorial Library’s Outdoor Pavilion.
URL:https://exploremartincounty.com/event/foamnfun-party-summer-reading-kickoff-event/
LOCATION:Martin Memorial Library\, 200 N. Smithwick St\, Williamston\, NC\, 27892\, United States
END:VEVENT
BEGIN:VEVENT
DTSTART;TZID=America/New_York:20250608T100000
DTEND;TZID=America/New_York:20250608T210000
DTSTAMP:20260425T233324
CREATED:20250505T191747Z
LAST-MODIFIED:20250519T194226Z
UID:10004094-1749376800-1749416400@exploremartincounty.com
SUMMARY:Farm Life Disc Golf Open
DESCRIPTION:Farm Life Disc Golf holds its 30th Annual Disc Golf Open on June 6th\, 7th\, & 8th\, with 2 rounds Saturday and 1 round Sunday. Optional doubles Friday. $60 entry fee with another great players pack.  FLDG Club will be adding $2000 to go towards payout\, so spread the word. Also 54 CTPs\, so donations are greatly appreciated!
URL:https://exploremartincounty.com/event/farm-life-disc-golf-open/2025-06-08/
LOCATION:Farm Life Disc Golf\, 1233 Kent Roberson Rd.\, Williamston\, NC\, 27892\, United States
END:VEVENT
BEGIN:VEVENT
DTSTART;TZID=America/New_York:20250608T080000
DTEND;TZID=America/New_York:20250608T180000
DTSTAMP:20260425T233324
CREATED:20241219T163013Z
LAST-MODIFIED:20250603T162408Z
UID:10004166-1749369600-1749405600@exploremartincounty.com
SUMMARY:NCHJA “C” Horse Show
DESCRIPTION:The NCHJA “C” Horse Show will take place at the Senator Bob Martin Eastern Agricultural Center\, June 7th – 8th\, 2025. Spectator admission is FREE! Show times: Saturday – 8 AM to 7 PM & Sunday – 8 AM to 6 PM. For more information please visit www.williamstonhunterccircuit.com. \n\nJune Entries are OPEN! Register at www.horseshowsonline.com. Wee Derby and Open Derby on Saturday. Show one day or both days. Divisions for everyone! Call/ or ext Emily Bates at 252-378-4474 with stall & shavings count. Prize list can be found at www.williamstonhunterccircuit.com. Message us with any questions at williamstoncshowcircuit@gmail.com.\n\n\n\n\nWhat is the Wee Derby?\n\n\n\nThe wee derby takes place on Saturday in Ring 2 at the conclusion of the divisions. It is open to the divisions that take place in ring 2 with the exception of Crossrails including Novice\, short/long stirrup\, and pony divisions. Participants receive their first round derby score during their second Hunter trip in their division. The second score\, during the derby\, comes from a handy round that may include a trot jump. If a pony/horse shows in more than one eligible division\, it will only be able to participate in the division with one rider.\n\n\n\n\n\nWhat is the Open Derby?\n\n\n\nThe open derby takes place on Saturday in the Indoor Arena at the conclusion of the divisions. It is open to the divisions that take place in ring 1 (Indoor Arena). Participants receive their first round derby score during their second Hunter trip in their division. The second score\, during the derby\, comes from a handy round that may include a trot jump. If a pony/horse shows in more than one eligible division\, it will only be able to participate in the division with one rider.\n\n\n\n\n\n\n\n \n 
URL:https://exploremartincounty.com/event/nchja-c-horse-show-7/2025-06-08/
LOCATION:Senator Bob Martin Eastern Agricultural Center\, 2900 NC-125\, Williamston\, NC\, 27892\, United States
ORGANIZER;CN="Williamston Hunter 'C' Circuit":MAILTO:williamstonhuntercircuit@gmail.com
END:VEVENT
BEGIN:VEVENT
DTSTART;TZID=America/New_York:20250608T080000
DTEND;TZID=America/New_York:20250608T170000
DTSTAMP:20260425T233324
CREATED:20250318T220949Z
LAST-MODIFIED:20250604T150246Z
UID:10003886-1749369600-1749402000@exploremartincounty.com
SUMMARY:Member - Member Golf Tournament
DESCRIPTION:Roanoke Country Club will host this golf tournament on June 6th to 8th. On Saturday\, players and spouses are invited to dinner with live music. \n \n 
URL:https://exploremartincounty.com/event/member-member-golf-tournament/2025-06-08/
LOCATION:Roanoke Country Club\, 1380 Fairway Dr\, Williamston\, NC\, 27892\, United States
END:VEVENT
BEGIN:VEVENT
DTSTART;TZID=America/New_York:20250607T160000
DTEND;TZID=America/New_York:20250607T220000
DTSTAMP:20260425T233324
CREATED:20250602T185624Z
LAST-MODIFIED:20250602T185624Z
UID:10004168-1749312000-1749333600@exploremartincounty.com
SUMMARY:Founder's Day Celebration
DESCRIPTION:Head to Hook Hand Brewery\, Taproom\, & Art Gallery on Saturday\, June 7th from 4 PM to 10 PM for a Founder’s Day Celebration. Cool down with some of their locally brewed beverages! \n \n 
URL:https://exploremartincounty.com/event/founders-day-celebration/
LOCATION:Hook Hand Brewery\, Taproom\, & Art Gallery\, 106 Railroad St\, Williamston\, NC\, 27892\, United States
END:VEVENT
BEGIN:VEVENT
DTSTART;TZID=America/New_York:20250607T110000
DTEND;TZID=America/New_York:20250607T130000
DTSTAMP:20260425T233324
CREATED:20250604T153210Z
LAST-MODIFIED:20250604T153210Z
UID:10004184-1749294000-1749301200@exploremartincounty.com
SUMMARY:Neighborhood Drop In - Juneteenth Edition
DESCRIPTION:At Risk of Being Great will host a Neighborhood Drop In for Juneteenth on June 7th at the Robersonville Community Center. There will be a complimentary kid’s lunch & learn plus music.
URL:https://exploremartincounty.com/event/neighborhood-drop-in-juneteenth-edition/
LOCATION:Robersonville Community Center\, 205 E Green St\, Robersonville\, NC\, 27871\, United States
END:VEVENT
BEGIN:VEVENT
DTSTART;TZID=America/New_York:20250607T100000
DTEND;TZID=America/New_York:20250607T210000
DTSTAMP:20260425T233324
CREATED:20250505T191747Z
LAST-MODIFIED:20250519T194226Z
UID:10004093-1749290400-1749330000@exploremartincounty.com
SUMMARY:Farm Life Disc Golf Open
DESCRIPTION:Farm Life Disc Golf holds its 30th Annual Disc Golf Open on June 6th\, 7th\, & 8th\, with 2 rounds Saturday and 1 round Sunday. Optional doubles Friday. $60 entry fee with another great players pack.  FLDG Club will be adding $2000 to go towards payout\, so spread the word. Also 54 CTPs\, so donations are greatly appreciated!
URL:https://exploremartincounty.com/event/farm-life-disc-golf-open/2025-06-07/
LOCATION:Farm Life Disc Golf\, 1233 Kent Roberson Rd.\, Williamston\, NC\, 27892\, United States
END:VEVENT
BEGIN:VEVENT
DTSTART;TZID=America/New_York:20250607T100000
DTEND;TZID=America/New_York:20250607T160000
DTSTAMP:20260425T233324
CREATED:20250527T171404Z
LAST-MODIFIED:20250527T171404Z
UID:10004152-1749290400-1749312000@exploremartincounty.com
SUMMARY:Music in the Park
DESCRIPTION:“MUSIC IN THE PARK” is coming again soon to ROBERSONVILLE RECREATION PARK at 114 S MAIN ST in Robersonville on Saturday\, June 7th\, 10 AM to 4 PM. FREE ADMISSION\, DJ\, free hot dogs for kids\, kids zone\, economic resources\, food vendors\, horseback rides\, HBCU/D9 attire\, golf cart rides\, & much more. Family friendly. Don’t forget to bring your lawn chairs!\n\n\nJoin Lambda Delta Omega Chapter of Alpha Kappa Alpha Sorority\, Inc. for a soulful summer vibe! The organization invites you to an unforgettable afternoon of music\, dancing\, delicious food\, and community fun.Hosted by their Build Our Economic Wealth Committee\, this event celebrates unity\, joy\, and the power of supporting local businesses. Bring your friends\, your dancing shoes\, and your appetite — See you there!
URL:https://exploremartincounty.com/event/music-in-the-park-2/
LOCATION:Robersonville Recreational Park\, 503 N Main St\, Robersonville\, NC\, 27871
ORGANIZER;CN="Lambda Delta Omega Chapter of AKA":MAILTO:gen3legacy1908@gmail.com
END:VEVENT
BEGIN:VEVENT
DTSTART;TZID=America/New_York:20250607T100000
DTEND;TZID=America/New_York:20250607T160000
DTSTAMP:20260425T233324
CREATED:20250506T173442Z
LAST-MODIFIED:20250519T195713Z
UID:10004104-1749290400-1749312000@exploremartincounty.com
SUMMARY:Robersonville Area Historic Sites Tour
DESCRIPTION:Historic Sites Tour – Robersonville Area \nSpend the day\, Saturday June 7th\, 2025\, from 10 AM to 4 PM visiting a select group of historic homes\, churches\, and sites representing a slice of Martin County’s unique culture and history. This specially designed\, self-guided tour will feature sites in Robersonville\, Everetts\, Parmele\, and Spring Green. The starting site will be the Robersonville Exhibit Hall at 112 S Main St\, Robersonville\, NC. Tickets are $10. Maps/Souvenir Booklets are available for charting your course for $15. Proceeds for this event support the continued work preserving the history of Martin County and the Robersonville Exhibit Hall. \nMore on the event here: https://www.facebook.com/share/1A8BMLzyMz/
URL:https://exploremartincounty.com/event/robersonville-area-historic-sites-tour/
LOCATION:Robersonville Exhibit Hall\, 112 S Main St\, Robersonville\, NC\, 27871\, United States
ORGANIZER;CN="Martin County Historic Tours":MAILTO:info@martincountynchistoricalsociety.org
END:VEVENT
BEGIN:VEVENT
DTSTART;TZID=America/New_York:20250607T090000
DTEND;TZID=America/New_York:20250607T220000
DTSTAMP:20260425T233324
CREATED:20250317T201305Z
LAST-MODIFIED:20250402T184753Z
UID:10003455-1749286800-1749333600@exploremartincounty.com
SUMMARY:National Black Bear Festival
DESCRIPTION:The award-winning National Black Bear Festival is excited to announce their annual event starting on Friday evening\, June 6th\, 2025 at 5 PM and all day on June 7th\, 2025. Join us for a Bear-y Fun Time. Each Black Bear Festival is better than the last\, and this year will be no exception! You won’t want to miss out on this Wildly Successful Event. There will be over 40 activities. For more information visit NationalBearFest.com. \n \n 
URL:https://exploremartincounty.com/event/national-black-bear-festival/2025-06-07/
LOCATION:National Black Bear Festival Parking & Shuttle\, 368 US-64\, Plymouth\, NC\, 27962\, United States
ORGANIZER;CN="National Black Bear Festival":MAILTO:info@nationalbearfest.com
END:VEVENT
BEGIN:VEVENT
DTSTART;TZID=America/New_York:20250607T080000
DTEND;TZID=America/New_York:20250607T190000
DTSTAMP:20260425T233324
CREATED:20241219T163013Z
LAST-MODIFIED:20250603T162408Z
UID:10004165-1749283200-1749322800@exploremartincounty.com
SUMMARY:NCHJA “C” Horse Show
DESCRIPTION:The NCHJA “C” Horse Show will take place at the Senator Bob Martin Eastern Agricultural Center\, June 7th – 8th\, 2025. Spectator admission is FREE! Show times: Saturday – 8 AM to 7 PM & Sunday – 8 AM to 6 PM. For more information please visit www.williamstonhunterccircuit.com. \n\nJune Entries are OPEN! Register at www.horseshowsonline.com. Wee Derby and Open Derby on Saturday. Show one day or both days. Divisions for everyone! Call/ or ext Emily Bates at 252-378-4474 with stall & shavings count. Prize list can be found at www.williamstonhunterccircuit.com. Message us with any questions at williamstoncshowcircuit@gmail.com.\n\n\n\n\nWhat is the Wee Derby?\n\n\n\nThe wee derby takes place on Saturday in Ring 2 at the conclusion of the divisions. It is open to the divisions that take place in ring 2 with the exception of Crossrails including Novice\, short/long stirrup\, and pony divisions. Participants receive their first round derby score during their second Hunter trip in their division. The second score\, during the derby\, comes from a handy round that may include a trot jump. If a pony/horse shows in more than one eligible division\, it will only be able to participate in the division with one rider.\n\n\n\n\n\nWhat is the Open Derby?\n\n\n\nThe open derby takes place on Saturday in the Indoor Arena at the conclusion of the divisions. It is open to the divisions that take place in ring 1 (Indoor Arena). Participants receive their first round derby score during their second Hunter trip in their division. The second score\, during the derby\, comes from a handy round that may include a trot jump. If a pony/horse shows in more than one eligible division\, it will only be able to participate in the division with one rider.\n\n\n\n\n\n\n\n \n 
URL:https://exploremartincounty.com/event/nchja-c-horse-show-7/2025-06-07/
LOCATION:Senator Bob Martin Eastern Agricultural Center\, 2900 NC-125\, Williamston\, NC\, 27892\, United States
ORGANIZER;CN="Williamston Hunter 'C' Circuit":MAILTO:williamstonhuntercircuit@gmail.com
END:VEVENT
BEGIN:VEVENT
DTSTART;TZID=America/New_York:20250607T080000
DTEND;TZID=America/New_York:20250607T170000
DTSTAMP:20260425T233324
CREATED:20250328T141707Z
LAST-MODIFIED:20250505T191215Z
UID:10003954-1749283200-1749315600@exploremartincounty.com
SUMMARY:Block Party
DESCRIPTION:The Blackacre Campus is turning three — and you’re invited to the party! Celebrate three years of community\, connection\, and impact at the Anniversary Block Party\, a joyful gathering filled with delicious food\, live music\, art\, games\, and the incredible people who make Eastern North Carolina special. Bring your friends\, family\, and neighbors for a day of fellowship and fun for all ages. To get involved or to learn more details about these events\, contact Rhaegan Jackson at hello@blackacreequity.com. We look forward to seeing you on campus! \n\nBlackacre Campus is turning THREE—and you’re invited to the celebration! Join in the fun at the 3rd Anniversary Block Party\, a day of connection and community abundance on the Blackacre Campus.\n\n\n\nBlackacre Campus\, 600 N. Smithwick St.\, Williamston\, NC\nSaturday\, June 7\, 2025 from 11 AM to 4 PM.\n\n\n\nMark your calendars\, invite a friend\, and stay tuned for more details!\n\nPresented by Blackacre and Providence Omnistructure. \n \n 
URL:https://exploremartincounty.com/event/block-party/
LOCATION:Providence Omnistructure – Blackacre Campus\, 600 N Smithwick St\, Williamston\, NC\, 27892\, United States
END:VEVENT
BEGIN:VEVENT
DTSTART;TZID=America/New_York:20250607T080000
DTEND;TZID=America/New_York:20250607T170000
DTSTAMP:20260425T233324
CREATED:20250318T220949Z
LAST-MODIFIED:20250604T150246Z
UID:10003885-1749283200-1749315600@exploremartincounty.com
SUMMARY:Member - Member Golf Tournament
DESCRIPTION:Roanoke Country Club will host this golf tournament on June 6th to 8th. On Saturday\, players and spouses are invited to dinner with live music. \n \n 
URL:https://exploremartincounty.com/event/member-member-golf-tournament/2025-06-07/
LOCATION:Roanoke Country Club\, 1380 Fairway Dr\, Williamston\, NC\, 27892\, United States
END:VEVENT
BEGIN:VEVENT
DTSTART;TZID=America/New_York:20250607T080000
DTEND;TZID=America/New_York:20250607T120000
DTSTAMP:20260425T233324
CREATED:20250521T171554Z
LAST-MODIFIED:20250527T164633Z
UID:10004135-1749283200-1749297600@exploremartincounty.com
SUMMARY:Father's Day Market
DESCRIPTION:Shop for Dad at the Father’s Day Market or bring him to the event for some quality time and quality goods! Concessions by Martin County Special Olympics.
URL:https://exploremartincounty.com/event/fathers-day-market/
LOCATION:Martin County Farmers Market\, 4001 W Main St\, Williamston\, NC\, 27892\, United States
ORGANIZER;CN="Martin County Special Olympics":MAILTO:martin@sonc.net
END:VEVENT
BEGIN:VEVENT
DTSTART;TZID=America/New_York:20250606T201500
DTEND;TZID=America/New_York:20250606T220000
DTSTAMP:20260425T233324
CREATED:20250422T201943Z
LAST-MODIFIED:20250530T154029Z
UID:10004032-1749240900-1749247200@exploremartincounty.com
SUMMARY:Movie Night - Main Street Community Stage
DESCRIPTION:Save the date for movie night featuring Sonic the Hedgehog 3 at the Main Street Community Stage on Friday\, June 6th at 8:15 PM! (***This event is the new date – had to reschedule the May 30th event due to weather.***)
URL:https://exploremartincounty.com/event/movie-night-main-street-community-stage/
LOCATION:Main Street Community Stage – Williamston\, 140 W Main St\, Williamston\, NC\, 27892\, United States
ORGANIZER;CN="Williamston Parks & Recreation":MAILTO:allenoverby@townofwilliamston.com
END:VEVENT
BEGIN:VEVENT
DTSTART;TZID=America/New_York:20250606T180000
DTEND;TZID=America/New_York:20250606T210000
DTSTAMP:20260425T233324
CREATED:20250505T191747Z
LAST-MODIFIED:20250519T194226Z
UID:10004092-1749232800-1749243600@exploremartincounty.com
SUMMARY:Farm Life Disc Golf Open
DESCRIPTION:Farm Life Disc Golf holds its 30th Annual Disc Golf Open on June 6th\, 7th\, & 8th\, with 2 rounds Saturday and 1 round Sunday. Optional doubles Friday. $60 entry fee with another great players pack.  FLDG Club will be adding $2000 to go towards payout\, so spread the word. Also 54 CTPs\, so donations are greatly appreciated!
URL:https://exploremartincounty.com/event/farm-life-disc-golf-open/2025-06-06/
LOCATION:Farm Life Disc Golf\, 1233 Kent Roberson Rd.\, Williamston\, NC\, 27892\, United States
END:VEVENT
BEGIN:VEVENT
DTSTART;TZID=America/New_York:20250606T170000
DTEND;TZID=America/New_York:20250606T220000
DTSTAMP:20260425T233324
CREATED:20250317T201305Z
LAST-MODIFIED:20250402T184753Z
UID:10003454-1749229200-1749247200@exploremartincounty.com
SUMMARY:National Black Bear Festival
DESCRIPTION:The award-winning National Black Bear Festival is excited to announce their annual event starting on Friday evening\, June 6th\, 2025 at 5 PM and all day on June 7th\, 2025. Join us for a Bear-y Fun Time. Each Black Bear Festival is better than the last\, and this year will be no exception! You won’t want to miss out on this Wildly Successful Event. There will be over 40 activities. For more information visit NationalBearFest.com. \n \n 
URL:https://exploremartincounty.com/event/national-black-bear-festival/2025-06-06/
LOCATION:National Black Bear Festival Parking & Shuttle\, 368 US-64\, Plymouth\, NC\, 27962\, United States
ORGANIZER;CN="National Black Bear Festival":MAILTO:info@nationalbearfest.com
END:VEVENT
BEGIN:VEVENT
DTSTART;TZID=America/New_York:20250606T160000
DTEND;TZID=America/New_York:20250606T220000
DTSTAMP:20260425T233324
CREATED:20250602T184226Z
LAST-MODIFIED:20250603T145515Z
UID:10004167-1749225600-1749247200@exploremartincounty.com
SUMMARY:Foosball Tournament
DESCRIPTION:Head to Hook Hand Brewery\, Taproom\, & Art Gallery on Friday\, June 6th from 4 PM to 10 PM for a foosball tournament. Cool down with some of their locally brewed beverages! Also\, DNA Wings food truck returns! They will be serving up wings from 5:30 PM to 8:30 PM. If you’ve had them before you know how good they are. Tell your friends and let’s get em sold out so they keep coming back.
URL:https://exploremartincounty.com/event/foosball-tournament/
LOCATION:Hook Hand Brewery\, Taproom\, & Art Gallery\, 106 Railroad St\, Williamston\, NC\, 27892\, United States
END:VEVENT
BEGIN:VEVENT
DTSTART;TZID=America/New_York:20250606T140000
DTEND;TZID=America/New_York:20250606T160000
DTSTAMP:20260425T233324
CREATED:20250519T191941Z
LAST-MODIFIED:20250605T195306Z
UID:10004114-1749218400-1749225600@exploremartincounty.com
SUMMARY:Robersonville Exhibit Hall Grand Opening & Ribbon Cutting
DESCRIPTION:All are invited to the Robersonville Exhibit Hall Grand Opening & Ribbon Cutting Celebration on Friday\, June 6th\, from 2 PM to 4 PM. Latin2Soul Food Truck will sell attendees a delicious menu of items on-site starting at 11 AM!
URL:https://exploremartincounty.com/event/robersonville-exhibit-hall-grand-opening-ribbon-cutting/
LOCATION:Robersonville Exhibit Hall\, 112 S Main St\, Robersonville\, NC\, 27871\, United States
END:VEVENT
BEGIN:VEVENT
DTSTART;TZID=America/New_York:20250606T080000
DTEND;TZID=America/New_York:20250606T170000
DTSTAMP:20260425T233324
CREATED:20250318T220949Z
LAST-MODIFIED:20250604T150246Z
UID:10003884-1749196800-1749229200@exploremartincounty.com
SUMMARY:Member - Member Golf Tournament
DESCRIPTION:Roanoke Country Club will host this golf tournament on June 6th to 8th. On Saturday\, players and spouses are invited to dinner with live music. \n \n 
URL:https://exploremartincounty.com/event/member-member-golf-tournament/2025-06-06/
LOCATION:Roanoke Country Club\, 1380 Fairway Dr\, Williamston\, NC\, 27892\, United States
END:VEVENT
END:VCALENDAR