BEGIN:VCALENDAR
VERSION:2.0
PRODID:-//Explore Martin County NC - ECPv6.14.2//NONSGML v1.0//EN
CALSCALE:GREGORIAN
METHOD:PUBLISH
X-WR-CALNAME:Explore Martin County NC
X-ORIGINAL-URL:https://exploremartincounty.com
X-WR-CALDESC:Events for Explore Martin County NC
REFRESH-INTERVAL;VALUE=DURATION:PT1H
X-Robots-Tag:noindex
X-PUBLISHED-TTL:PT1H
BEGIN:VTIMEZONE
TZID:America/New_York
BEGIN:DAYLIGHT
TZOFFSETFROM:-0500
TZOFFSETTO:-0400
TZNAME:EDT
DTSTART:20250309T070000
END:DAYLIGHT
BEGIN:STANDARD
TZOFFSETFROM:-0400
TZOFFSETTO:-0500
TZNAME:EST
DTSTART:20251102T060000
END:STANDARD
END:VTIMEZONE
BEGIN:VEVENT
DTSTART;TZID=America/New_York:20250621T120000
DTEND;TZID=America/New_York:20250621T160000
DTSTAMP:20260425T183157
CREATED:20250318T203012Z
LAST-MODIFIED:20250527T162406Z
UID:10003768-1750507200-1750521600@exploremartincounty.com
SUMMARY:Bailey Phelps Art Exhibition & Reception
DESCRIPTION:This art exhibition at the Martin County Arts Council Flatiron Gallery will take place from June 12th to July 24th. The opening reception on June 12th will be from 6:30 PM to 8 PM. \n \n 
URL:https://exploremartincounty.com/event/bailey-phelps-art-exhibition-reception-2/2025-06-21/
LOCATION:Martin County Arts Council – Flat Iron Gallery\, 124 Washington St\, Williamston\, NC\, 27892\, United States
END:VEVENT
BEGIN:VEVENT
DTSTART;TZID=America/New_York:20250621T110000
DTEND;TZID=America/New_York:20250621T170000
DTSTAMP:20260425T183157
CREATED:20250224T190841Z
LAST-MODIFIED:20250527T195712Z
UID:10003340-1750503600-1750525200@exploremartincounty.com
SUMMARY:Juneteenth Vendor Fest and Grill Master Competition
DESCRIPTION:Williamston\, it’s time for the return of the Juneteenth Vendor Fest and Grill Master Competition on June 21st at Godwin-Coppage Park. Come out and enjoy the food and festivities! The Groove Crew Band and DJ Starrchild are scheduled to perform. Also\, Facebook\, TikTok\, and YouTube sensation\, Chubbybeardbandit NC will be on the scene at this event\, sponsored by Explore Martin County (TDA)\, Martin County Arts Council\, Absolute Cutts\, and Mast Pharmacy.\n\n\n\n\n\n\nREADY TO TURN UP THE HEAT?\n\nMartin County Juneteenth Collective presents the 2025 JUNETEENTH GRILL MASTER COMPETITION! Calling all grill kings and queens – It’s time to fire up those grills and show us what you’ve got. Bring your flavor\, your smoke\, and your A-game to this year’s most mouth-watering showdown!\n\n\n\n$75 Entry Fee – but trust\, the bragging rights are PRICELESS!\nPlate sales ARE allowed – so come hungry and support your favorite pit master!\n\n\nSpecial Guest Judge: The one and only CHUBBY BEARD BANDIT is pulling up to crown the Grill Master of the Year! Do you have what it takes?\n\n\n\nDon’t miss the food\, fun\, family\, and flavor – all while celebrating FREEDOM and CULTURE! This is more than a competition – it’s a celebration!\n\n\n\nNeed more info or want to apply for a vendor spot? Call or text 919-638-1538 or email mcjc_23@yahoo.com. invite your crew\, your uncle who thinks he’s the grill boss\, and your auntie too!\n\n\n\n\n\n\n\n\n\n\n\n\n\n\n\n\n\n\n\n\n\n\n\n\n\n\n\n\n\n\n\n\n 
URL:https://exploremartincounty.com/event/juneteenth-vendor-fest-and-grill-master-competition/
LOCATION:Godwin-Coppage Park\, 1073 Tyner Rd.\, Williamston\, NC\, 27892\, United States
ORGANIZER;CN="Martin County Juneteenth Collective Inc.":MAILTO:mcjc_23@yahoo.com
END:VEVENT
BEGIN:VEVENT
DTSTART;TZID=America/New_York:20250621T100000
DTEND;TZID=America/New_York:20250625T220000
DTSTAMP:20260425T183157
CREATED:20250617T190607Z
LAST-MODIFIED:20250617T190607Z
UID:10004219-1750500000-1750888800@exploremartincounty.com
SUMMARY:ENC Babe Ruth State Softball Tournament
DESCRIPTION:On June 21st to 25th\, Jamesville will host the 2025 ENC Babe Ruth State Tournament\, Information for this all-stars event is listed below and at the following link: encbaberuth.com. \nPark Overview: \n1071 St Andrews St Jamesville NC 27846 \n· 4 fields \no 1 concession stand \no Announcing capabilities on all 4 fields \no All dugouts covered. Electric not available in dugouts \no NO outside food\, drinks\, or coolers permitted. Each team will be allowed one team cooler for Frogg Toggs/cooling towels and one team cooler for fruits. Players and coaches are allowed to have a water bottle. \n· First Aid \nFirst Aid tent and vendors will be set up near the concession stand \n· No PETS are allowed in the park except for service animals. \nField Assignments: (LEAGUE REP AT ALL FIELDS AT ALL TIMES) \n· Field 1: 8U Field 3: 12U/14u/16u/18u \n· Field 2: 10u/12u Field 4: 6u \nSubject to change based on needs of tournament \nParking: \n· Ballpark parking first come first serve- \n· Additional parking- overflow across the street lot between Dollar General and the cemetery and at Jamesville Christian Church (address 1134 St Andrews St) \n· Absolutely no trailers parked inside of the ballpark area. \n· Towing will be enforced if you block others in\, so be mindful when parking and pay attention to signs/cones that are placed around the area. \nEntry Fee: $400 team fee \nWarm up areas: \n· Batting cages beside all fields. \nDugouts: \n· Iced water coolers will be provided in each dugout for duration of tournament \no Cups will be provided in limited quantities \nFirst Aid: \n· Basic first aid supplies will be available at the first aid tent by the concession stand. \n· The Jamesville Fire/Rescue Volunteer Department is planning to have an ambulance on site stationed if able to get enough volunteers scheduled. \no Coordination with both Fire-EMS and Police will take place prior to the tournament to ensure a response plan is in place. \nConcession stands: \n· Will serve sodas\, Gatorades\, water\, hotdogs\, BBQ sandwiches\, Hamburgers/cheeseburgers\, and a variety of candy and snacks.
URL:https://exploremartincounty.com/event/enc-babe-ruth-state-softball-tournament/2025-06-21/
LOCATION:Jamesville Little League\, 1071 St Andrews St\, Jamesville\, NC\, 27846\, United States
ORGANIZER;CN="Eastern North Carolina Baseball & Softball":MAILTO:jimmysandersenc@hotmail.com
END:VEVENT
BEGIN:VEVENT
DTSTART;TZID=America/New_York:20250621T080000
DTEND;TZID=America/New_York:20250621T180000
DTSTAMP:20260425T183157
CREATED:20250225T192210Z
LAST-MODIFIED:20250616T170331Z
UID:10004217-1750492800-1750528800@exploremartincounty.com
SUMMARY:Just Horsin' 'Round Open Horse Show
DESCRIPTION:We will be welcoming in June’s Just Horsin’ ‘Round Open Horse Show June 21st – 22nd\, 2025. Spectators are free of admission. Please be sure to bring your family and friends to enjoy watching the riders who put in their hard work and dedication. For more information please visit www.justhorsinround.com. \n\nGreat grand and reserve prizes for all divisions. As well as a beautiful high-point horse trophy! Please reserve stalls with btew2@nc.rr.com.\n\n \n \n 
URL:https://exploremartincounty.com/event/just-horsin-round-open-horse-show-2/2025-06-21/
LOCATION:Senator Bob Martin Eastern Agricultural Center\, 2900 NC-125\, Williamston\, NC\, 27892\, United States
END:VEVENT
BEGIN:VEVENT
DTSTART;TZID=America/New_York:20250621T080000
DTEND;TZID=America/New_York:20250621T120000
DTSTAMP:20260425T183157
CREATED:20250521T171201Z
LAST-MODIFIED:20250618T211728Z
UID:10004134-1750492800-1750507200@exploremartincounty.com
SUMMARY:First Responders Appreciation Day at the Farmers Market
DESCRIPTION:This special farmers market honors Martin County’s first responders and their service. Concessions will be provided by Williamston Fire / Rescue / EMS.
URL:https://exploremartincounty.com/event/first-responders-appreciation-day-at-the-farmers-market/
LOCATION:Martin County Farmers Market\, 4001 W Main St\, Williamston\, NC\, 27892\, United States
END:VEVENT
BEGIN:VEVENT
DTSTART;TZID=America/New_York:20250620T190000
DTEND;TZID=America/New_York:20250620T220000
DTSTAMP:20260425T183157
CREATED:20250620T152433Z
LAST-MODIFIED:20250620T152433Z
UID:10004227-1750446000-1750456800@exploremartincounty.com
SUMMARY:Karaoke Night at The Snack Shack
DESCRIPTION:You can be a star on Karaoke Night at The Snack Shack! Join in the fun from 7 PM to 10 PM. \n \n \n  \n  \n  \n  \n 
URL:https://exploremartincounty.com/event/karaoke-night-at-the-snack-shack-7/
LOCATION:The Snack Shack\, 101 B Main St\, Williamston\, NC\, 27892\, United States
END:VEVENT
BEGIN:VEVENT
DTSTART;TZID=America/New_York:20250620T190000
DTEND;TZID=America/New_York:20250620T210000
DTSTAMP:20260425T183157
CREATED:20250610T202541Z
LAST-MODIFIED:20250610T202541Z
UID:10004193-1750446000-1750453200@exploremartincounty.com
SUMMARY:Mocktail & Charcuterie Party - Game Night
DESCRIPTION:Mark your calendars now so you won’t forget and join in the fun at The Friendly Spot for a very special game night event!
URL:https://exploremartincounty.com/event/mocktail-charcuterie-party-game-night/
LOCATION:The Friendly Spot\, 2050 Main St\, Jamesville\, NC\, 27846\, United States
END:VEVENT
BEGIN:VEVENT
DTSTART;TZID=America/New_York:20250620T160000
DTEND;TZID=America/New_York:20250620T220000
DTSTAMP:20260425T183157
CREATED:20250602T190848Z
LAST-MODIFIED:20250602T190848Z
UID:10004171-1750435200-1750456800@exploremartincounty.com
SUMMARY:Pink Pony Pub Party at the Hook
DESCRIPTION:Head to the Hook on Friday June 30th for a festive “Pink Pony Pub” – themed party from 4 PM to 10 PM.
URL:https://exploremartincounty.com/event/pink-pony-pub-party-at-the-hook-2/
LOCATION:Hook Hand Brewery\, Taproom\, & Art Gallery\, 106 Railroad St\, Williamston\, NC\, 27892\, United States
END:VEVENT
BEGIN:VEVENT
DTSTART;TZID=America/New_York:20250620T130000
DTEND;TZID=America/New_York:20250620T150000
DTSTAMP:20260425T183157
CREATED:20250619T173321Z
LAST-MODIFIED:20250619T173321Z
UID:10004225-1750424400-1750431600@exploremartincounty.com
SUMMARY:Sampling of Robersonville Exhibit
DESCRIPTION:Robersonville Exhibit Hall will be open Thursday – Saturday\, June 19th to 21st from 1 PM to 3 PM for the “Sampling of Robersonville” exhibit.
URL:https://exploremartincounty.com/event/sampling-of-robersonville-exhibit/2025-06-20/
LOCATION:Robersonville Exhibit Hall\, 112 S Main St\, Robersonville\, NC\, 27871\, United States
ORGANIZER;CN="Martin County Historical Society":MAILTO:info@martincountynchistoricalsociety.org
END:VEVENT
BEGIN:VEVENT
DTSTART;TZID=America/New_York:20250620T120000
DTEND;TZID=America/New_York:20250620T160000
DTSTAMP:20260425T183157
CREATED:20250318T203012Z
LAST-MODIFIED:20250527T162406Z
UID:10003767-1750420800-1750435200@exploremartincounty.com
SUMMARY:Bailey Phelps Art Exhibition & Reception
DESCRIPTION:This art exhibition at the Martin County Arts Council Flatiron Gallery will take place from June 12th to July 24th. The opening reception on June 12th will be from 6:30 PM to 8 PM. \n \n 
URL:https://exploremartincounty.com/event/bailey-phelps-art-exhibition-reception-2/2025-06-20/
LOCATION:Martin County Arts Council – Flat Iron Gallery\, 124 Washington St\, Williamston\, NC\, 27892\, United States
END:VEVENT
BEGIN:VEVENT
DTSTART;TZID=America/New_York:20250619T173000
DTEND;TZID=America/New_York:20250619T213000
DTSTAMP:20260425T183157
CREATED:20250325T204517Z
LAST-MODIFIED:20250904T213658Z
UID:10003940-1750354200-1750368600@exploremartincounty.com
SUMMARY:Thursday Night Doubles - Farm Life Disc Golf
DESCRIPTION:Thursday night doubles run in spring\, summer\, and fall. Start time is 5:30 PM\, except for the summer months\, as the days get longer\, wherein 6 PM will be the new start time. \n  \nThis beautiful course is a tightly wooded course with swamps and a pond. Alt. pin placements make for a fun and challenging time. Situated on a private family farm\, so please call the owner before playing. The phone number is also posted on a sign near the 1st tee. \n  \nDebbie Roberson\nPhone: 252-217-9738
URL:https://exploremartincounty.com/event/thursday-night-doubles-farm-life-disc-golf/2025-06-19/
LOCATION:Farm Life Disc Golf\, 1233 Kent Roberson Rd.\, Williamston\, NC\, 27892\, United States
END:VEVENT
BEGIN:VEVENT
DTSTART;TZID=America/New_York:20250619T173000
DTEND;TZID=America/New_York:20250619T210000
DTSTAMP:20260425T183157
CREATED:20250318T203351Z
LAST-MODIFIED:20250602T201703Z
UID:10003792-1750354200-1750366800@exploremartincounty.com
SUMMARY:Martin County Arts Council Annual Dinner
DESCRIPTION:The Martin County Arts Council Annual Dinner will take place on June 19th at 5:30 PM. Saxophonist Jashaun JP Peele will perform and dinner will be catered by La Casetta Italian Restaurant. This event is open to the public and MCAC members. Please see contact info on flyer below to obtain a ticket. \n \n 
URL:https://exploremartincounty.com/event/martin-county-arts-council-annual-dinner/
LOCATION:Martin County Arts Council\, 124 Washington St.\, Williamston\, NC\, 27892\, United States
END:VEVENT
BEGIN:VEVENT
DTSTART;TZID=America/New_York:20250619T130000
DTEND;TZID=America/New_York:20250619T150000
DTSTAMP:20260425T183157
CREATED:20250619T173321Z
LAST-MODIFIED:20250619T173321Z
UID:10004224-1750338000-1750345200@exploremartincounty.com
SUMMARY:Sampling of Robersonville Exhibit
DESCRIPTION:Robersonville Exhibit Hall will be open Thursday – Saturday\, June 19th to 21st from 1 PM to 3 PM for the “Sampling of Robersonville” exhibit.
URL:https://exploremartincounty.com/event/sampling-of-robersonville-exhibit/2025-06-19/
LOCATION:Robersonville Exhibit Hall\, 112 S Main St\, Robersonville\, NC\, 27871\, United States
ORGANIZER;CN="Martin County Historical Society":MAILTO:info@martincountynchistoricalsociety.org
END:VEVENT
BEGIN:VEVENT
DTSTART;TZID=America/New_York:20250619T120000
DTEND;TZID=America/New_York:20250619T160000
DTSTAMP:20260425T183157
CREATED:20250318T203012Z
LAST-MODIFIED:20250527T162406Z
UID:10003766-1750334400-1750348800@exploremartincounty.com
SUMMARY:Bailey Phelps Art Exhibition & Reception
DESCRIPTION:This art exhibition at the Martin County Arts Council Flatiron Gallery will take place from June 12th to July 24th. The opening reception on June 12th will be from 6:30 PM to 8 PM. \n \n 
URL:https://exploremartincounty.com/event/bailey-phelps-art-exhibition-reception-2/2025-06-19/
LOCATION:Martin County Arts Council – Flat Iron Gallery\, 124 Washington St\, Williamston\, NC\, 27892\, United States
END:VEVENT
BEGIN:VEVENT
DTSTART;TZID=America/New_York:20250618T140000
DTEND;TZID=America/New_York:20250618T160000
DTSTAMP:20260425T183157
CREATED:20250317T203242Z
LAST-MODIFIED:20250317T203242Z
UID:10003470-1750255200-1750262400@exploremartincounty.com
SUMMARY:Bingo - Everetts Ruritan Club
DESCRIPTION:Bingo is every Wednesday at 2 PM at the Everetts Ruritan Club building. Price is $1 per card. Prizes are small items.
URL:https://exploremartincounty.com/event/bingo-everetts-ruritan-club/2025-06-18/
LOCATION:Everetts Ruritan Club\, 205 Ayers St\, Williamston\, NC\, 27892\, United States
END:VEVENT
BEGIN:VEVENT
DTSTART;TZID=America/New_York:20250618T130000
DTEND;TZID=America/New_York:20250618T150000
DTSTAMP:20260425T183157
CREATED:20250609T182548Z
LAST-MODIFIED:20250609T190503Z
UID:10004187-1750251600-1750258800@exploremartincounty.com
SUMMARY:Sylvan Bird Park Event - Summer Reading Program
DESCRIPTION:Join Robersonville Public Library for a kids summer reading program with a lot of exciting events. This program is free and open to the public.
URL:https://exploremartincounty.com/event/sylvan-bird-park-event-summer-reading-program/
LOCATION:First Christian Church – Robersonville\, 126 S Main St\, Robersonville\, 27871\, United States
ORGANIZER;CN="Robersonville Public Library":MAILTO:dburkhart@bhmlib.org
END:VEVENT
BEGIN:VEVENT
DTSTART;TZID=America/New_York:20250618T120000
DTEND;TZID=America/New_York:20250618T160000
DTSTAMP:20260425T183157
CREATED:20250318T203012Z
LAST-MODIFIED:20250527T162406Z
UID:10003765-1750248000-1750262400@exploremartincounty.com
SUMMARY:Bailey Phelps Art Exhibition & Reception
DESCRIPTION:This art exhibition at the Martin County Arts Council Flatiron Gallery will take place from June 12th to July 24th. The opening reception on June 12th will be from 6:30 PM to 8 PM. \n \n 
URL:https://exploremartincounty.com/event/bailey-phelps-art-exhibition-reception-2/2025-06-18/
LOCATION:Martin County Arts Council – Flat Iron Gallery\, 124 Washington St\, Williamston\, NC\, 27892\, United States
END:VEVENT
BEGIN:VEVENT
DTSTART;TZID=America/New_York:20250618T120000
DTEND;TZID=America/New_York:20250618T130000
DTSTAMP:20260425T183157
CREATED:20250603T125642Z
LAST-MODIFIED:20250603T125642Z
UID:10004179-1750248000-1750251600@exploremartincounty.com
SUMMARY:Community Book Club
DESCRIPTION:Join staff from Martin Community College Library and Martin Memorial Library in a lunchtime discussion of The Mighty Red by Louise Erdrich. Books are available for checkout from either library. Email lhardison@bhmlib.org to learn more. Discussion will take place at Martin Community College. \n \n 
URL:https://exploremartincounty.com/event/community-book-club-6/
LOCATION:Martin Community College\, Kehukee Park Rd\, Williamston\, 27892\, United States
ORGANIZER;CN="Martin Memorial Library":MAILTO:mdavis@bhmlib.org
END:VEVENT
BEGIN:VEVENT
DTSTART;TZID=America/New_York:20250618T100000
DTEND;TZID=America/New_York:20250618T120000
DTSTAMP:20260425T183157
CREATED:20250602T200327Z
LAST-MODIFIED:20250602T200327Z
UID:10004178-1750240800-1750248000@exploremartincounty.com
SUMMARY:Children's Concert with Pamlico Joe and Clean Water Flow
DESCRIPTION:Join Martin Memorial Library at their Outdoor Pavilion for an educational\, fun\, and interactive kid’s concert by our favorite eco-friendly musicians\, Pamlico Joe and Clean Water Flow! \n  \n 
URL:https://exploremartincounty.com/event/childrens-concert-with-pamlico-joe-and-clean-water-flow/
LOCATION:Martin Memorial Library\, 200 N. Smithwick St\, Williamston\, NC\, 27892\, United States
END:VEVENT
BEGIN:VEVENT
DTSTART;TZID=America/New_York:20250617T120000
DTEND;TZID=America/New_York:20250617T160000
DTSTAMP:20260425T183157
CREATED:20250318T203012Z
LAST-MODIFIED:20250527T162406Z
UID:10003764-1750161600-1750176000@exploremartincounty.com
SUMMARY:Bailey Phelps Art Exhibition & Reception
DESCRIPTION:This art exhibition at the Martin County Arts Council Flatiron Gallery will take place from June 12th to July 24th. The opening reception on June 12th will be from 6:30 PM to 8 PM. \n \n 
URL:https://exploremartincounty.com/event/bailey-phelps-art-exhibition-reception-2/2025-06-17/
LOCATION:Martin County Arts Council – Flat Iron Gallery\, 124 Washington St\, Williamston\, NC\, 27892\, United States
END:VEVENT
BEGIN:VEVENT
DTSTART;TZID=America/New_York:20250617T100000
DTEND;TZID=America/New_York:20250617T104500
DTSTAMP:20260425T183157
CREATED:20250613T184114Z
LAST-MODIFIED:20250613T184114Z
UID:10004216-1750154400-1750157100@exploremartincounty.com
SUMMARY:Kids Read Aloud & Hip-Hop Class
DESCRIPTION:Join performance artist\, Lianne Solina for fun children’s activities on TUESDAY\, JUNE 17TH\, 10 AM at Martin Memorial Library. (*Note that the day of this event is Tuesday\, although the flyer says Wednesday.*)
URL:https://exploremartincounty.com/event/kids-read-aloud-hip-hop-class/
LOCATION:Martin Memorial Library\, 200 N. Smithwick St\, Williamston\, NC\, 27892\, United States
END:VEVENT
BEGIN:VEVENT
DTSTART;TZID=America/New_York:20250616T180000
DTEND;TZID=America/New_York:20250616T200000
DTSTAMP:20260425T183157
CREATED:20250324T184752Z
LAST-MODIFIED:20250325T155852Z
UID:10003917-1750096800-1750104000@exploremartincounty.com
SUMMARY:Line Dancing Class
DESCRIPTION:Register now for Martin Community College’s Line Dancing Class series\, taking place on ***UPDATED DATES*** Monday nights from April 14th to July 14th. ***UPDATED DATES*** Please contact Lena Jackson at 252-789-0257 to register. \n \n 
URL:https://exploremartincounty.com/event/line-dancing-class-3-2/2025-06-16/
LOCATION:Martin Community College\, Kehukee Park Rd\, Williamston\, 27892\, United States
END:VEVENT
BEGIN:VEVENT
DTSTART;TZID=America/New_York:20250616T100000
DTEND;TZID=America/New_York:20250616T120000
DTSTAMP:20260425T183157
CREATED:20250505T193206Z
LAST-MODIFIED:20250505T193206Z
UID:10004095-1750068000-1750075200@exploremartincounty.com
SUMMARY:Arts & Crafts Day
DESCRIPTION:It’s SUMMER CAMP TIME! Martin County 4-H and NC Cooperative Extension will hold an Arts and Crafts Day on Monday\, June 16th from 10 AM to 12 PM. Call to register at (252)789-4370.
URL:https://exploremartincounty.com/event/arts-crafts-day/
LOCATION:N.C. Cooperative Extension – Martin County Center\, 104 Kehukee Park Rd\, Williamston\, NC\, 27892\, United States
ORGANIZER;CN="Martin County 4-H":MAILTO:joy_pierce@ncsu.edu
END:VEVENT
BEGIN:VEVENT
DTSTART;TZID=America/New_York:20250614T190000
DTEND;TZID=America/New_York:20250614T220000
DTSTAMP:20260425T183157
CREATED:20250611T185014Z
LAST-MODIFIED:20250611T185014Z
UID:10004195-1749927600-1749938400@exploremartincounty.com
SUMMARY:Karaoke Night at The Snack Shack
DESCRIPTION:You can be a star on Karaoke Night at The Snack Shack! Join in the fun from 7 PM to 10 PM. \n \n \n  \n  \n  \n  \n 
URL:https://exploremartincounty.com/event/karaoke-night-at-the-snack-shack-6/
LOCATION:The Snack Shack\, 101 B Main St\, Williamston\, NC\, 27892\, United States
END:VEVENT
BEGIN:VEVENT
DTSTART;TZID=America/New_York:20250614T160000
DTEND;TZID=America/New_York:20250614T220000
DTSTAMP:20260425T183157
CREATED:20250602T190713Z
LAST-MODIFIED:20250602T190713Z
UID:10004170-1749916800-1749938400@exploremartincounty.com
SUMMARY:Trivia Night
DESCRIPTION:Head to Hook Hand Brewery\, Taproom\, & Art Gallery on Saturday\, June 14th from 4 PM to 10 PM for a night of trivia. Cool down with some of their locally brewed beverages! \n \n  \n  \n 
URL:https://exploremartincounty.com/event/trivia-night/
LOCATION:Hook Hand Brewery\, Taproom\, & Art Gallery\, 106 Railroad St\, Williamston\, NC\, 27892\, United States
END:VEVENT
BEGIN:VEVENT
DTSTART;TZID=America/New_York:20250614T150000
DTEND;TZID=America/New_York:20250614T170000
DTSTAMP:20260425T183157
CREATED:20250520T155819Z
LAST-MODIFIED:20250520T155819Z
UID:10004120-1749913200-1749920400@exploremartincounty.com
SUMMARY:Father's Day Paint & Dine
DESCRIPTION:Calling all “Superdads” to the paint room! Don’t forget to bring your mini “Sidekick(s)” along for an evening of painting\, dining\, and making new memories together. See flyer for tickets\, cost\, and other information. Contact Marcy for any questions you may have at 252-661-3519\,
URL:https://exploremartincounty.com/event/fathers-day-paint-dine/
LOCATION:Martin Memorial Library\, 200 N. Smithwick St\, Williamston\, NC\, 27892\, United States
END:VEVENT
BEGIN:VEVENT
DTSTART;TZID=America/New_York:20250614T130000
DTEND;TZID=America/New_York:20250614T150000
DTSTAMP:20260425T183157
CREATED:20250411T181853Z
LAST-MODIFIED:20250411T181853Z
UID:10004007-1749906000-1749913200@exploremartincounty.com
SUMMARY:Healing Through Art
DESCRIPTION:Join AmVets Post 227\, at Healing Through Art\, a support group at Martin County Arts Council\, every 2nd and 4th Saturday March through December. Who knew art could be such a comforting experience?! All are welcome.
URL:https://exploremartincounty.com/event/healing-through-art/2025-06-14/
LOCATION:Martin County Arts Council – Flat Iron Gallery\, 124 Washington St\, Williamston\, NC\, 27892\, United States
ORGANIZER;CN="AmVets Post 227":MAILTO:cdspinney@hotmail.com
END:VEVENT
BEGIN:VEVENT
DTSTART;TZID=America/New_York:20250614T120000
DTEND;TZID=America/New_York:20250614T160000
DTSTAMP:20260425T183157
CREATED:20250318T203012Z
LAST-MODIFIED:20250527T162406Z
UID:10003763-1749902400-1749916800@exploremartincounty.com
SUMMARY:Bailey Phelps Art Exhibition & Reception
DESCRIPTION:This art exhibition at the Martin County Arts Council Flatiron Gallery will take place from June 12th to July 24th. The opening reception on June 12th will be from 6:30 PM to 8 PM. \n \n 
URL:https://exploremartincounty.com/event/bailey-phelps-art-exhibition-reception-2/2025-06-14/
LOCATION:Martin County Arts Council – Flat Iron Gallery\, 124 Washington St\, Williamston\, NC\, 27892\, United States
END:VEVENT
BEGIN:VEVENT
DTSTART;TZID=America/New_York:20250614T110000
DTEND;TZID=America/New_York:20250614T150000
DTSTAMP:20260425T183157
CREATED:20250611T190738Z
LAST-MODIFIED:20250611T190738Z
UID:10004196-1749898800-1749913200@exploremartincounty.com
SUMMARY:Chic Links Pop-Up Event
DESCRIPTION:Head to 501 Flaire Boutique in Williamston on Saturday\, June 14th for a special pop-up event by the locally-owned business\, Chic Links. Chic Links specializes in permanent jewelry.
URL:https://exploremartincounty.com/event/chic-links-pop-up-event-2/
LOCATION:501 Flaire Boutique\, 1067 Brentway Ave\, Williamston\, NC\, 27892\, United States
ORGANIZER;CN="Chic Links":MAILTO:chiclinksnc@gmail.com
END:VEVENT
BEGIN:VEVENT
DTSTART;TZID=America/New_York:20250614T110000
DTEND;TZID=America/New_York:20250614T120000
DTSTAMP:20260425T183157
CREATED:20250613T180105Z
LAST-MODIFIED:20250613T180105Z
UID:10004214-1749898800-1749902400@exploremartincounty.com
SUMMARY:Flag Day Ceremony
DESCRIPTION:AmVets Post 227 will host a Flag Day Ceremony at 11 AM. Join in fellowship and honor the flag with our local veterans.
URL:https://exploremartincounty.com/event/flag-day-ceremony/
LOCATION:AmVets Post 227\, 214 E Main St\, Williamston\, NC\, 27892\, United States
END:VEVENT
END:VCALENDAR