BEGIN:VCALENDAR
VERSION:2.0
PRODID:-//Explore Martin County NC - ECPv6.14.2//NONSGML v1.0//EN
CALSCALE:GREGORIAN
METHOD:PUBLISH
X-WR-CALNAME:Explore Martin County NC
X-ORIGINAL-URL:https://exploremartincounty.com
X-WR-CALDESC:Events for Explore Martin County NC
REFRESH-INTERVAL;VALUE=DURATION:PT1H
X-Robots-Tag:noindex
X-PUBLISHED-TTL:PT1H
BEGIN:VTIMEZONE
TZID:America/New_York
BEGIN:DAYLIGHT
TZOFFSETFROM:-0500
TZOFFSETTO:-0400
TZNAME:EDT
DTSTART:20250309T070000
END:DAYLIGHT
BEGIN:STANDARD
TZOFFSETFROM:-0400
TZOFFSETTO:-0500
TZNAME:EST
DTSTART:20251102T060000
END:STANDARD
END:VTIMEZONE
BEGIN:VTIMEZONE
TZID:UTC
BEGIN:STANDARD
TZOFFSETFROM:+0000
TZOFFSETTO:+0000
TZNAME:UTC
DTSTART:20250101T000000
END:STANDARD
END:VTIMEZONE
BEGIN:VEVENT
DTSTART;TZID=America/New_York:20250712T080000
DTEND;TZID=America/New_York:20250712T120000
DTSTAMP:20260423T061836
CREATED:20250711T183324Z
LAST-MODIFIED:20250711T183324Z
UID:10004322-1752307200-1752321600@exploremartincounty.com
SUMMARY:Farmers Market
DESCRIPTION:Head to the Farmers Market on Saturday from 8 AM to noon and support local farmers and artisans. Have lunch and refreshments at the concession stand. Shop for locally made gifts\, fresh produce\, meat\, and more! \n 
URL:https://exploremartincounty.com/event/farmers-market-6/
LOCATION:Martin County Farmers Market\, 4001 W Main St\, Williamston\, NC\, 27892\, United States
END:VEVENT
BEGIN:VEVENT
DTSTART;TZID=America/New_York:20250712T070000
DTEND;TZID=America/New_York:20250712T190000
DTSTAMP:20260423T061836
CREATED:20250224T194828Z
LAST-MODIFIED:20250709T133426Z
UID:10003347-1752303600-1752346800@exploremartincounty.com
SUMMARY:SERHA Main Event & North America Reining Stakes Horse Show
DESCRIPTION:The SERHA Main Event & North America Reining Stakes Horse Show will take place at Senator Bob Martin Eastern Agricultural Center on July 7th – 13th. Spectator admission is free! Show times will be from 7 AM to 7 PM each day. Visit www.serha.org or call (919) 961-0440 for more information!
URL:https://exploremartincounty.com/event/serha-main-event-north-america-reining-stakes-horse-show/2025-07-12/
LOCATION:Senator Bob Martin Eastern Agricultural Center\, 2900 NC-125\, Williamston\, NC\, 27892\, United States
ORGANIZER;CN="SERHA":MAILTO:info@serha.org
END:VEVENT
BEGIN:VEVENT
DTSTART;TZID=America/New_York:20250712T000000
DTEND;TZID=America/New_York:20250712T235900
DTSTAMP:20260423T061836
CREATED:20250702T160745Z
LAST-MODIFIED:20250702T160745Z
UID:10004298-1752278400-1752364740@exploremartincounty.com
SUMMARY:Grilled Chicken & Fish Fry Fundraiser
DESCRIPTION:Perfect Image Bulldogs Plate Sale Fundraiser – Come out and support the cheer & football teams as they raise money for uniforms and equipment. They’ll be serving up delicious plates and every dollar goes towards helping the kids shine on the field and sidelines this season!
URL:https://exploremartincounty.com/event/grilled-chicken-fish-fry-fundraiser/
LOCATION:Family Dollar\, 300 West Blvd\, Williamston\, NC\, 27892\, United States
ORGANIZER;CN="Perfect Image Bulldogs":MAILTO:perfectimagebulldogs@gmail.com
END:VEVENT
BEGIN:VEVENT
DTSTART;TZID=America/New_York:20250711T190000
DTEND;TZID=America/New_York:20250711T220000
DTSTAMP:20260423T061836
CREATED:20250709T133835Z
LAST-MODIFIED:20250709T134654Z
UID:10004316-1752260400-1752271200@exploremartincounty.com
SUMMARY:Karaoke Night at The Snack Shack
DESCRIPTION:You can be a star on Karaoke Night at The Snack Shack! Join in the fun from 7 PM to 10 PM. \n  \n \n \n  \n  \n  \n  \n 
URL:https://exploremartincounty.com/event/karaoke-night-at-the-snack-shack-8/
LOCATION:The Snack Shack\, 101 B Main St\, Williamston\, NC\, 27892\, United States
END:VEVENT
BEGIN:VEVENT
DTSTART;TZID=America/New_York:20250711T120000
DTEND;TZID=America/New_York:20250711T160000
DTSTAMP:20260423T061836
CREATED:20250318T203012Z
LAST-MODIFIED:20250527T162406Z
UID:10003782-1752235200-1752249600@exploremartincounty.com
SUMMARY:Bailey Phelps Art Exhibition & Reception
DESCRIPTION:This art exhibition at the Martin County Arts Council Flatiron Gallery will take place from June 12th to July 24th. The opening reception on June 12th will be from 6:30 PM to 8 PM. \n \n 
URL:https://exploremartincounty.com/event/bailey-phelps-art-exhibition-reception-2/2025-07-11/
LOCATION:Martin County Arts Council – Flat Iron Gallery\, 124 Washington St\, Williamston\, NC\, 27892\, United States
END:VEVENT
BEGIN:VEVENT
DTSTART;TZID=America/New_York:20250711T070000
DTEND;TZID=America/New_York:20250711T190000
DTSTAMP:20260423T061836
CREATED:20250224T194828Z
LAST-MODIFIED:20250709T133426Z
UID:10003346-1752217200-1752260400@exploremartincounty.com
SUMMARY:SERHA Main Event & North America Reining Stakes Horse Show
DESCRIPTION:The SERHA Main Event & North America Reining Stakes Horse Show will take place at Senator Bob Martin Eastern Agricultural Center on July 7th – 13th. Spectator admission is free! Show times will be from 7 AM to 7 PM each day. Visit www.serha.org or call (919) 961-0440 for more information!
URL:https://exploremartincounty.com/event/serha-main-event-north-america-reining-stakes-horse-show/2025-07-11/
LOCATION:Senator Bob Martin Eastern Agricultural Center\, 2900 NC-125\, Williamston\, NC\, 27892\, United States
ORGANIZER;CN="SERHA":MAILTO:info@serha.org
END:VEVENT
BEGIN:VEVENT
DTSTART;TZID=America/New_York:20250710T173000
DTEND;TZID=America/New_York:20250710T213000
DTSTAMP:20260423T061836
CREATED:20250325T204517Z
LAST-MODIFIED:20250904T213658Z
UID:10003943-1752168600-1752183000@exploremartincounty.com
SUMMARY:Thursday Night Doubles - Farm Life Disc Golf
DESCRIPTION:Thursday night doubles run in spring\, summer\, and fall. Start time is 5:30 PM\, except for the summer months\, as the days get longer\, wherein 6 PM will be the new start time. \n  \nThis beautiful course is a tightly wooded course with swamps and a pond. Alt. pin placements make for a fun and challenging time. Situated on a private family farm\, so please call the owner before playing. The phone number is also posted on a sign near the 1st tee. \n  \nDebbie Roberson\nPhone: 252-217-9738
URL:https://exploremartincounty.com/event/thursday-night-doubles-farm-life-disc-golf/2025-07-10/
LOCATION:Farm Life Disc Golf\, 1233 Kent Roberson Rd.\, Williamston\, NC\, 27892\, United States
END:VEVENT
BEGIN:VEVENT
DTSTART;TZID=America/New_York:20250710T140000
DTEND;TZID=America/New_York:20250710T160000
DTSTAMP:20260423T061836
CREATED:20250505T193826Z
LAST-MODIFIED:20250505T193826Z
UID:10004097-1752156000-1752163200@exploremartincounty.com
SUMMARY:Teen Cuisine
DESCRIPTION:It’s SUMMER CAMP TIME! Martin County 4-H and NC Cooperative Extension will hold a Teen Cuisine event on Thursday\, July 10th from 2 PM to 4 PM. Call to register at (252)789-4370.
URL:https://exploremartincounty.com/event/teen-cuisine/
LOCATION:N.C. Cooperative Extension – Martin County Center\, 104 Kehukee Park Rd\, Williamston\, NC\, 27892\, United States
ORGANIZER;CN="Martin County 4-H":MAILTO:joy_pierce@ncsu.edu
END:VEVENT
BEGIN:VEVENT
DTSTART;TZID=America/New_York:20250710T120000
DTEND;TZID=America/New_York:20250710T160000
DTSTAMP:20260423T061836
CREATED:20250318T203012Z
LAST-MODIFIED:20250527T162406Z
UID:10003781-1752148800-1752163200@exploremartincounty.com
SUMMARY:Bailey Phelps Art Exhibition & Reception
DESCRIPTION:This art exhibition at the Martin County Arts Council Flatiron Gallery will take place from June 12th to July 24th. The opening reception on June 12th will be from 6:30 PM to 8 PM. \n \n 
URL:https://exploremartincounty.com/event/bailey-phelps-art-exhibition-reception-2/2025-07-10/
LOCATION:Martin County Arts Council – Flat Iron Gallery\, 124 Washington St\, Williamston\, NC\, 27892\, United States
END:VEVENT
BEGIN:VEVENT
DTSTART;TZID=America/New_York:20250710T070000
DTEND;TZID=America/New_York:20250710T190000
DTSTAMP:20260423T061836
CREATED:20250224T194828Z
LAST-MODIFIED:20250709T133426Z
UID:10003345-1752130800-1752174000@exploremartincounty.com
SUMMARY:SERHA Main Event & North America Reining Stakes Horse Show
DESCRIPTION:The SERHA Main Event & North America Reining Stakes Horse Show will take place at Senator Bob Martin Eastern Agricultural Center on July 7th – 13th. Spectator admission is free! Show times will be from 7 AM to 7 PM each day. Visit www.serha.org or call (919) 961-0440 for more information!
URL:https://exploremartincounty.com/event/serha-main-event-north-america-reining-stakes-horse-show/2025-07-10/
LOCATION:Senator Bob Martin Eastern Agricultural Center\, 2900 NC-125\, Williamston\, NC\, 27892\, United States
ORGANIZER;CN="SERHA":MAILTO:info@serha.org
END:VEVENT
BEGIN:VEVENT
DTSTART;TZID=UTC:20250709T183000
DTEND;TZID=UTC:20250709T200000
DTSTAMP:20260423T061836
CREATED:20250630T183638Z
LAST-MODIFIED:20250630T183659Z
UID:10004277-1752085800-1752091200@exploremartincounty.com
SUMMARY:Summer Night of Expression
DESCRIPTION:Teens are invited join Library Assistant Jessika Patrick in the Ella Mae Abbitt Meeting Room for fun night of karaoke and dance. Kid friendly event for youth to express themselves through the arts. For ages 13 to 18.
URL:https://exploremartincounty.com/event/summer-night-of-expression/
LOCATION:Martin Memorial Library\, 200 N. Smithwick St\, Williamston\, NC\, 27892\, United States
ATTACH;FMTTYPE=image/jpeg:https://exploremartincounty.com/wp-content/uploads/2023/11/sdfh.jpg
END:VEVENT
BEGIN:VEVENT
DTSTART;TZID=America/New_York:20250709T140000
DTEND;TZID=America/New_York:20250709T160000
DTSTAMP:20260423T061836
CREATED:20250317T203242Z
LAST-MODIFIED:20250317T203242Z
UID:10003473-1752069600-1752076800@exploremartincounty.com
SUMMARY:Bingo - Everetts Ruritan Club
DESCRIPTION:Bingo is every Wednesday at 2 PM at the Everetts Ruritan Club building. Price is $1 per card. Prizes are small items.
URL:https://exploremartincounty.com/event/bingo-everetts-ruritan-club/2025-07-09/
LOCATION:Everetts Ruritan Club\, 205 Ayers St\, Williamston\, NC\, 27892\, United States
END:VEVENT
BEGIN:VEVENT
DTSTART;TZID=America/New_York:20250709T130000
DTEND;TZID=America/New_York:20250709T150000
DTSTAMP:20260423T061836
CREATED:20250609T191227Z
LAST-MODIFIED:20250609T191227Z
UID:10004191-1752066000-1752073200@exploremartincounty.com
SUMMARY:Color YOUR World Paint Party - Summer Reading Program
DESCRIPTION:Join Robersonville Public Library for a kids summer reading program with a lot of exciting events. This program is free and open to the public.
URL:https://exploremartincounty.com/event/color-your-world-paint-party-summer-reading-program-2/
LOCATION:First Christian Church – Robersonville\, 126 S Main St\, Robersonville\, 27871\, United States
ORGANIZER;CN="Robersonville Public Library":MAILTO:dburkhart@bhmlib.org
END:VEVENT
BEGIN:VEVENT
DTSTART;TZID=America/New_York:20250709T120000
DTEND;TZID=America/New_York:20250709T160000
DTSTAMP:20260423T061836
CREATED:20250318T203012Z
LAST-MODIFIED:20250527T162406Z
UID:10003780-1752062400-1752076800@exploremartincounty.com
SUMMARY:Bailey Phelps Art Exhibition & Reception
DESCRIPTION:This art exhibition at the Martin County Arts Council Flatiron Gallery will take place from June 12th to July 24th. The opening reception on June 12th will be from 6:30 PM to 8 PM. \n \n 
URL:https://exploremartincounty.com/event/bailey-phelps-art-exhibition-reception-2/2025-07-09/
LOCATION:Martin County Arts Council – Flat Iron Gallery\, 124 Washington St\, Williamston\, NC\, 27892\, United States
END:VEVENT
BEGIN:VEVENT
DTSTART;TZID=America/New_York:20250709T100000
DTEND;TZID=America/New_York:20250709T150000
DTSTAMP:20260423T061836
CREATED:20250630T193323Z
LAST-MODIFIED:20250630T193323Z
UID:10004279-1752055200-1752073200@exploremartincounty.com
SUMMARY:Sylvan Heights Bird Park Educational Program
DESCRIPTION:Join Martin Memorial Library at their Outdoor Pavilion for an educational program with Sylvan Heights Bird Park. This program is a great way for families to experience nature right here at the library. Program is free and open to the public. \n \n 
URL:https://exploremartincounty.com/event/sylvan-heights-bird-park-educational-program/
LOCATION:Martin Memorial Library\, 200 N. Smithwick St\, Williamston\, NC\, 27892\, United States
END:VEVENT
BEGIN:VEVENT
DTSTART;TZID=America/New_York:20250709T070000
DTEND;TZID=America/New_York:20250709T190000
DTSTAMP:20260423T061836
CREATED:20250224T194828Z
LAST-MODIFIED:20250709T133426Z
UID:10003344-1752044400-1752087600@exploremartincounty.com
SUMMARY:SERHA Main Event & North America Reining Stakes Horse Show
DESCRIPTION:The SERHA Main Event & North America Reining Stakes Horse Show will take place at Senator Bob Martin Eastern Agricultural Center on July 7th – 13th. Spectator admission is free! Show times will be from 7 AM to 7 PM each day. Visit www.serha.org or call (919) 961-0440 for more information!
URL:https://exploremartincounty.com/event/serha-main-event-north-america-reining-stakes-horse-show/2025-07-09/
LOCATION:Senator Bob Martin Eastern Agricultural Center\, 2900 NC-125\, Williamston\, NC\, 27892\, United States
ORGANIZER;CN="SERHA":MAILTO:info@serha.org
END:VEVENT
BEGIN:VEVENT
DTSTART;TZID=America/New_York:20250708T183000
DTEND;TZID=America/New_York:20250708T200000
DTSTAMP:20260423T061836
CREATED:20250620T184734Z
LAST-MODIFIED:20250904T213209Z
UID:10004231-1751999400-1752004800@exploremartincounty.com
SUMMARY:Aqua Zumba
DESCRIPTION:Enjoy a pool workout at Aqua Zumba class at Roanoke Country Club\, every Tuesday night at 6:30 PM\, until pool season ends in late September.
URL:https://exploremartincounty.com/event/aqua-zumba/2025-07-08/
LOCATION:Roanoke Country Club\, 1380 Fairway Dr\, Williamston\, NC\, 27892\, United States
END:VEVENT
BEGIN:VEVENT
DTSTART;TZID=America/New_York:20250708T120000
DTEND;TZID=America/New_York:20250708T160000
DTSTAMP:20260423T061836
CREATED:20250318T203012Z
LAST-MODIFIED:20250527T162406Z
UID:10003779-1751976000-1751990400@exploremartincounty.com
SUMMARY:Bailey Phelps Art Exhibition & Reception
DESCRIPTION:This art exhibition at the Martin County Arts Council Flatiron Gallery will take place from June 12th to July 24th. The opening reception on June 12th will be from 6:30 PM to 8 PM. \n \n 
URL:https://exploremartincounty.com/event/bailey-phelps-art-exhibition-reception-2/2025-07-08/
LOCATION:Martin County Arts Council – Flat Iron Gallery\, 124 Washington St\, Williamston\, NC\, 27892\, United States
END:VEVENT
BEGIN:VEVENT
DTSTART;TZID=America/New_York:20250708T070000
DTEND;TZID=America/New_York:20250708T190000
DTSTAMP:20260423T061836
CREATED:20250224T194828Z
LAST-MODIFIED:20250709T133426Z
UID:10003343-1751958000-1752001200@exploremartincounty.com
SUMMARY:SERHA Main Event & North America Reining Stakes Horse Show
DESCRIPTION:The SERHA Main Event & North America Reining Stakes Horse Show will take place at Senator Bob Martin Eastern Agricultural Center on July 7th – 13th. Spectator admission is free! Show times will be from 7 AM to 7 PM each day. Visit www.serha.org or call (919) 961-0440 for more information!
URL:https://exploremartincounty.com/event/serha-main-event-north-america-reining-stakes-horse-show/2025-07-08/
LOCATION:Senator Bob Martin Eastern Agricultural Center\, 2900 NC-125\, Williamston\, NC\, 27892\, United States
ORGANIZER;CN="SERHA":MAILTO:info@serha.org
END:VEVENT
BEGIN:VEVENT
DTSTART;TZID=America/New_York:20250707T180000
DTEND;TZID=America/New_York:20250707T200000
DTSTAMP:20260423T061836
CREATED:20250324T184752Z
LAST-MODIFIED:20250325T155852Z
UID:10003924-1751911200-1751918400@exploremartincounty.com
SUMMARY:Line Dancing Class
DESCRIPTION:Register now for Martin Community College’s Line Dancing Class series\, taking place on ***UPDATED DATES*** Monday nights from April 14th to July 14th. ***UPDATED DATES*** Please contact Lena Jackson at 252-789-0257 to register. \n \n 
URL:https://exploremartincounty.com/event/line-dancing-class-3-2/2025-07-07/
LOCATION:Martin Community College\, Kehukee Park Rd\, Williamston\, 27892\, United States
END:VEVENT
BEGIN:VEVENT
DTSTART;TZID=America/New_York:20250707T070000
DTEND;TZID=America/New_York:20250707T190000
DTSTAMP:20260423T061836
CREATED:20250224T194828Z
LAST-MODIFIED:20250709T133426Z
UID:10003342-1751871600-1751914800@exploremartincounty.com
SUMMARY:SERHA Main Event & North America Reining Stakes Horse Show
DESCRIPTION:The SERHA Main Event & North America Reining Stakes Horse Show will take place at Senator Bob Martin Eastern Agricultural Center on July 7th – 13th. Spectator admission is free! Show times will be from 7 AM to 7 PM each day. Visit www.serha.org or call (919) 961-0440 for more information!
URL:https://exploremartincounty.com/event/serha-main-event-north-america-reining-stakes-horse-show/2025-07-07/
LOCATION:Senator Bob Martin Eastern Agricultural Center\, 2900 NC-125\, Williamston\, NC\, 27892\, United States
ORGANIZER;CN="SERHA":MAILTO:info@serha.org
END:VEVENT
BEGIN:VEVENT
DTSTART;TZID=America/New_York:20250705T170000
DTEND;TZID=America/New_York:20250705T230000
DTSTAMP:20260423T061836
CREATED:20250630T172759Z
LAST-MODIFIED:20250630T172759Z
UID:10004270-1751734800-1751756400@exploremartincounty.com
SUMMARY:Independence Weekend Celebration
DESCRIPTION:Head to Main Street Haven at 111 W Main St in Downtown Williamston on Saturday Night from 5 PM to 11 PM for an Independence Weekend Celebration. DNA Wings food truck will be serving up tasty food from 5 PM to 7 PM. Musical performances by Nannette Garrett and Jason Johnson. Come out and celebrate America’s 249th birthday!
URL:https://exploremartincounty.com/event/independence-weekend-celebration/
LOCATION:Main Street Haven\, 111 W. Main St\, Williamston\, NC\, 27892\, United States
END:VEVENT
BEGIN:VEVENT
DTSTART;TZID=America/New_York:20250705T120000
DTEND;TZID=America/New_York:20250705T160000
DTSTAMP:20260423T061836
CREATED:20250318T203012Z
LAST-MODIFIED:20250527T162406Z
UID:10003778-1751716800-1751731200@exploremartincounty.com
SUMMARY:Bailey Phelps Art Exhibition & Reception
DESCRIPTION:This art exhibition at the Martin County Arts Council Flatiron Gallery will take place from June 12th to July 24th. The opening reception on June 12th will be from 6:30 PM to 8 PM. \n \n 
URL:https://exploremartincounty.com/event/bailey-phelps-art-exhibition-reception-2/2025-07-05/
LOCATION:Martin County Arts Council – Flat Iron Gallery\, 124 Washington St\, Williamston\, NC\, 27892\, United States
END:VEVENT
BEGIN:VEVENT
DTSTART;TZID=America/New_York:20250705T080000
DTEND;TZID=America/New_York:20250705T120000
DTSTAMP:20260423T061836
CREATED:20250521T170343Z
LAST-MODIFIED:20250521T170343Z
UID:10004133-1751702400-1751716800@exploremartincounty.com
SUMMARY:Grillin' & Chillin' Farmers Market
DESCRIPTION:Join in the fun at a special summer-themed farmers market. There will be a raffle drawing for a grill and grill set!
URL:https://exploremartincounty.com/event/grillin-chillin-farmers-market/
LOCATION:Martin County Farmers Market\, 4001 W Main St\, Williamston\, NC\, 27892\, United States
END:VEVENT
BEGIN:VEVENT
DTSTART;TZID=America/New_York:20250705T000000
DTEND;TZID=America/New_York:20250705T235900
DTSTAMP:20260423T061836
CREATED:20250702T155834Z
LAST-MODIFIED:20250702T155834Z
UID:10004297-1751673600-1751759940@exploremartincounty.com
SUMMARY:RT Johnson Live
DESCRIPTION:RT Johnson will perform a live acoustic set at Robersonville Country Club on July 5th. Enjoy tunes from this local musician with your family and friends!
URL:https://exploremartincounty.com/event/rt-johnson-live/
LOCATION:Robersonville Country Club\, 20720 NC Highway 903\, Robersonville\, NC\, 27871\, United States
END:VEVENT
BEGIN:VEVENT
DTSTART;TZID=America/New_York:20250704T120000
DTEND;TZID=America/New_York:20250704T160000
DTSTAMP:20260423T061836
CREATED:20250318T203012Z
LAST-MODIFIED:20250527T162406Z
UID:10003777-1751630400-1751644800@exploremartincounty.com
SUMMARY:Bailey Phelps Art Exhibition & Reception
DESCRIPTION:This art exhibition at the Martin County Arts Council Flatiron Gallery will take place from June 12th to July 24th. The opening reception on June 12th will be from 6:30 PM to 8 PM. \n \n 
URL:https://exploremartincounty.com/event/bailey-phelps-art-exhibition-reception-2/2025-07-04/
LOCATION:Martin County Arts Council – Flat Iron Gallery\, 124 Washington St\, Williamston\, NC\, 27892\, United States
END:VEVENT
BEGIN:VEVENT
DTSTART;TZID=America/New_York:20250704T080000
DTEND;TZID=America/New_York:20250704T170000
DTSTAMP:20260423T061836
CREATED:20250612T170126Z
LAST-MODIFIED:20250612T170126Z
UID:10004199-1751616000-1751648400@exploremartincounty.com
SUMMARY:July 4th Superball Golf Tournament
DESCRIPTION:Calling all golfers! Robersonville Country Club has several tournaments coming up. Some events are open to guests. Please call the Pro Shop at 252-795-4212 for more info.
URL:https://exploremartincounty.com/event/july-4th-superball-golf-tournament/
LOCATION:Robersonville Country Club\, 20720 NC Highway 903\, Robersonville\, NC\, 27871\, United States
END:VEVENT
BEGIN:VEVENT
DTSTART;TZID=America/New_York:20250703T173000
DTEND;TZID=America/New_York:20250703T213000
DTSTAMP:20260423T061836
CREATED:20250325T204517Z
LAST-MODIFIED:20250904T213658Z
UID:10003942-1751563800-1751578200@exploremartincounty.com
SUMMARY:Thursday Night Doubles - Farm Life Disc Golf
DESCRIPTION:Thursday night doubles run in spring\, summer\, and fall. Start time is 5:30 PM\, except for the summer months\, as the days get longer\, wherein 6 PM will be the new start time. \n  \nThis beautiful course is a tightly wooded course with swamps and a pond. Alt. pin placements make for a fun and challenging time. Situated on a private family farm\, so please call the owner before playing. The phone number is also posted on a sign near the 1st tee. \n  \nDebbie Roberson\nPhone: 252-217-9738
URL:https://exploremartincounty.com/event/thursday-night-doubles-farm-life-disc-golf/2025-07-03/
LOCATION:Farm Life Disc Golf\, 1233 Kent Roberson Rd.\, Williamston\, NC\, 27892\, United States
END:VEVENT
BEGIN:VEVENT
DTSTART;TZID=America/New_York:20250703T173000
DTEND;TZID=America/New_York:20250703T183000
DTSTAMP:20260423T061836
CREATED:20250630T182844Z
LAST-MODIFIED:20250630T182844Z
UID:10004276-1751563800-1751567400@exploremartincounty.com
SUMMARY:Martin County Book Club
DESCRIPTION:Join Library Assistant Heather Nelson at Martin County Book Club. This month you get to choose your own book and share it with the group. This is a great way to find your next read! Email hnelson@bhmlib.org for more information or come by the library. Follow the book club on Facebook here: Martin County NC Book Club! \n \n  \n  \n  \n\n  \n 
URL:https://exploremartincounty.com/event/martin-county-book-club-6/
LOCATION:Martin Memorial Library\, 200 N. Smithwick St\, Williamston\, NC\, 27892\, United States
END:VEVENT
BEGIN:VEVENT
DTSTART;TZID=America/New_York:20250703T120000
DTEND;TZID=America/New_York:20250703T160000
DTSTAMP:20260423T061836
CREATED:20250318T203012Z
LAST-MODIFIED:20250527T162406Z
UID:10003776-1751544000-1751558400@exploremartincounty.com
SUMMARY:Bailey Phelps Art Exhibition & Reception
DESCRIPTION:This art exhibition at the Martin County Arts Council Flatiron Gallery will take place from June 12th to July 24th. The opening reception on June 12th will be from 6:30 PM to 8 PM. \n \n 
URL:https://exploremartincounty.com/event/bailey-phelps-art-exhibition-reception-2/2025-07-03/
LOCATION:Martin County Arts Council – Flat Iron Gallery\, 124 Washington St\, Williamston\, NC\, 27892\, United States
END:VEVENT
END:VCALENDAR