BEGIN:VCALENDAR
VERSION:2.0
PRODID:-//Explore Martin County NC - ECPv6.14.2//NONSGML v1.0//EN
CALSCALE:GREGORIAN
METHOD:PUBLISH
X-WR-CALNAME:Explore Martin County NC
X-ORIGINAL-URL:https://exploremartincounty.com
X-WR-CALDESC:Events for Explore Martin County NC
REFRESH-INTERVAL;VALUE=DURATION:PT1H
X-Robots-Tag:noindex
X-PUBLISHED-TTL:PT1H
BEGIN:VTIMEZONE
TZID:America/New_York
BEGIN:DAYLIGHT
TZOFFSETFROM:-0500
TZOFFSETTO:-0400
TZNAME:EDT
DTSTART:20250309T070000
END:DAYLIGHT
BEGIN:STANDARD
TZOFFSETFROM:-0400
TZOFFSETTO:-0500
TZNAME:EST
DTSTART:20251102T060000
END:STANDARD
END:VTIMEZONE
BEGIN:VEVENT
DTSTART;TZID=America/New_York:20250814T173000
DTEND;TZID=America/New_York:20250814T183000
DTSTAMP:20260422T181723
CREATED:20250811T182950Z
LAST-MODIFIED:20250811T182950Z
UID:10004409-1755192600-1755196200@exploremartincounty.com
SUMMARY:Overdue and Over It Book Club
DESCRIPTION:Join the Overdue and Over It Book Club\, formerly the Martin County Book Club. This month’s book is The Hunger Games by Suzanne Collins. Virtual options are available for those who can’t attend in person. Books are available for check-out at the circulation desk. Email hnelson@bhmlib.org for more information or just come by the library! \n\n  \n \n  \n \n\n  \n  \n  \n\n  \n 
URL:https://exploremartincounty.com/event/overdue-and-over-it-book-club/
LOCATION:Martin Memorial Library\, 200 N. Smithwick St\, Williamston\, NC\, 27892\, United States
END:VEVENT
BEGIN:VEVENT
DTSTART;TZID=America/New_York:20250814T120000
DTEND;TZID=America/New_York:20250814T160000
DTSTAMP:20260422T181723
CREATED:20250318T204412Z
LAST-MODIFIED:20250814T153857Z
UID:10003824-1755172800-1755187200@exploremartincounty.com
SUMMARY:Photography Exhibition & Reception
DESCRIPTION:The annual photography exhibition at the Martin County Arts Council Flatiron Gallery will take place from August 14th to September 18th. The opening reception on August 14th will be from 6:30 PM to 8 PM. \n  \n \n 
URL:https://exploremartincounty.com/event/photography-exhibition-reception/2025-08-14/
LOCATION:Martin County Arts Council – Flat Iron Gallery\, 124 Washington St\, Williamston\, NC\, 27892\, United States
END:VEVENT
BEGIN:VEVENT
DTSTART;TZID=America/New_York:20250813T140000
DTEND;TZID=America/New_York:20250813T160000
DTSTAMP:20260422T181723
CREATED:20250317T203242Z
LAST-MODIFIED:20250317T203242Z
UID:10003478-1755093600-1755100800@exploremartincounty.com
SUMMARY:Bingo - Everetts Ruritan Club
DESCRIPTION:Bingo is every Wednesday at 2 PM at the Everetts Ruritan Club building. Price is $1 per card. Prizes are small items.
URL:https://exploremartincounty.com/event/bingo-everetts-ruritan-club/2025-08-13/
LOCATION:Everetts Ruritan Club\, 205 Ayers St\, Williamston\, NC\, 27892\, United States
END:VEVENT
BEGIN:VEVENT
DTSTART;TZID=America/New_York:20250813T103000
DTEND;TZID=America/New_York:20250813T113000
DTSTAMP:20260422T181723
CREATED:20250811T183936Z
LAST-MODIFIED:20250811T183936Z
UID:10004411-1755081000-1755084600@exploremartincounty.com
SUMMARY:Storytime Robersonville
DESCRIPTION:Storytime at the Robersonville Public Library takes place on Wednesdays at 10:30 AM and Fridays at 10:30 AM / 3:30 PM. Perfect for all ages! Children must be accompanied by a caregiver. No registration needed — just drop in and join the fun! \n\n\n  \n \n  \n  \n 
URL:https://exploremartincounty.com/event/storytime-robersonville/2025-08-13/
LOCATION:Robersonville Public Library\, 119 S Main St\, Robersonville\, NC\, 27871\, United States
END:VEVENT
BEGIN:VEVENT
DTSTART;TZID=America/New_York:20250812T183000
DTEND;TZID=America/New_York:20250812T200000
DTSTAMP:20260422T181723
CREATED:20250620T184734Z
LAST-MODIFIED:20250904T213209Z
UID:10004236-1755023400-1755028800@exploremartincounty.com
SUMMARY:Aqua Zumba
DESCRIPTION:Enjoy a pool workout at Aqua Zumba class at Roanoke Country Club\, every Tuesday night at 6:30 PM\, until pool season ends in late September.
URL:https://exploremartincounty.com/event/aqua-zumba/2025-08-12/
LOCATION:Roanoke Country Club\, 1380 Fairway Dr\, Williamston\, NC\, 27892\, United States
END:VEVENT
BEGIN:VEVENT
DTSTART;TZID=America/New_York:20250810T113000
DTEND;TZID=America/New_York:20250810T200000
DTSTAMP:20260422T181723
CREATED:20250318T221052Z
LAST-MODIFIED:20250806T164102Z
UID:10004360-1754825400-1754856000@exploremartincounty.com
SUMMARY:Member - Guest Golf Tournament
DESCRIPTION:Roanoke Country Club will host this golf tournament from August 8th to 10th. TEE TIMES are: Saturday – 7:30 AM & Sunday at 11:30 AM. (Practice round on Friday.) Dinner each night for players\, guest players & spouses. (Some sponsors are invited to dinner.) Members (not playing) CAN purchase dinner tickets each night. The pro shop has them for sale\, or see the bar. ALL members are invited to the clubhouse for music & beverages each evening. DJ Jesse is playing on Friday! Mighty Saints of Soul is playing at 7:30 PM on Saturday! KIDS’ room open on Saturday at 6 PM for members to drop off & have a cold beverage. Ladies\, worried about your golf stamina? Or just need a pick me up? Visit the ladies lounge\, open until 1 PM. \n  \n \n 
URL:https://exploremartincounty.com/event/member-guest-golf-tournament-2/2025-08-10/
LOCATION:Roanoke Country Club\, 1380 Fairway Dr\, Williamston\, NC\, 27892\, United States
END:VEVENT
BEGIN:VEVENT
DTSTART;TZID=America/New_York:20250809T190000
DTEND;TZID=America/New_York:20250809T220000
DTSTAMP:20260422T181723
CREATED:20250717T180001Z
LAST-MODIFIED:20250717T180001Z
UID:10004326-1754766000-1754776800@exploremartincounty.com
SUMMARY:Jason Johnson Live at Main Street Haven
DESCRIPTION:Local musician\, Jason Johnson\, will be performing at Main Street Haven on Saturday\, August 9th from 7 PM to 10 PM. Enjoy cornhole\, dancing\, & everything downtown Williamston has to offer! \n 
URL:https://exploremartincounty.com/event/jason-johnson-live-at-main-street-haven-2/
LOCATION:Main Street Haven\, 111 W. Main St\, Williamston\, NC\, 27892\, United States
END:VEVENT
BEGIN:VEVENT
DTSTART;TZID=America/New_York:20250809T180000
DTEND;TZID=America/New_York:20250809T210000
DTSTAMP:20260422T181723
CREATED:20250714T171613Z
LAST-MODIFIED:20250714T171613Z
UID:10004324-1754762400-1754773200@exploremartincounty.com
SUMMARY:Murder Mystery Dinner
DESCRIPTION:This time it’s a murder at the luau! So bring out your Hawaiian shirts and get ready to solve a mystery! The event is August 9th\, begins at 6 PM\, and will run until solved. Tickets available for purchase starting Wednesday\, July 16th. There is a limit of 30 tickets at $50 per person.\n\nThe dinner to be served… \n\nAppetizer: Fruit salad\nEntree: 2 Kabobs (specify chicken\, steak or both – choose when purchasing tickets\, please)\nSides: Corn on the cob & vegetable skewer\nDessert: A themed surprise\n\n\n\nThe game is interactive and all participants will have a role. Tickets will be available for purchase either in-store or you may contact The Tea Room on Main at 252-802-4020 regarding purchasing tickets through Cashapp. Only 30 seats are available for this event and there is a lot of interest\, so purchase early to join in the fun!
URL:https://exploremartincounty.com/event/murder-mystery-dinner-2/
LOCATION:The Tea Room on Main\, 150 W. Main St\, Williamston\, NC\, 27892\, United States
END:VEVENT
BEGIN:VEVENT
DTSTART;TZID=America/New_York:20250809T130000
DTEND;TZID=America/New_York:20250809T150000
DTSTAMP:20260422T181723
CREATED:20250411T181853Z
LAST-MODIFIED:20250411T181853Z
UID:10004011-1754744400-1754751600@exploremartincounty.com
SUMMARY:Healing Through Art
DESCRIPTION:Join AmVets Post 227\, at Healing Through Art\, a support group at Martin County Arts Council\, every 2nd and 4th Saturday March through December. Who knew art could be such a comforting experience?! All are welcome.
URL:https://exploremartincounty.com/event/healing-through-art/2025-08-09/
LOCATION:Martin County Arts Council – Flat Iron Gallery\, 124 Washington St\, Williamston\, NC\, 27892\, United States
ORGANIZER;CN="AmVets Post 227":MAILTO:cdspinney@hotmail.com
END:VEVENT
BEGIN:VEVENT
DTSTART;TZID=America/New_York:20250809T120000
DTEND;TZID=America/New_York:20250809T170000
DTSTAMP:20260422T181723
CREATED:20250625T173436Z
LAST-MODIFIED:20250625T173436Z
UID:10004253-1754740800-1754758800@exploremartincounty.com
SUMMARY:Back to School Extravaganza & BBQ Chicken Cook-Off
DESCRIPTION:Blue Jay Recreation Center in Windsor is hosting a back-to-school community event with a BBQ chicken cook-off competition. There will be more festivities and activities for the entire family to enjoy!
URL:https://exploremartincounty.com/event/back-to-school-extravaganza-bbq-chicken-cook-off/
LOCATION:Blue Jay Recreation Center\, 1711 Indian Woods Rd\, Windsor\, NC\, 27983\, United States
END:VEVENT
BEGIN:VEVENT
DTSTART;TZID=America/New_York:20250809T110000
DTEND;TZID=America/New_York:20250809T150000
DTSTAMP:20260422T181723
CREATED:20250702T151650Z
LAST-MODIFIED:20250807T152038Z
UID:10004294-1754737200-1754751600@exploremartincounty.com
SUMMARY:16th Annual Back to School Jamboree
DESCRIPTION:HeadHunterz MC INC. & Williamston Parks & Recreation will host the 16th Annual Back to School Jamboree at Gaylord Perry Park in Williamston on August 9th. **FREE BACKPACKS & SCHOOL SUPPLIES AVAILABLE** Plus – Game Truck | Dunking Booth | Games | Free Food & Drinks **Activities For All Ages** Please bring all the Martin County kids out for a fun-filled day of excitement and fellowship!!\n\n\n\n~Donations Accepted~\nContact Information:\nVonya Brown – 252-802-1763Dervin Brown – 252-717-1704\n\n\n\n\n\n\n\nThis year\, there will be a 3 on 3 (Single Elimination) Basketball tournament for the Middle & High Schoolers from Martin County. Cash prize $250 to the winning team. There will only be 6 teams that can register! **To register\, go to Absolute Cuts Barbershop on 200 Gatling Rd in Williamston. Ask for Marcus Woolard or contact him at (252) 217-1189. The first 6 teams to register will play for the prize. Start time will be 11:30 AM sharp! If your team is not there or unready\, you will be disqualified from the tournament.** (NO EXCEPTIONS) Vendors & Spokespeople are welcome!
URL:https://exploremartincounty.com/event/16th-annual-back-to-school-jamboree/
LOCATION:Gaylord Perry Park\, 300 W Pine St.\, Williamston\, NC\, 27892\, United States
ORGANIZER;CN="Williamston Parks & Recreation":MAILTO:allenoverby@townofwilliamston.com
END:VEVENT
BEGIN:VEVENT
DTSTART;TZID=America/New_York:20250809T080000
DTEND;TZID=America/New_York:20250809T120000
DTSTAMP:20260422T181723
CREATED:20250804T184935Z
LAST-MODIFIED:20250807T151308Z
UID:10004352-1754726400-1754740800@exploremartincounty.com
SUMMARY:Celebrate National Farmers Market Week
DESCRIPTION:Celebrate National Farmers Market Week at the Martin County Farmers Market on Saturday\, August 9th\, from 8 AM to noon! \n  \n \n 
URL:https://exploremartincounty.com/event/celebrate-national-farmers-market-week/
LOCATION:Martin County Farmers Market\, 4001 W Main St\, Williamston\, NC\, 27892\, United States
END:VEVENT
BEGIN:VEVENT
DTSTART;TZID=America/New_York:20250809T073000
DTEND;TZID=America/New_York:20250809T210000
DTSTAMP:20260422T181723
CREATED:20250318T221052Z
LAST-MODIFIED:20250806T164102Z
UID:10004359-1754724600-1754773200@exploremartincounty.com
SUMMARY:Member - Guest Golf Tournament
DESCRIPTION:Roanoke Country Club will host this golf tournament from August 8th to 10th. TEE TIMES are: Saturday – 7:30 AM & Sunday at 11:30 AM. (Practice round on Friday.) Dinner each night for players\, guest players & spouses. (Some sponsors are invited to dinner.) Members (not playing) CAN purchase dinner tickets each night. The pro shop has them for sale\, or see the bar. ALL members are invited to the clubhouse for music & beverages each evening. DJ Jesse is playing on Friday! Mighty Saints of Soul is playing at 7:30 PM on Saturday! KIDS’ room open on Saturday at 6 PM for members to drop off & have a cold beverage. Ladies\, worried about your golf stamina? Or just need a pick me up? Visit the ladies lounge\, open until 1 PM. \n  \n \n 
URL:https://exploremartincounty.com/event/member-guest-golf-tournament-2/2025-08-09/
LOCATION:Roanoke Country Club\, 1380 Fairway Dr\, Williamston\, NC\, 27892\, United States
END:VEVENT
BEGIN:VEVENT
DTSTART;TZID=America/New_York:20250808T190000
DTEND;TZID=America/New_York:20250808T220000
DTSTAMP:20260422T181723
CREATED:20250806T183834Z
LAST-MODIFIED:20250806T183834Z
UID:10004362-1754679600-1754690400@exploremartincounty.com
SUMMARY:RT Johnson Live
DESCRIPTION:Nashville recording artist RT Johnson from Askewville\, NC\, will perform at The Snack Shack in Williamston on Friday\, August 8th from 7 PM to 10 PM.
URL:https://exploremartincounty.com/event/rt-johnson-live-2/
LOCATION:The Snack Shack\, 101 B Main St\, Williamston\, NC\, 27892\, United States
END:VEVENT
BEGIN:VEVENT
DTSTART;TZID=America/New_York:20250808T073000
DTEND;TZID=America/New_York:20250808T210000
DTSTAMP:20260422T181723
CREATED:20250318T221052Z
LAST-MODIFIED:20250806T164102Z
UID:10004358-1754638200-1754686800@exploremartincounty.com
SUMMARY:Member - Guest Golf Tournament
DESCRIPTION:Roanoke Country Club will host this golf tournament from August 8th to 10th. TEE TIMES are: Saturday – 7:30 AM & Sunday at 11:30 AM. (Practice round on Friday.) Dinner each night for players\, guest players & spouses. (Some sponsors are invited to dinner.) Members (not playing) CAN purchase dinner tickets each night. The pro shop has them for sale\, or see the bar. ALL members are invited to the clubhouse for music & beverages each evening. DJ Jesse is playing on Friday! Mighty Saints of Soul is playing at 7:30 PM on Saturday! KIDS’ room open on Saturday at 6 PM for members to drop off & have a cold beverage. Ladies\, worried about your golf stamina? Or just need a pick me up? Visit the ladies lounge\, open until 1 PM. \n  \n \n 
URL:https://exploremartincounty.com/event/member-guest-golf-tournament-2/2025-08-08/
LOCATION:Roanoke Country Club\, 1380 Fairway Dr\, Williamston\, NC\, 27892\, United States
END:VEVENT
BEGIN:VEVENT
DTSTART;TZID=America/New_York:20250807T173000
DTEND;TZID=America/New_York:20250807T213000
DTSTAMP:20260422T181723
CREATED:20250325T204517Z
LAST-MODIFIED:20250904T213658Z
UID:10003947-1754587800-1754602200@exploremartincounty.com
SUMMARY:Thursday Night Doubles - Farm Life Disc Golf
DESCRIPTION:Thursday night doubles run in spring\, summer\, and fall. Start time is 5:30 PM\, except for the summer months\, as the days get longer\, wherein 6 PM will be the new start time. \n  \nThis beautiful course is a tightly wooded course with swamps and a pond. Alt. pin placements make for a fun and challenging time. Situated on a private family farm\, so please call the owner before playing. The phone number is also posted on a sign near the 1st tee. \n  \nDebbie Roberson\nPhone: 252-217-9738
URL:https://exploremartincounty.com/event/thursday-night-doubles-farm-life-disc-golf/2025-08-07/
LOCATION:Farm Life Disc Golf\, 1233 Kent Roberson Rd.\, Williamston\, NC\, 27892\, United States
END:VEVENT
BEGIN:VEVENT
DTSTART;TZID=America/New_York:20250806T140000
DTEND;TZID=America/New_York:20250806T160000
DTSTAMP:20260422T181723
CREATED:20250317T203242Z
LAST-MODIFIED:20250317T203242Z
UID:10003477-1754488800-1754496000@exploremartincounty.com
SUMMARY:Bingo - Everetts Ruritan Club
DESCRIPTION:Bingo is every Wednesday at 2 PM at the Everetts Ruritan Club building. Price is $1 per card. Prizes are small items.
URL:https://exploremartincounty.com/event/bingo-everetts-ruritan-club/2025-08-06/
LOCATION:Everetts Ruritan Club\, 205 Ayers St\, Williamston\, NC\, 27892\, United States
END:VEVENT
BEGIN:VEVENT
DTSTART;TZID=America/New_York:20250805T183000
DTEND;TZID=America/New_York:20250805T200000
DTSTAMP:20260422T181723
CREATED:20250620T184734Z
LAST-MODIFIED:20250904T213209Z
UID:10004235-1754418600-1754424000@exploremartincounty.com
SUMMARY:Aqua Zumba
DESCRIPTION:Enjoy a pool workout at Aqua Zumba class at Roanoke Country Club\, every Tuesday night at 6:30 PM\, until pool season ends in late September.
URL:https://exploremartincounty.com/event/aqua-zumba/2025-08-05/
LOCATION:Roanoke Country Club\, 1380 Fairway Dr\, Williamston\, NC\, 27892\, United States
END:VEVENT
BEGIN:VEVENT
DTSTART;TZID=America/New_York:20250803T090000
DTEND;TZID=America/New_York:20250803T220000
DTSTAMP:20260422T181723
CREATED:20250225T194509Z
LAST-MODIFIED:20250728T174140Z
UID:10004346-1754211600-1754258400@exploremartincounty.com
SUMMARY:Fallin’ Into Autumn Open Horse Show
DESCRIPTION:Equine Event Planning\, LLC.’s Fallin’ into Autumn Open Horse Show will take place at the Senator Bob Martin Eastern Agricultural Center\, August 1st – 3rd\, 2025. Spectator admission is FREE! Show times are Friday: 4:30 PM to 11 PM\, Saturday: 9 AM to 10 PM\, and Sunday: 9 AM to 10 PM. Please visit www.EquineEventPlanning.com or call (252) 450-5438 or (336) 908-3302 for more information. \n  \n \n 
URL:https://exploremartincounty.com/event/fallin-into-autumn-open-horse-show-2/2025-08-03/
LOCATION:Senator Bob Martin Eastern Agricultural Center\, 2900 NC-125\, Williamston\, NC\, 27892\, United States
END:VEVENT
BEGIN:VEVENT
DTSTART;TZID=America/New_York:20250802T180000
DTEND;TZID=America/New_York:20250802T210000
DTSTAMP:20260422T181723
CREATED:20250520T170824Z
LAST-MODIFIED:20250708T145656Z
UID:10004128-1754157600-1754168400@exploremartincounty.com
SUMMARY:Keeping the Dream Alive Reunion Banquet
DESCRIPTION:Save the date! W.C. Chance East End Schools is holding a meet & greet with a reunion banquet on August 1st and 2nd\, at 6 PM. Motto: “The Legacy Continues.” Join in the fun and support the organization! \n \n \n 
URL:https://exploremartincounty.com/event/keeping-the-dream-alive-reunion-banquet/2025-08-02/
LOCATION:W.C. Chance – East End Schools Cultural Center\, 304 Cochran St\, Robersonville\, NC\, 27871\, United States
END:VEVENT
BEGIN:VEVENT
DTSTART;TZID=America/New_York:20250802T170000
DTEND;TZID=America/New_York:20250802T220000
DTSTAMP:20260422T181723
CREATED:20250728T184807Z
LAST-MODIFIED:20250728T184807Z
UID:10004350-1754154000-1754172000@exploremartincounty.com
SUMMARY:Dirt Kart Race
DESCRIPTION:Leggett Mill Speedway will hold a dirt kart race on Saturday\, August 2nd. Track opens at 5 PM\, and racing starts around 7 PM. Come see the action! It will be a fun race for all!
URL:https://exploremartincounty.com/event/dirt-kart-race-4/
LOCATION:Leggett Mill Speedway\, 4049 Race Track Rd\, Williamston\, NC\, 27892\, United States
END:VEVENT
BEGIN:VEVENT
DTSTART;TZID=America/New_York:20250802T160000
DTEND;TZID=America/New_York:20250802T210000
DTSTAMP:20260422T181723
CREATED:20250328T142114Z
LAST-MODIFIED:20250721T135400Z
UID:10003955-1754150400-1754168400@exploremartincounty.com
SUMMARY:Black August in the Park
DESCRIPTION:Join in honoring Black August — a month dedicated to remembering Black political prisoners\, freedom fighters\, and the legacies of the Black liberation movement. This annual gathering is inspired by our sister event in Durham\, NC\, and features community-centered programming that highlights local organizers\, artists\, and cultural workers dedicated to  creating real change. To get involved or to learn more details about these events\, contact Rhaegan Jackson at hello@blackacreequity.com. We look forward to seeing you on campus! \n  \n\nWhat is Black August? Born in California prisons during the 1970s\, Black August is a month of resistance\, resilience\, and remembrance. It’s a month-long observance that honors the sacrifices of political prisoners and the enduring struggle for Black liberation. This August\, we’re honoring that legacy on the Blackacre Campus\, complete with: \n  \n\nCompelling\, thought provoking discussions\nA space for affirmations and dreams.\nArt\, food\, music\, and joy rooted in resistance.\nPLUS! A special guest performance by GRAMMY® nominated artist\, picture book author\, podcaster\, and former Durham City Council member\, Pierce Freelon!\n\n\n\n\n\n\n\nJoin us Saturday\, August 2nd from 4 PM to 9 PM at 600 N Smithwick St\, Williamston\, NC. RSVP here: https://f.mtr.cool/rypfklmbqj\n\n\n\nPresented by Blackacre and Providence Omnistructure. \n  \n \n 
URL:https://exploremartincounty.com/event/black-august-in-the-park/
LOCATION:Providence Omnistructure – Blackacre Campus\, 600 N Smithwick St\, Williamston\, NC\, 27892\, United States
END:VEVENT
BEGIN:VEVENT
DTSTART;TZID=America/New_York:20250802T140000
DTEND;TZID=America/New_York:20250802T180000
DTSTAMP:20260422T181723
CREATED:20250721T142845Z
LAST-MODIFIED:20250721T142845Z
UID:10004333-1754143200-1754157600@exploremartincounty.com
SUMMARY:Summer Carnival
DESCRIPTION:FOOTBALL & CHEER CARNIVAL: A Day of Family Fun\, Team Spirit & Community Love! Date: Friday\, August 2nd. Location: 505 N Main St\, Robersonville\, NC. Time: Starts at 2 PM. Entry Fee: $5 per person. Tickets available on-site for fun\, games\, & obstacle challenges! Come out and support the amazing athletes at the Football & Cheer Carnival — Don’t miss this exciting event! Bring the whole family and enjoy:\n\n\n\n\n\nDelicious Food & Refreshments\nFace Painting\nFootball Drills & Obstacle Challenges\nBounce House Fun\nMusic & Dancing\nSnow Cones & Sweet Treats\nSack Races\nMeet the Teams & Coaches
URL:https://exploremartincounty.com/event/summer-carnival/
LOCATION:Robersonville Recreational Park\, 503 N Main St\, Robersonville\, NC\, 27871
ORGANIZER;CN="Perfect Image Bulldogs":MAILTO:perfectimagebulldogs@gmail.com
END:VEVENT
BEGIN:VEVENT
DTSTART;TZID=America/New_York:20250802T130000
DTEND;TZID=America/New_York:20250802T210000
DTSTAMP:20260422T181723
CREATED:20250630T174821Z
LAST-MODIFIED:20250630T174821Z
UID:10004271-1754139600-1754168400@exploremartincounty.com
SUMMARY:The Future Belongs To You Basketball Tournament
DESCRIPTION:This “Back to School” basketball tournament will include an afternoon of fun activities like live music and boots on the ground line dancing. The deadline to register your team is July 25th\, 2025. Seeking a teams from Bertie\, Martin\, Pitt\, and Edgecombe Counties. It will be the battle of the counties! Single elimination!
URL:https://exploremartincounty.com/event/the-future-belongs-to-you-basketball-tournament/
LOCATION:South Creek Middle School\, 21077 NC Hwy 903\, Robersonville\, NC\, 27871\, United States
ORGANIZER;CN="The Future Belongs to You Foundation":MAILTO:tfbu2018@gmail.com
END:VEVENT
BEGIN:VEVENT
DTSTART;TZID=America/New_York:20250802T113000
DTEND;TZID=America/New_York:20250802T170000
DTSTAMP:20260422T181723
CREATED:20250722T144910Z
LAST-MODIFIED:20250722T144910Z
UID:10004341-1754134200-1754154000@exploremartincounty.com
SUMMARY:BBQ Ribs & Chicken Plate Sale
DESCRIPTION:Get ready for a BBQ Ribs & Chicken Plate Sale happening next Saturday\, August 2nd! Mending Hearts Foundation will have delicious food and refreshing\, fresh-squeezed lemonade to keep you cool! Don’t forget to spread the word with your friends and family. See you there! \n  \n \n 
URL:https://exploremartincounty.com/event/bbq-ribs-chicken-plate-sale/
LOCATION:NC
ORGANIZER;CN="Mending Hearts Foundation":MAILTO:contactmendinghearts@gmail.com
END:VEVENT
BEGIN:VEVENT
DTSTART;TZID=America/New_York:20250802T110000
DTEND;TZID=America/New_York:20250802T170000
DTSTAMP:20260422T181723
CREATED:20250625T173745Z
LAST-MODIFIED:20250717T192812Z
UID:10004254-1754132400-1754154000@exploremartincounty.com
SUMMARY:Boots on the Ground Fish Fry
DESCRIPTION:Head out to Oak City on August 2nd\, starting at 11 AM\, for a fish fry event. Get there early while supplies last! There will be a DJ playing music and baked goods for sale\, too! \n \n 
URL:https://exploremartincounty.com/event/boots-on-the-ground-fish-fry/
LOCATION:Oak City NC Town Commons\, E Commerce St & West Ave\, Oak City\, NC\, 27857\, United States
END:VEVENT
BEGIN:VEVENT
DTSTART;TZID=America/New_York:20250802T090000
DTEND;TZID=America/New_York:20250802T220000
DTSTAMP:20260422T181723
CREATED:20250225T194509Z
LAST-MODIFIED:20250728T174140Z
UID:10004345-1754125200-1754172000@exploremartincounty.com
SUMMARY:Fallin’ Into Autumn Open Horse Show
DESCRIPTION:Equine Event Planning\, LLC.’s Fallin’ into Autumn Open Horse Show will take place at the Senator Bob Martin Eastern Agricultural Center\, August 1st – 3rd\, 2025. Spectator admission is FREE! Show times are Friday: 4:30 PM to 11 PM\, Saturday: 9 AM to 10 PM\, and Sunday: 9 AM to 10 PM. Please visit www.EquineEventPlanning.com or call (252) 450-5438 or (336) 908-3302 for more information. \n  \n \n 
URL:https://exploremartincounty.com/event/fallin-into-autumn-open-horse-show-2/2025-08-02/
LOCATION:Senator Bob Martin Eastern Agricultural Center\, 2900 NC-125\, Williamston\, NC\, 27892\, United States
END:VEVENT
BEGIN:VEVENT
DTSTART;TZID=America/New_York:20250802T080000
DTEND;TZID=America/New_York:20250802T120000
DTSTAMP:20260422T181723
CREATED:20250721T150818Z
LAST-MODIFIED:20250731T145430Z
UID:10004334-1754121600-1754136000@exploremartincounty.com
SUMMARY:Farmers Market & Community Wellness Day
DESCRIPTION:This farmers market will celebrate community wellness\, with the addition of participants from local health organizations sharing resources with the community. Hope to see you there! \n  \n \n 
URL:https://exploremartincounty.com/event/farmers-market-community-wellness-day/
LOCATION:Martin County Farmers Market\, 4001 W Main St\, Williamston\, NC\, 27892\, United States
END:VEVENT
BEGIN:VEVENT
DTSTART;TZID=America/New_York:20250801T190000
DTEND;TZID=America/New_York:20250801T220000
DTSTAMP:20260422T181723
CREATED:20250728T174814Z
LAST-MODIFIED:20250728T174814Z
UID:10004347-1754074800-1754085600@exploremartincounty.com
SUMMARY:John Benson Live
DESCRIPTION:Local musician\, John Benson\, will be performing at The Snack Shack on Friday\, August 1st\, from 7 PM to 10 PM. Come on out and enjoy some music in downtown Williamston! \n 
URL:https://exploremartincounty.com/event/john-benson-live/
LOCATION:The Snack Shack\, 101 B Main St\, Williamston\, NC\, 27892\, United States
END:VEVENT
BEGIN:VEVENT
DTSTART;TZID=America/New_York:20250801T183000
DTEND;TZID=America/New_York:20250801T210000
DTSTAMP:20260422T181723
CREATED:20250709T162436Z
LAST-MODIFIED:20250709T162436Z
UID:10004317-1754073000-1754082000@exploremartincounty.com
SUMMARY:Movie Night & Back to School Bash
DESCRIPTION:E.J. Hayes Alumni Association invites children ages 7 to 12 (accompanied by an adult) to attend a back to school event with a showing of the Disney movie\, Inside Out. Movie details coming soon… \nPlease RSVP by July 23rd\, as there is limited seating\, by calling Robin Brown at 252-217-7458 or emailing brown.robin71@yahoo.com. \n  \n \n 
URL:https://exploremartincounty.com/event/movie-night-back-to-school-bash/
LOCATION:E.J. Hayes Alumni Center\, 705 Washington Street\, Williamston\, NC\, 27892\, United States
END:VEVENT
END:VCALENDAR