BEGIN:VCALENDAR
VERSION:2.0
PRODID:-//Explore Martin County NC - ECPv6.14.2//NONSGML v1.0//EN
CALSCALE:GREGORIAN
METHOD:PUBLISH
X-WR-CALNAME:Explore Martin County NC
X-ORIGINAL-URL:https://exploremartincounty.com
X-WR-CALDESC:Events for Explore Martin County NC
REFRESH-INTERVAL;VALUE=DURATION:PT1H
X-Robots-Tag:noindex
X-PUBLISHED-TTL:PT1H
BEGIN:VTIMEZONE
TZID:America/New_York
BEGIN:DAYLIGHT
TZOFFSETFROM:-0500
TZOFFSETTO:-0400
TZNAME:EDT
DTSTART:20260308T070000
END:DAYLIGHT
BEGIN:STANDARD
TZOFFSETFROM:-0400
TZOFFSETTO:-0500
TZNAME:EST
DTSTART:20261101T060000
END:STANDARD
END:VTIMEZONE
BEGIN:VEVENT
DTSTART;TZID=America/New_York:20260917T173000
DTEND;TZID=America/New_York:20260917T213000
DTSTAMP:20260423T154729
CREATED:20260423T165138Z
LAST-MODIFIED:20260423T165138Z
UID:10006378-1789666200-1789680600@exploremartincounty.com
SUMMARY:Thursday Night Doubles - Farm Life Disc Golf
DESCRIPTION:Thursday night doubles run in spring\, summer\, and fall. Start time is 5:30 PM\, except for the summer months\, as the days get longer\, wherein 6 PM will be the new start time. \n  \nThis beautiful course is a tightly wooded course with swamps and a pond. Alt. pin placements make for a fun and challenging time. Situated on a private family farm\, so please call the owner before playing. The phone number is also posted on a sign near the 1st tee. \n  \nDebbie Roberson\nPhone: 252-217-9738
URL:https://exploremartincounty.com/event/thursday-night-doubles-farm-life-disc-golf-2/2026-09-17/
LOCATION:Farm Life Disc Golf\, 1233 Kent Roberson Rd.\, Williamston\, NC\, 27892\, United States
END:VEVENT
BEGIN:VEVENT
DTSTART;TZID=America/New_York:20260916T140000
DTEND;TZID=America/New_York:20260916T160000
DTSTAMP:20260423T154729
CREATED:20250317T203242Z
LAST-MODIFIED:20250317T203242Z
UID:10003535-1789567200-1789574400@exploremartincounty.com
SUMMARY:Bingo - Everetts Ruritan Club
DESCRIPTION:Bingo is every Wednesday at 2 PM at the Everetts Ruritan Club building. Price is $1 per card. Prizes are small items.
URL:https://exploremartincounty.com/event/bingo-everetts-ruritan-club/2026-09-16/
LOCATION:Everetts Ruritan Club\, 205 Ayers St\, Williamston\, NC\, 27892\, United States
END:VEVENT
BEGIN:VEVENT
DTSTART;TZID=America/New_York:20260912T183000
DTEND;TZID=America/New_York:20260912T203000
DTSTAMP:20260423T154729
CREATED:20260422T165700Z
LAST-MODIFIED:20260422T165700Z
UID:10006309-1789237800-1789245000@exploremartincounty.com
SUMMARY:The Honor Gala
DESCRIPTION:EJ Hayes Alumni Center will host the 3rd Annual semi-formal fundraiser banquet\, The Honor Gala! All proceeds support the ministry of New Crossroads Community Church. Raffle Tickets are $5. Men’s Raffle: 2-Tone Invicta Specialty Pulse Watch + NLT Life Application Study Bible / Women’s Raffle: Dooney & Bourke Handbag + NLT Life Application Study Bible. $15 for Admission. Ticket includes entry + 1 raffle ticket + meal.
URL:https://exploremartincounty.com/event/the-honor-gala/
LOCATION:E.J. Hayes Alumni Center\, 705 Washington Street\, Williamston\, NC\, 27892\, United States
ORGANIZER;CN="New Crossroads Community Church":MAILTO:newcrossroadscf@gmail.com
END:VEVENT
BEGIN:VEVENT
DTSTART;TZID=America/New_York:20260911T180000
DTEND;TZID=America/New_York:20260911T220000
DTSTAMP:20260423T154729
CREATED:20251203T173701Z
LAST-MODIFIED:20251203T173701Z
UID:10005740-1789149600-1789164000@exploremartincounty.com
SUMMARY:Friday Night Karaoke - The Tipsy Palate
DESCRIPTION:Come one\, come all to sing & laugh! On Friday\, enjoy karaoke with DJ Ronnie P at the Tipsy Palate Restaurant & Bar. \n 
URL:https://exploremartincounty.com/event/friday-night-karaoke-the-tipsy-palate-4/2026-09-11/
LOCATION:The Tipsy Palate Restaurant & Bar\, 705 N Main St\, Robersonville\, NC\, 27871\, United States
END:VEVENT
BEGIN:VEVENT
DTSTART;TZID=America/New_York:20260910T173000
DTEND;TZID=America/New_York:20260910T213000
DTSTAMP:20260423T154729
CREATED:20260423T165138Z
LAST-MODIFIED:20260423T165138Z
UID:10006377-1789061400-1789075800@exploremartincounty.com
SUMMARY:Thursday Night Doubles - Farm Life Disc Golf
DESCRIPTION:Thursday night doubles run in spring\, summer\, and fall. Start time is 5:30 PM\, except for the summer months\, as the days get longer\, wherein 6 PM will be the new start time. \n  \nThis beautiful course is a tightly wooded course with swamps and a pond. Alt. pin placements make for a fun and challenging time. Situated on a private family farm\, so please call the owner before playing. The phone number is also posted on a sign near the 1st tee. \n  \nDebbie Roberson\nPhone: 252-217-9738
URL:https://exploremartincounty.com/event/thursday-night-doubles-farm-life-disc-golf-2/2026-09-10/
LOCATION:Farm Life Disc Golf\, 1233 Kent Roberson Rd.\, Williamston\, NC\, 27892\, United States
END:VEVENT
BEGIN:VEVENT
DTSTART;TZID=America/New_York:20260909T140000
DTEND;TZID=America/New_York:20260909T160000
DTSTAMP:20260423T154729
CREATED:20250317T203242Z
LAST-MODIFIED:20250317T203242Z
UID:10003534-1788962400-1788969600@exploremartincounty.com
SUMMARY:Bingo - Everetts Ruritan Club
DESCRIPTION:Bingo is every Wednesday at 2 PM at the Everetts Ruritan Club building. Price is $1 per card. Prizes are small items.
URL:https://exploremartincounty.com/event/bingo-everetts-ruritan-club/2026-09-09/
LOCATION:Everetts Ruritan Club\, 205 Ayers St\, Williamston\, NC\, 27892\, United States
END:VEVENT
BEGIN:VEVENT
DTSTART;TZID=America/New_York:20260904T180000
DTEND;TZID=America/New_York:20260904T220000
DTSTAMP:20260423T154729
CREATED:20251203T173701Z
LAST-MODIFIED:20251203T173701Z
UID:10005739-1788544800-1788559200@exploremartincounty.com
SUMMARY:Friday Night Karaoke - The Tipsy Palate
DESCRIPTION:Come one\, come all to sing & laugh! On Friday\, enjoy karaoke with DJ Ronnie P at the Tipsy Palate Restaurant & Bar. \n 
URL:https://exploremartincounty.com/event/friday-night-karaoke-the-tipsy-palate-4/2026-09-04/
LOCATION:The Tipsy Palate Restaurant & Bar\, 705 N Main St\, Robersonville\, NC\, 27871\, United States
END:VEVENT
BEGIN:VEVENT
DTSTART;TZID=America/New_York:20260903T173000
DTEND;TZID=America/New_York:20260903T213000
DTSTAMP:20260423T154729
CREATED:20260423T165138Z
LAST-MODIFIED:20260423T165138Z
UID:10006376-1788456600-1788471000@exploremartincounty.com
SUMMARY:Thursday Night Doubles - Farm Life Disc Golf
DESCRIPTION:Thursday night doubles run in spring\, summer\, and fall. Start time is 5:30 PM\, except for the summer months\, as the days get longer\, wherein 6 PM will be the new start time. \n  \nThis beautiful course is a tightly wooded course with swamps and a pond. Alt. pin placements make for a fun and challenging time. Situated on a private family farm\, so please call the owner before playing. The phone number is also posted on a sign near the 1st tee. \n  \nDebbie Roberson\nPhone: 252-217-9738
URL:https://exploremartincounty.com/event/thursday-night-doubles-farm-life-disc-golf-2/2026-09-03/
LOCATION:Farm Life Disc Golf\, 1233 Kent Roberson Rd.\, Williamston\, NC\, 27892\, United States
END:VEVENT
BEGIN:VEVENT
DTSTART;TZID=America/New_York:20260902T140000
DTEND;TZID=America/New_York:20260902T160000
DTSTAMP:20260423T154729
CREATED:20250317T203242Z
LAST-MODIFIED:20250317T203242Z
UID:10003533-1788357600-1788364800@exploremartincounty.com
SUMMARY:Bingo - Everetts Ruritan Club
DESCRIPTION:Bingo is every Wednesday at 2 PM at the Everetts Ruritan Club building. Price is $1 per card. Prizes are small items.
URL:https://exploremartincounty.com/event/bingo-everetts-ruritan-club/2026-09-02/
LOCATION:Everetts Ruritan Club\, 205 Ayers St\, Williamston\, NC\, 27892\, United States
END:VEVENT
BEGIN:VEVENT
DTSTART;TZID=America/New_York:20260828T180000
DTEND;TZID=America/New_York:20260828T220000
DTSTAMP:20260423T154729
CREATED:20251203T173701Z
LAST-MODIFIED:20251203T173701Z
UID:10005738-1787940000-1787954400@exploremartincounty.com
SUMMARY:Friday Night Karaoke - The Tipsy Palate
DESCRIPTION:Come one\, come all to sing & laugh! On Friday\, enjoy karaoke with DJ Ronnie P at the Tipsy Palate Restaurant & Bar. \n 
URL:https://exploremartincounty.com/event/friday-night-karaoke-the-tipsy-palate-4/2026-08-28/
LOCATION:The Tipsy Palate Restaurant & Bar\, 705 N Main St\, Robersonville\, NC\, 27871\, United States
END:VEVENT
BEGIN:VEVENT
DTSTART;TZID=America/New_York:20260827T173000
DTEND;TZID=America/New_York:20260827T213000
DTSTAMP:20260423T154729
CREATED:20260423T165138Z
LAST-MODIFIED:20260423T165138Z
UID:10006375-1787851800-1787866200@exploremartincounty.com
SUMMARY:Thursday Night Doubles - Farm Life Disc Golf
DESCRIPTION:Thursday night doubles run in spring\, summer\, and fall. Start time is 5:30 PM\, except for the summer months\, as the days get longer\, wherein 6 PM will be the new start time. \n  \nThis beautiful course is a tightly wooded course with swamps and a pond. Alt. pin placements make for a fun and challenging time. Situated on a private family farm\, so please call the owner before playing. The phone number is also posted on a sign near the 1st tee. \n  \nDebbie Roberson\nPhone: 252-217-9738
URL:https://exploremartincounty.com/event/thursday-night-doubles-farm-life-disc-golf-2/2026-08-27/
LOCATION:Farm Life Disc Golf\, 1233 Kent Roberson Rd.\, Williamston\, NC\, 27892\, United States
END:VEVENT
BEGIN:VEVENT
DTSTART;TZID=America/New_York:20260826T140000
DTEND;TZID=America/New_York:20260826T160000
DTSTAMP:20260423T154729
CREATED:20250317T203242Z
LAST-MODIFIED:20250317T203242Z
UID:10003532-1787752800-1787760000@exploremartincounty.com
SUMMARY:Bingo - Everetts Ruritan Club
DESCRIPTION:Bingo is every Wednesday at 2 PM at the Everetts Ruritan Club building. Price is $1 per card. Prizes are small items.
URL:https://exploremartincounty.com/event/bingo-everetts-ruritan-club/2026-08-26/
LOCATION:Everetts Ruritan Club\, 205 Ayers St\, Williamston\, NC\, 27892\, United States
END:VEVENT
BEGIN:VEVENT
DTSTART;TZID=America/New_York:20260821T180000
DTEND;TZID=America/New_York:20260821T220000
DTSTAMP:20260423T154729
CREATED:20251203T173701Z
LAST-MODIFIED:20251203T173701Z
UID:10005737-1787335200-1787349600@exploremartincounty.com
SUMMARY:Friday Night Karaoke - The Tipsy Palate
DESCRIPTION:Come one\, come all to sing & laugh! On Friday\, enjoy karaoke with DJ Ronnie P at the Tipsy Palate Restaurant & Bar. \n 
URL:https://exploremartincounty.com/event/friday-night-karaoke-the-tipsy-palate-4/2026-08-21/
LOCATION:The Tipsy Palate Restaurant & Bar\, 705 N Main St\, Robersonville\, NC\, 27871\, United States
END:VEVENT
BEGIN:VEVENT
DTSTART;TZID=America/New_York:20260820T173000
DTEND;TZID=America/New_York:20260820T213000
DTSTAMP:20260423T154729
CREATED:20260423T165138Z
LAST-MODIFIED:20260423T165138Z
UID:10006374-1787247000-1787261400@exploremartincounty.com
SUMMARY:Thursday Night Doubles - Farm Life Disc Golf
DESCRIPTION:Thursday night doubles run in spring\, summer\, and fall. Start time is 5:30 PM\, except for the summer months\, as the days get longer\, wherein 6 PM will be the new start time. \n  \nThis beautiful course is a tightly wooded course with swamps and a pond. Alt. pin placements make for a fun and challenging time. Situated on a private family farm\, so please call the owner before playing. The phone number is also posted on a sign near the 1st tee. \n  \nDebbie Roberson\nPhone: 252-217-9738
URL:https://exploremartincounty.com/event/thursday-night-doubles-farm-life-disc-golf-2/2026-08-20/
LOCATION:Farm Life Disc Golf\, 1233 Kent Roberson Rd.\, Williamston\, NC\, 27892\, United States
END:VEVENT
BEGIN:VEVENT
DTSTART;TZID=America/New_York:20260819T140000
DTEND;TZID=America/New_York:20260819T160000
DTSTAMP:20260423T154729
CREATED:20250317T203242Z
LAST-MODIFIED:20250317T203242Z
UID:10003531-1787148000-1787155200@exploremartincounty.com
SUMMARY:Bingo - Everetts Ruritan Club
DESCRIPTION:Bingo is every Wednesday at 2 PM at the Everetts Ruritan Club building. Price is $1 per card. Prizes are small items.
URL:https://exploremartincounty.com/event/bingo-everetts-ruritan-club/2026-08-19/
LOCATION:Everetts Ruritan Club\, 205 Ayers St\, Williamston\, NC\, 27892\, United States
END:VEVENT
BEGIN:VEVENT
DTSTART;TZID=America/New_York:20260814T180000
DTEND;TZID=America/New_York:20260814T220000
DTSTAMP:20260423T154729
CREATED:20251203T173701Z
LAST-MODIFIED:20251203T173701Z
UID:10005736-1786730400-1786744800@exploremartincounty.com
SUMMARY:Friday Night Karaoke - The Tipsy Palate
DESCRIPTION:Come one\, come all to sing & laugh! On Friday\, enjoy karaoke with DJ Ronnie P at the Tipsy Palate Restaurant & Bar. \n 
URL:https://exploremartincounty.com/event/friday-night-karaoke-the-tipsy-palate-4/2026-08-14/
LOCATION:The Tipsy Palate Restaurant & Bar\, 705 N Main St\, Robersonville\, NC\, 27871\, United States
END:VEVENT
BEGIN:VEVENT
DTSTART;TZID=America/New_York:20260813T173000
DTEND;TZID=America/New_York:20260813T213000
DTSTAMP:20260423T154729
CREATED:20260423T165138Z
LAST-MODIFIED:20260423T165138Z
UID:10006373-1786642200-1786656600@exploremartincounty.com
SUMMARY:Thursday Night Doubles - Farm Life Disc Golf
DESCRIPTION:Thursday night doubles run in spring\, summer\, and fall. Start time is 5:30 PM\, except for the summer months\, as the days get longer\, wherein 6 PM will be the new start time. \n  \nThis beautiful course is a tightly wooded course with swamps and a pond. Alt. pin placements make for a fun and challenging time. Situated on a private family farm\, so please call the owner before playing. The phone number is also posted on a sign near the 1st tee. \n  \nDebbie Roberson\nPhone: 252-217-9738
URL:https://exploremartincounty.com/event/thursday-night-doubles-farm-life-disc-golf-2/2026-08-13/
LOCATION:Farm Life Disc Golf\, 1233 Kent Roberson Rd.\, Williamston\, NC\, 27892\, United States
END:VEVENT
BEGIN:VEVENT
DTSTART;TZID=America/New_York:20260812T140000
DTEND;TZID=America/New_York:20260812T160000
DTSTAMP:20260423T154729
CREATED:20250317T203242Z
LAST-MODIFIED:20250317T203242Z
UID:10003530-1786543200-1786550400@exploremartincounty.com
SUMMARY:Bingo - Everetts Ruritan Club
DESCRIPTION:Bingo is every Wednesday at 2 PM at the Everetts Ruritan Club building. Price is $1 per card. Prizes are small items.
URL:https://exploremartincounty.com/event/bingo-everetts-ruritan-club/2026-08-12/
LOCATION:Everetts Ruritan Club\, 205 Ayers St\, Williamston\, NC\, 27892\, United States
END:VEVENT
BEGIN:VEVENT
DTSTART;TZID=America/New_York:20260807T180000
DTEND;TZID=America/New_York:20260807T220000
DTSTAMP:20260423T154729
CREATED:20251203T173701Z
LAST-MODIFIED:20251203T173701Z
UID:10005735-1786125600-1786140000@exploremartincounty.com
SUMMARY:Friday Night Karaoke - The Tipsy Palate
DESCRIPTION:Come one\, come all to sing & laugh! On Friday\, enjoy karaoke with DJ Ronnie P at the Tipsy Palate Restaurant & Bar. \n 
URL:https://exploremartincounty.com/event/friday-night-karaoke-the-tipsy-palate-4/2026-08-07/
LOCATION:The Tipsy Palate Restaurant & Bar\, 705 N Main St\, Robersonville\, NC\, 27871\, United States
END:VEVENT
BEGIN:VEVENT
DTSTART;TZID=America/New_York:20260806T173000
DTEND;TZID=America/New_York:20260806T213000
DTSTAMP:20260423T154729
CREATED:20260423T165138Z
LAST-MODIFIED:20260423T165138Z
UID:10006372-1786037400-1786051800@exploremartincounty.com
SUMMARY:Thursday Night Doubles - Farm Life Disc Golf
DESCRIPTION:Thursday night doubles run in spring\, summer\, and fall. Start time is 5:30 PM\, except for the summer months\, as the days get longer\, wherein 6 PM will be the new start time. \n  \nThis beautiful course is a tightly wooded course with swamps and a pond. Alt. pin placements make for a fun and challenging time. Situated on a private family farm\, so please call the owner before playing. The phone number is also posted on a sign near the 1st tee. \n  \nDebbie Roberson\nPhone: 252-217-9738
URL:https://exploremartincounty.com/event/thursday-night-doubles-farm-life-disc-golf-2/2026-08-06/
LOCATION:Farm Life Disc Golf\, 1233 Kent Roberson Rd.\, Williamston\, NC\, 27892\, United States
END:VEVENT
BEGIN:VEVENT
DTSTART;TZID=America/New_York:20260805T140000
DTEND;TZID=America/New_York:20260805T160000
DTSTAMP:20260423T154729
CREATED:20250317T203242Z
LAST-MODIFIED:20250317T203242Z
UID:10003529-1785938400-1785945600@exploremartincounty.com
SUMMARY:Bingo - Everetts Ruritan Club
DESCRIPTION:Bingo is every Wednesday at 2 PM at the Everetts Ruritan Club building. Price is $1 per card. Prizes are small items.
URL:https://exploremartincounty.com/event/bingo-everetts-ruritan-club/2026-08-05/
LOCATION:Everetts Ruritan Club\, 205 Ayers St\, Williamston\, NC\, 27892\, United States
END:VEVENT
BEGIN:VEVENT
DTSTART;TZID=America/New_York:20260731T180000
DTEND;TZID=America/New_York:20260731T220000
DTSTAMP:20260423T154729
CREATED:20251203T173701Z
LAST-MODIFIED:20251203T173701Z
UID:10005734-1785520800-1785535200@exploremartincounty.com
SUMMARY:Friday Night Karaoke - The Tipsy Palate
DESCRIPTION:Come one\, come all to sing & laugh! On Friday\, enjoy karaoke with DJ Ronnie P at the Tipsy Palate Restaurant & Bar. \n 
URL:https://exploremartincounty.com/event/friday-night-karaoke-the-tipsy-palate-4/2026-07-31/
LOCATION:The Tipsy Palate Restaurant & Bar\, 705 N Main St\, Robersonville\, NC\, 27871\, United States
END:VEVENT
BEGIN:VEVENT
DTSTART;TZID=America/New_York:20260730T173000
DTEND;TZID=America/New_York:20260730T213000
DTSTAMP:20260423T154729
CREATED:20260423T165138Z
LAST-MODIFIED:20260423T165138Z
UID:10006371-1785432600-1785447000@exploremartincounty.com
SUMMARY:Thursday Night Doubles - Farm Life Disc Golf
DESCRIPTION:Thursday night doubles run in spring\, summer\, and fall. Start time is 5:30 PM\, except for the summer months\, as the days get longer\, wherein 6 PM will be the new start time. \n  \nThis beautiful course is a tightly wooded course with swamps and a pond. Alt. pin placements make for a fun and challenging time. Situated on a private family farm\, so please call the owner before playing. The phone number is also posted on a sign near the 1st tee. \n  \nDebbie Roberson\nPhone: 252-217-9738
URL:https://exploremartincounty.com/event/thursday-night-doubles-farm-life-disc-golf-2/2026-07-30/
LOCATION:Farm Life Disc Golf\, 1233 Kent Roberson Rd.\, Williamston\, NC\, 27892\, United States
END:VEVENT
BEGIN:VEVENT
DTSTART;TZID=America/New_York:20260729T140000
DTEND;TZID=America/New_York:20260729T160000
DTSTAMP:20260423T154729
CREATED:20250317T203242Z
LAST-MODIFIED:20250317T203242Z
UID:10003528-1785333600-1785340800@exploremartincounty.com
SUMMARY:Bingo - Everetts Ruritan Club
DESCRIPTION:Bingo is every Wednesday at 2 PM at the Everetts Ruritan Club building. Price is $1 per card. Prizes are small items.
URL:https://exploremartincounty.com/event/bingo-everetts-ruritan-club/2026-07-29/
LOCATION:Everetts Ruritan Club\, 205 Ayers St\, Williamston\, NC\, 27892\, United States
END:VEVENT
BEGIN:VEVENT
DTSTART;TZID=America/New_York:20260724T180000
DTEND;TZID=America/New_York:20260724T220000
DTSTAMP:20260423T154729
CREATED:20251203T173701Z
LAST-MODIFIED:20251203T173701Z
UID:10005733-1784916000-1784930400@exploremartincounty.com
SUMMARY:Friday Night Karaoke - The Tipsy Palate
DESCRIPTION:Come one\, come all to sing & laugh! On Friday\, enjoy karaoke with DJ Ronnie P at the Tipsy Palate Restaurant & Bar. \n 
URL:https://exploremartincounty.com/event/friday-night-karaoke-the-tipsy-palate-4/2026-07-24/
LOCATION:The Tipsy Palate Restaurant & Bar\, 705 N Main St\, Robersonville\, NC\, 27871\, United States
END:VEVENT
BEGIN:VEVENT
DTSTART;TZID=America/New_York:20260723T173000
DTEND;TZID=America/New_York:20260723T213000
DTSTAMP:20260423T154729
CREATED:20260423T165138Z
LAST-MODIFIED:20260423T165138Z
UID:10006370-1784827800-1784842200@exploremartincounty.com
SUMMARY:Thursday Night Doubles - Farm Life Disc Golf
DESCRIPTION:Thursday night doubles run in spring\, summer\, and fall. Start time is 5:30 PM\, except for the summer months\, as the days get longer\, wherein 6 PM will be the new start time. \n  \nThis beautiful course is a tightly wooded course with swamps and a pond. Alt. pin placements make for a fun and challenging time. Situated on a private family farm\, so please call the owner before playing. The phone number is also posted on a sign near the 1st tee. \n  \nDebbie Roberson\nPhone: 252-217-9738
URL:https://exploremartincounty.com/event/thursday-night-doubles-farm-life-disc-golf-2/2026-07-23/
LOCATION:Farm Life Disc Golf\, 1233 Kent Roberson Rd.\, Williamston\, NC\, 27892\, United States
END:VEVENT
BEGIN:VEVENT
DTSTART;TZID=America/New_York:20260722T140000
DTEND;TZID=America/New_York:20260722T160000
DTSTAMP:20260423T154729
CREATED:20250317T203242Z
LAST-MODIFIED:20250317T203242Z
UID:10003527-1784728800-1784736000@exploremartincounty.com
SUMMARY:Bingo - Everetts Ruritan Club
DESCRIPTION:Bingo is every Wednesday at 2 PM at the Everetts Ruritan Club building. Price is $1 per card. Prizes are small items.
URL:https://exploremartincounty.com/event/bingo-everetts-ruritan-club/2026-07-22/
LOCATION:Everetts Ruritan Club\, 205 Ayers St\, Williamston\, NC\, 27892\, United States
END:VEVENT
BEGIN:VEVENT
DTSTART;TZID=America/New_York:20260717T180000
DTEND;TZID=America/New_York:20260717T220000
DTSTAMP:20260423T154729
CREATED:20251203T173701Z
LAST-MODIFIED:20251203T173701Z
UID:10005732-1784311200-1784325600@exploremartincounty.com
SUMMARY:Friday Night Karaoke - The Tipsy Palate
DESCRIPTION:Come one\, come all to sing & laugh! On Friday\, enjoy karaoke with DJ Ronnie P at the Tipsy Palate Restaurant & Bar. \n 
URL:https://exploremartincounty.com/event/friday-night-karaoke-the-tipsy-palate-4/2026-07-17/
LOCATION:The Tipsy Palate Restaurant & Bar\, 705 N Main St\, Robersonville\, NC\, 27871\, United States
END:VEVENT
BEGIN:VEVENT
DTSTART;TZID=America/New_York:20260716T173000
DTEND;TZID=America/New_York:20260716T213000
DTSTAMP:20260423T154729
CREATED:20260423T165138Z
LAST-MODIFIED:20260423T165138Z
UID:10006369-1784223000-1784237400@exploremartincounty.com
SUMMARY:Thursday Night Doubles - Farm Life Disc Golf
DESCRIPTION:Thursday night doubles run in spring\, summer\, and fall. Start time is 5:30 PM\, except for the summer months\, as the days get longer\, wherein 6 PM will be the new start time. \n  \nThis beautiful course is a tightly wooded course with swamps and a pond. Alt. pin placements make for a fun and challenging time. Situated on a private family farm\, so please call the owner before playing. The phone number is also posted on a sign near the 1st tee. \n  \nDebbie Roberson\nPhone: 252-217-9738
URL:https://exploremartincounty.com/event/thursday-night-doubles-farm-life-disc-golf-2/2026-07-16/
LOCATION:Farm Life Disc Golf\, 1233 Kent Roberson Rd.\, Williamston\, NC\, 27892\, United States
END:VEVENT
BEGIN:VEVENT
DTSTART;TZID=America/New_York:20260715T140000
DTEND;TZID=America/New_York:20260715T160000
DTSTAMP:20260423T154729
CREATED:20250317T203242Z
LAST-MODIFIED:20250317T203242Z
UID:10003526-1784124000-1784131200@exploremartincounty.com
SUMMARY:Bingo - Everetts Ruritan Club
DESCRIPTION:Bingo is every Wednesday at 2 PM at the Everetts Ruritan Club building. Price is $1 per card. Prizes are small items.
URL:https://exploremartincounty.com/event/bingo-everetts-ruritan-club/2026-07-15/
LOCATION:Everetts Ruritan Club\, 205 Ayers St\, Williamston\, NC\, 27892\, United States
END:VEVENT
END:VCALENDAR