BEGIN:VCALENDAR
VERSION:2.0
PRODID:-//Explore Martin County NC - ECPv6.14.2//NONSGML v1.0//EN
CALSCALE:GREGORIAN
METHOD:PUBLISH
X-WR-CALNAME:Explore Martin County NC
X-ORIGINAL-URL:https://exploremartincounty.com
X-WR-CALDESC:Events for Explore Martin County NC
REFRESH-INTERVAL;VALUE=DURATION:PT1H
X-Robots-Tag:noindex
X-PUBLISHED-TTL:PT1H
BEGIN:VTIMEZONE
TZID:America/New_York
BEGIN:DAYLIGHT
TZOFFSETFROM:-0500
TZOFFSETTO:-0400
TZNAME:EDT
DTSTART:20260308T070000
END:DAYLIGHT
BEGIN:STANDARD
TZOFFSETFROM:-0400
TZOFFSETTO:-0500
TZNAME:EST
DTSTART:20261101T060000
END:STANDARD
END:VTIMEZONE
BEGIN:VEVENT
DTSTART;TZID=America/New_York:20260509T080000
DTEND;TZID=America/New_York:20260509T200000
DTSTAMP:20260422T181523
CREATED:20260213T210947Z
LAST-MODIFIED:20260213T210947Z
UID:10006188-1778313600-1778356800@exploremartincounty.com
SUMMARY:NCHJA “C” Horse Show
DESCRIPTION:The May NCHJA “C” Horse Show will take place at the Senator Bob Martin Eastern Agricultural Center\, May 9th – 10th\, 2026. Show times are Saturday: 8 AM to 8 PM and Sunday: 8 AM to 6 PM.  Admission is free for spectators.  For details\, please visit www.williamstonhunterccircuit.com or call (252) 378-4474. \n  \n \n 
URL:https://exploremartincounty.com/event/nchja-c-horse-show-11/2026-05-09/
LOCATION:Senator Bob Martin Eastern Agricultural Center\, 2900 NC-125\, Williamston\, NC\, 27892\, United States
ORGANIZER;CN="Williamston Hunter 'C' Circuit":MAILTO:williamstonhuntercircuit@gmail.com
END:VEVENT
BEGIN:VEVENT
DTSTART;TZID=America/New_York:20260509T170000
DTEND;TZID=America/New_York:20260509T200000
DTSTAMP:20260422T181523
CREATED:20260213T203213Z
LAST-MODIFIED:20260213T203213Z
UID:10006168-1778346000-1778356800@exploremartincounty.com
SUMMARY:Mark Crawford Williams Live
DESCRIPTION:Mark Crawford Williams will perform a live\, acoustic set on Saturday\, May 9th\, 5 PM to 8 PM at the Main Street Community Stage in Williamston. Bring your lawn chairs and enjoy some live\, local music in the springtime air!
URL:https://exploremartincounty.com/event/mark-crawford-williams-live-2/
LOCATION:Main Street Community Stage – Williamston\, 140 W Main St\, Williamston\, NC\, 27892\, United States
END:VEVENT
BEGIN:VEVENT
DTSTART;TZID=America/New_York:20260510T080000
DTEND;TZID=America/New_York:20260510T180000
DTSTAMP:20260422T181523
CREATED:20260213T210947Z
LAST-MODIFIED:20260213T210947Z
UID:10006189-1778400000-1778436000@exploremartincounty.com
SUMMARY:NCHJA “C” Horse Show
DESCRIPTION:The May NCHJA “C” Horse Show will take place at the Senator Bob Martin Eastern Agricultural Center\, May 9th – 10th\, 2026. Show times are Saturday: 8 AM to 8 PM and Sunday: 8 AM to 6 PM.  Admission is free for spectators.  For details\, please visit www.williamstonhunterccircuit.com or call (252) 378-4474. \n  \n \n 
URL:https://exploremartincounty.com/event/nchja-c-horse-show-11/2026-05-10/
LOCATION:Senator Bob Martin Eastern Agricultural Center\, 2900 NC-125\, Williamston\, NC\, 27892\, United States
ORGANIZER;CN="Williamston Hunter 'C' Circuit":MAILTO:williamstonhuntercircuit@gmail.com
END:VEVENT
BEGIN:VEVENT
DTSTART;TZID=America/New_York:20260510T110000
DTEND;TZID=America/New_York:20260510T140000
DTSTAMP:20260422T181523
CREATED:20260422T192630Z
LAST-MODIFIED:20260422T192630Z
UID:10006318-1778410800-1778421600@exploremartincounty.com
SUMMARY:Mother's Day at Roanoke Country Club
DESCRIPTION:Celebrate your Momma at Roanoke Country Club this year! Now accepting Mother’s Day reservations at 252-789-1188. \n 
URL:https://exploremartincounty.com/event/mothers-day-at-roanoke-country-club/
LOCATION:Roanoke Country Club\, 1380 Fairway Dr\, Williamston\, NC\, 27892\, United States
ORGANIZER;CN="Georgia Deans Restaurant & Bar":MAILTO:georgiadeans27892@gmail.com
END:VEVENT
BEGIN:VEVENT
DTSTART;TZID=America/New_York:20260512T120000
DTEND;TZID=America/New_York:20260512T160000
DTSTAMP:20260422T181523
CREATED:20260205T070810Z
LAST-MODIFIED:20260205T070810Z
UID:10006125-1778587200-1778601600@exploremartincounty.com
SUMMARY:Fine Arts Show & Reception
DESCRIPTION:This annual fine arts exhibition at the Martin County Arts Council Flatiron Gallery will take place from April 30th to May 30th\, 2026. The opening reception on April 30th will be from 6:30 PM to 8 PM. \n 
URL:https://exploremartincounty.com/event/fine-arts-show-reception/2026-05-12/
LOCATION:Martin County Arts Council – Flat Iron Gallery\, 124 Washington St\, Williamston\, NC\, 27892\, United States
END:VEVENT
BEGIN:VEVENT
DTSTART;TZID=America/New_York:20260512T180000
DTEND;TZID=America/New_York:20260512T200000
DTSTAMP:20260422T181523
CREATED:20260422T163218Z
LAST-MODIFIED:20260422T163218Z
UID:10006302-1778608800-1778616000@exploremartincounty.com
SUMMARY:Flag Resin Class
DESCRIPTION:This year marks the 250th Anniversary of our great country\, America! Join us to make this gorgeous resin flag as part of celebrating 250 years of America. Seats are limited to 10! Please text 252-709-8072 or send a PM to reserve your spot. All material will be provided. There will be snacks\, pizza\, and drinks\, and the store will be open for shopping for all attendees. It’s going to be a fun class! \n 
URL:https://exploremartincounty.com/event/flag-resin-class/
LOCATION:The Small Shop on Main\, 143 W Main St\, Williamston\, NC\, 27892\, United States
END:VEVENT
BEGIN:VEVENT
DTSTART;TZID=America/New_York:20260513T120000
DTEND;TZID=America/New_York:20260513T160000
DTSTAMP:20260422T181523
CREATED:20260205T070810Z
LAST-MODIFIED:20260205T070810Z
UID:10006126-1778673600-1778688000@exploremartincounty.com
SUMMARY:Fine Arts Show & Reception
DESCRIPTION:This annual fine arts exhibition at the Martin County Arts Council Flatiron Gallery will take place from April 30th to May 30th\, 2026. The opening reception on April 30th will be from 6:30 PM to 8 PM. \n 
URL:https://exploremartincounty.com/event/fine-arts-show-reception/2026-05-13/
LOCATION:Martin County Arts Council – Flat Iron Gallery\, 124 Washington St\, Williamston\, NC\, 27892\, United States
END:VEVENT
BEGIN:VEVENT
DTSTART;TZID=America/New_York:20260513T140000
DTEND;TZID=America/New_York:20260513T160000
DTSTAMP:20260422T181523
CREATED:20250317T203242Z
LAST-MODIFIED:20250317T203242Z
UID:10003517-1778680800-1778688000@exploremartincounty.com
SUMMARY:Bingo - Everetts Ruritan Club
DESCRIPTION:Bingo is every Wednesday at 2 PM at the Everetts Ruritan Club building. Price is $1 per card. Prizes are small items.
URL:https://exploremartincounty.com/event/bingo-everetts-ruritan-club/2026-05-13/
LOCATION:Everetts Ruritan Club\, 205 Ayers St\, Williamston\, NC\, 27892\, United States
END:VEVENT
BEGIN:VEVENT
DTSTART;TZID=America/New_York:20260514T100000
DTEND;TZID=America/New_York:20260514T190000
DTSTAMP:20260422T181523
CREATED:20260422T164314Z
LAST-MODIFIED:20260422T164314Z
UID:10006304-1778752800-1778785200@exploremartincounty.com
SUMMARY:NC High School & Junior High School Rodeo Finals
DESCRIPTION:Senator Bob Martin Eastern Agricultural Center will be welcoming the NC High School & Junior High School Rodeo Association May 14th – 17th\, 2026. The purpose of this association is to provide an activity for High School and Junior High School students that promotes Western heritage and creates an opportunity to further education. Be sure to come out with your family and friends to watch the show! For more information\, please visit nchsrodeo.com or email nchsrodeo@gmail.com. \n 
URL:https://exploremartincounty.com/event/nc-high-school-junior-high-school-rodeo-finals-2/2026-05-14/
LOCATION:Senator Bob Martin Eastern Agricultural Center\, 2900 NC-125\, Williamston\, NC\, 27892\, United States
ORGANIZER;CN="NC High School & Junior High School Rodeo Association":MAILTO:nchsrodeo@gmail.com
END:VEVENT
BEGIN:VEVENT
DTSTART;TZID=America/New_York:20260514T120000
DTEND;TZID=America/New_York:20260514T160000
DTSTAMP:20260422T181523
CREATED:20260205T070810Z
LAST-MODIFIED:20260205T070810Z
UID:10006127-1778760000-1778774400@exploremartincounty.com
SUMMARY:Fine Arts Show & Reception
DESCRIPTION:This annual fine arts exhibition at the Martin County Arts Council Flatiron Gallery will take place from April 30th to May 30th\, 2026. The opening reception on April 30th will be from 6:30 PM to 8 PM. \n 
URL:https://exploremartincounty.com/event/fine-arts-show-reception/2026-05-14/
LOCATION:Martin County Arts Council – Flat Iron Gallery\, 124 Washington St\, Williamston\, NC\, 27892\, United States
END:VEVENT
BEGIN:VEVENT
DTSTART;TZID=America/New_York:20260514T180000
DTEND;TZID=America/New_York:20260514T210000
DTSTAMP:20260422T181523
CREATED:20260422T190345Z
LAST-MODIFIED:20260422T190345Z
UID:10006316-1778781600-1778792400@exploremartincounty.com
SUMMARY:Chunky Knit Blanket Workshop
DESCRIPTION:Based on popular request\, The Small Shop on Main is hosting a Chunky Knit Blanket Workshop! No prior knitting experience is needed. You will be guided step by step to create a finished chunky blanket of your very own by the end of class. This is a perfect project for yourself or as a gift.\nClass fee includes yarn in your choice of color\, hands-on class assistance\, and written material lists/resources so that you can complete additional blankets on your own after class (yes\, they are that fun and easy)! Yarn colors available for this class are ivory\, sage\, soft silver\, light blue\, and light pink. Seats are limited to 10. Please text 252-799-8072 to reserve your spot along with your choice of yarn color.\n 
URL:https://exploremartincounty.com/event/chunky-knit-blanket-workshop/
LOCATION:The Small Shop on Main\, 143 W Main St\, Williamston\, NC\, 27892\, United States
END:VEVENT
BEGIN:VEVENT
DTSTART;TZID=America/New_York:20260514T190000
DTEND;TZID=America/New_York:20260514T210000
DTSTAMP:20260422T181523
CREATED:20260416T171639Z
LAST-MODIFIED:20260416T171701Z
UID:10006294-1778785200-1778792400@exploremartincounty.com
SUMMARY:Justin Edwards Live
DESCRIPTION:Come out for a relaxing evening of live music at the Outdoor Pavilion at the library on May 14th at 7 PM featuring singer-songwriter Justin Edwards\, a talented musician from Bear Grass\, North Carolina. Known for his authentic roots sound\, Edwards blends heartfelt songwriting with traditional acoustic guitar and banjo\, creating music that reflects the spirit of eastern North Carolina. This free concert is open to the public\, so bring a friend and make sure to bring a chair for comfortable outdoor seating. Come relax\, listen\, and enjoy a wonderful evening of live music in a welcoming outdoor setting under the open sky. \n 
URL:https://exploremartincounty.com/event/justin-edwards-live-2/
LOCATION:Martin Memorial Library\, 200 N. Smithwick St\, Williamston\, NC\, 27892\, United States
END:VEVENT
BEGIN:VEVENT
DTSTART;TZID=America/New_York:20260515T100000
DTEND;TZID=America/New_York:20260515T190000
DTSTAMP:20260422T181523
CREATED:20260422T164314Z
LAST-MODIFIED:20260422T164314Z
UID:10006305-1778839200-1778871600@exploremartincounty.com
SUMMARY:NC High School & Junior High School Rodeo Finals
DESCRIPTION:Senator Bob Martin Eastern Agricultural Center will be welcoming the NC High School & Junior High School Rodeo Association May 14th – 17th\, 2026. The purpose of this association is to provide an activity for High School and Junior High School students that promotes Western heritage and creates an opportunity to further education. Be sure to come out with your family and friends to watch the show! For more information\, please visit nchsrodeo.com or email nchsrodeo@gmail.com. \n 
URL:https://exploremartincounty.com/event/nc-high-school-junior-high-school-rodeo-finals-2/2026-05-15/
LOCATION:Senator Bob Martin Eastern Agricultural Center\, 2900 NC-125\, Williamston\, NC\, 27892\, United States
ORGANIZER;CN="NC High School & Junior High School Rodeo Association":MAILTO:nchsrodeo@gmail.com
END:VEVENT
BEGIN:VEVENT
DTSTART;TZID=America/New_York:20260515T120000
DTEND;TZID=America/New_York:20260515T160000
DTSTAMP:20260422T181523
CREATED:20260205T070810Z
LAST-MODIFIED:20260205T070810Z
UID:10006128-1778846400-1778860800@exploremartincounty.com
SUMMARY:Fine Arts Show & Reception
DESCRIPTION:This annual fine arts exhibition at the Martin County Arts Council Flatiron Gallery will take place from April 30th to May 30th\, 2026. The opening reception on April 30th will be from 6:30 PM to 8 PM. \n 
URL:https://exploremartincounty.com/event/fine-arts-show-reception/2026-05-15/
LOCATION:Martin County Arts Council – Flat Iron Gallery\, 124 Washington St\, Williamston\, NC\, 27892\, United States
END:VEVENT
BEGIN:VEVENT
DTSTART;TZID=America/New_York:20260515T180000
DTEND;TZID=America/New_York:20260515T220000
DTSTAMP:20260422T181523
CREATED:20251203T173701Z
LAST-MODIFIED:20251203T173701Z
UID:10005723-1778868000-1778882400@exploremartincounty.com
SUMMARY:Friday Night Karaoke - The Tipsy Palate
DESCRIPTION:Come one\, come all to sing & laugh! On Friday\, enjoy karaoke with DJ Ronnie P at the Tipsy Palate Restaurant & Bar. \n 
URL:https://exploremartincounty.com/event/friday-night-karaoke-the-tipsy-palate-4/2026-05-15/
LOCATION:The Tipsy Palate Restaurant & Bar\, 705 N Main St\, Robersonville\, NC\, 27871\, United States
END:VEVENT
BEGIN:VEVENT
DTSTART;TZID=America/New_York:20260516T080000
DTEND;TZID=America/New_York:20260516T120000
DTSTAMP:20260422T181523
CREATED:20260306T143817Z
LAST-MODIFIED:20260402T141850Z
UID:10006221-1778918400-1778932800@exploremartincounty.com
SUMMARY:5K Color Fun Run
DESCRIPTION:Join the Martin County Arts Council for the most colorful and fun 5K run of 2026\, where you’ll be covered head to toe in vibrant hues! This year’s Fun Run is scheduled for Saturday\, May 16th\, 2026\, and will be precision-timed by Run the East LLC. Please sign up HERE. Facebook RSVP HERE. \n  \n \n  \n   \n  \n 
URL:https://exploremartincounty.com/event/5k-color-fun-run-2/
LOCATION:Martin County Arts Council\, 124 Washington St.\, Williamston\, NC\, 27892\, United States
END:VEVENT
BEGIN:VEVENT
DTSTART;TZID=America/New_York:20260516T080000
DTEND;TZID=America/New_York:20260516T120000
DTSTAMP:20260422T181523
CREATED:20260422T193313Z
LAST-MODIFIED:20260422T193313Z
UID:10006319-1778918400-1778932800@exploremartincounty.com
SUMMARY:Kids Day at the Farmers Market
DESCRIPTION:Join the Martin County Farmers Market on Saturday\, May 16th\, 2026\, from 8 AM to 12 PM for their first-ever Kids Day. There will be a scavenger hunt\, a color your own farmers market bag activity\, farm animals\, and story time with Martin Memorial Library (10 AM). All activities are free for children. Please help spread the word! \n 
URL:https://exploremartincounty.com/event/kids-day-at-the-farmers-market/
LOCATION:N.C. Cooperative Extension – Martin County Center\, 104 Kehukee Park Rd\, Williamston\, NC\, 27892\, United States
ORGANIZER;CN="Martin County Farmers Market":MAILTO:themartincofm@gmail.com
END:VEVENT
BEGIN:VEVENT
DTSTART;TZID=America/New_York:20260516T100000
DTEND;TZID=America/New_York:20260516T190000
DTSTAMP:20260422T181523
CREATED:20260422T164314Z
LAST-MODIFIED:20260422T164314Z
UID:10006306-1778925600-1778958000@exploremartincounty.com
SUMMARY:NC High School & Junior High School Rodeo Finals
DESCRIPTION:Senator Bob Martin Eastern Agricultural Center will be welcoming the NC High School & Junior High School Rodeo Association May 14th – 17th\, 2026. The purpose of this association is to provide an activity for High School and Junior High School students that promotes Western heritage and creates an opportunity to further education. Be sure to come out with your family and friends to watch the show! For more information\, please visit nchsrodeo.com or email nchsrodeo@gmail.com. \n 
URL:https://exploremartincounty.com/event/nc-high-school-junior-high-school-rodeo-finals-2/2026-05-16/
LOCATION:Senator Bob Martin Eastern Agricultural Center\, 2900 NC-125\, Williamston\, NC\, 27892\, United States
ORGANIZER;CN="NC High School & Junior High School Rodeo Association":MAILTO:nchsrodeo@gmail.com
END:VEVENT
BEGIN:VEVENT
DTSTART;TZID=America/New_York:20260516T130000
DTEND;TZID=America/New_York:20260516T170000
DTSTAMP:20260422T181523
CREATED:20260409T174404Z
LAST-MODIFIED:20260409T174404Z
UID:10006280-1778936400-1778950800@exploremartincounty.com
SUMMARY:New Crossroads Community Church Cook Out
DESCRIPTION:Join the congregation of New Crossroads Community Church for a Cook Out at Godwin-Coppage Park! This community event begins at 1 PM on Saturday\, May 16th. Don’t miss out! \n 
URL:https://exploremartincounty.com/event/new-crossroads-community-church-cook-out/
LOCATION:Godwin-Coppage Park\, 1073 Tyner Rd.\, Williamston\, NC\, 27892\, United States
ORGANIZER;CN="New Crossroads Community Church":MAILTO:newcrossroadscf@gmail.com
END:VEVENT
BEGIN:VEVENT
DTSTART;TZID=America/New_York:20260517T100000
DTEND;TZID=America/New_York:20260517T190000
DTSTAMP:20260422T181523
CREATED:20260422T164314Z
LAST-MODIFIED:20260422T164314Z
UID:10006307-1779012000-1779044400@exploremartincounty.com
SUMMARY:NC High School & Junior High School Rodeo Finals
DESCRIPTION:Senator Bob Martin Eastern Agricultural Center will be welcoming the NC High School & Junior High School Rodeo Association May 14th – 17th\, 2026. The purpose of this association is to provide an activity for High School and Junior High School students that promotes Western heritage and creates an opportunity to further education. Be sure to come out with your family and friends to watch the show! For more information\, please visit nchsrodeo.com or email nchsrodeo@gmail.com. \n 
URL:https://exploremartincounty.com/event/nc-high-school-junior-high-school-rodeo-finals-2/2026-05-17/
LOCATION:Senator Bob Martin Eastern Agricultural Center\, 2900 NC-125\, Williamston\, NC\, 27892\, United States
ORGANIZER;CN="NC High School & Junior High School Rodeo Association":MAILTO:nchsrodeo@gmail.com
END:VEVENT
BEGIN:VEVENT
DTSTART;TZID=America/New_York:20260519T120000
DTEND;TZID=America/New_York:20260519T160000
DTSTAMP:20260422T181523
CREATED:20260205T070810Z
LAST-MODIFIED:20260205T070810Z
UID:10006129-1779192000-1779206400@exploremartincounty.com
SUMMARY:Fine Arts Show & Reception
DESCRIPTION:This annual fine arts exhibition at the Martin County Arts Council Flatiron Gallery will take place from April 30th to May 30th\, 2026. The opening reception on April 30th will be from 6:30 PM to 8 PM. \n 
URL:https://exploremartincounty.com/event/fine-arts-show-reception/2026-05-19/
LOCATION:Martin County Arts Council – Flat Iron Gallery\, 124 Washington St\, Williamston\, NC\, 27892\, United States
END:VEVENT
BEGIN:VEVENT
DTSTART;TZID=America/New_York:20260520T120000
DTEND;TZID=America/New_York:20260520T160000
DTSTAMP:20260422T181523
CREATED:20260205T070810Z
LAST-MODIFIED:20260205T070810Z
UID:10006130-1779278400-1779292800@exploremartincounty.com
SUMMARY:Fine Arts Show & Reception
DESCRIPTION:This annual fine arts exhibition at the Martin County Arts Council Flatiron Gallery will take place from April 30th to May 30th\, 2026. The opening reception on April 30th will be from 6:30 PM to 8 PM. \n 
URL:https://exploremartincounty.com/event/fine-arts-show-reception/2026-05-20/
LOCATION:Martin County Arts Council – Flat Iron Gallery\, 124 Washington St\, Williamston\, NC\, 27892\, United States
END:VEVENT
BEGIN:VEVENT
DTSTART;TZID=America/New_York:20260520T140000
DTEND;TZID=America/New_York:20260520T160000
DTSTAMP:20260422T181523
CREATED:20250317T203242Z
LAST-MODIFIED:20250317T203242Z
UID:10003518-1779285600-1779292800@exploremartincounty.com
SUMMARY:Bingo - Everetts Ruritan Club
DESCRIPTION:Bingo is every Wednesday at 2 PM at the Everetts Ruritan Club building. Price is $1 per card. Prizes are small items.
URL:https://exploremartincounty.com/event/bingo-everetts-ruritan-club/2026-05-20/
LOCATION:Everetts Ruritan Club\, 205 Ayers St\, Williamston\, NC\, 27892\, United States
END:VEVENT
BEGIN:VEVENT
DTSTART;TZID=America/New_York:20260521T070000
DTEND;TZID=America/New_York:20260521T170000
DTSTAMP:20260422T181523
CREATED:20260213T210422Z
LAST-MODIFIED:20260213T210422Z
UID:10006182-1779346800-1779382800@exploremartincounty.com
SUMMARY:SERHA Carolina Classic Horse Show
DESCRIPTION:The SERHA Carolina Classic will be held at the Senator Bob Martin Eastern Agricultural Center\, May 21st – 24th\, 2026. Don’t miss your chance to watch these awesome riders “slide” into top awards spaces during this show. Show times are Thursday 7 AM to 5 PM\, Friday 7 AM to 5 PM\, Saturday 7 AM to 9 PM\, and Sunday 7 AM to 4 PM. Visit www.serha.org for more information. \n  \n \n 
URL:https://exploremartincounty.com/event/serha-carolina-classic-horse-show/2026-05-21/
LOCATION:Senator Bob Martin Eastern Agricultural Center\, 2900 NC-125\, Williamston\, NC\, 27892\, United States
ORGANIZER;CN="SERHA":MAILTO:info@serha.org
END:VEVENT
BEGIN:VEVENT
DTSTART;TZID=America/New_York:20260521T120000
DTEND;TZID=America/New_York:20260521T160000
DTSTAMP:20260422T181523
CREATED:20260205T070810Z
LAST-MODIFIED:20260205T070810Z
UID:10006131-1779364800-1779379200@exploremartincounty.com
SUMMARY:Fine Arts Show & Reception
DESCRIPTION:This annual fine arts exhibition at the Martin County Arts Council Flatiron Gallery will take place from April 30th to May 30th\, 2026. The opening reception on April 30th will be from 6:30 PM to 8 PM. \n 
URL:https://exploremartincounty.com/event/fine-arts-show-reception/2026-05-21/
LOCATION:Martin County Arts Council – Flat Iron Gallery\, 124 Washington St\, Williamston\, NC\, 27892\, United States
END:VEVENT
BEGIN:VEVENT
DTSTART;TZID=America/New_York:20260522T070000
DTEND;TZID=America/New_York:20260522T170000
DTSTAMP:20260422T181523
CREATED:20260213T210422Z
LAST-MODIFIED:20260213T210422Z
UID:10006183-1779433200-1779469200@exploremartincounty.com
SUMMARY:SERHA Carolina Classic Horse Show
DESCRIPTION:The SERHA Carolina Classic will be held at the Senator Bob Martin Eastern Agricultural Center\, May 21st – 24th\, 2026. Don’t miss your chance to watch these awesome riders “slide” into top awards spaces during this show. Show times are Thursday 7 AM to 5 PM\, Friday 7 AM to 5 PM\, Saturday 7 AM to 9 PM\, and Sunday 7 AM to 4 PM. Visit www.serha.org for more information. \n  \n \n 
URL:https://exploremartincounty.com/event/serha-carolina-classic-horse-show/2026-05-22/
LOCATION:Senator Bob Martin Eastern Agricultural Center\, 2900 NC-125\, Williamston\, NC\, 27892\, United States
ORGANIZER;CN="SERHA":MAILTO:info@serha.org
END:VEVENT
BEGIN:VEVENT
DTSTART;TZID=America/New_York:20260522T120000
DTEND;TZID=America/New_York:20260522T160000
DTSTAMP:20260422T181523
CREATED:20260205T070810Z
LAST-MODIFIED:20260205T070810Z
UID:10006132-1779451200-1779465600@exploremartincounty.com
SUMMARY:Fine Arts Show & Reception
DESCRIPTION:This annual fine arts exhibition at the Martin County Arts Council Flatiron Gallery will take place from April 30th to May 30th\, 2026. The opening reception on April 30th will be from 6:30 PM to 8 PM. \n 
URL:https://exploremartincounty.com/event/fine-arts-show-reception/2026-05-22/
LOCATION:Martin County Arts Council – Flat Iron Gallery\, 124 Washington St\, Williamston\, NC\, 27892\, United States
END:VEVENT
BEGIN:VEVENT
DTSTART;TZID=America/New_York:20260522T180000
DTEND;TZID=America/New_York:20260522T220000
DTSTAMP:20260422T181523
CREATED:20251203T173701Z
LAST-MODIFIED:20251203T173701Z
UID:10005724-1779472800-1779487200@exploremartincounty.com
SUMMARY:Friday Night Karaoke - The Tipsy Palate
DESCRIPTION:Come one\, come all to sing & laugh! On Friday\, enjoy karaoke with DJ Ronnie P at the Tipsy Palate Restaurant & Bar. \n 
URL:https://exploremartincounty.com/event/friday-night-karaoke-the-tipsy-palate-4/2026-05-22/
LOCATION:The Tipsy Palate Restaurant & Bar\, 705 N Main St\, Robersonville\, NC\, 27871\, United States
END:VEVENT
BEGIN:VEVENT
DTSTART;TZID=America/New_York:20260523T070000
DTEND;TZID=America/New_York:20260523T210000
DTSTAMP:20260422T181523
CREATED:20260213T210422Z
LAST-MODIFIED:20260213T210422Z
UID:10006184-1779519600-1779570000@exploremartincounty.com
SUMMARY:SERHA Carolina Classic Horse Show
DESCRIPTION:The SERHA Carolina Classic will be held at the Senator Bob Martin Eastern Agricultural Center\, May 21st – 24th\, 2026. Don’t miss your chance to watch these awesome riders “slide” into top awards spaces during this show. Show times are Thursday 7 AM to 5 PM\, Friday 7 AM to 5 PM\, Saturday 7 AM to 9 PM\, and Sunday 7 AM to 4 PM. Visit www.serha.org for more information. \n  \n \n 
URL:https://exploremartincounty.com/event/serha-carolina-classic-horse-show/2026-05-23/
LOCATION:Senator Bob Martin Eastern Agricultural Center\, 2900 NC-125\, Williamston\, NC\, 27892\, United States
ORGANIZER;CN="SERHA":MAILTO:info@serha.org
END:VEVENT
BEGIN:VEVENT
DTSTART;TZID=America/New_York:20260524T070000
DTEND;TZID=America/New_York:20260524T160000
DTSTAMP:20260422T181523
CREATED:20260213T210422Z
LAST-MODIFIED:20260213T210422Z
UID:10006185-1779606000-1779638400@exploremartincounty.com
SUMMARY:SERHA Carolina Classic Horse Show
DESCRIPTION:The SERHA Carolina Classic will be held at the Senator Bob Martin Eastern Agricultural Center\, May 21st – 24th\, 2026. Don’t miss your chance to watch these awesome riders “slide” into top awards spaces during this show. Show times are Thursday 7 AM to 5 PM\, Friday 7 AM to 5 PM\, Saturday 7 AM to 9 PM\, and Sunday 7 AM to 4 PM. Visit www.serha.org for more information. \n  \n \n 
URL:https://exploremartincounty.com/event/serha-carolina-classic-horse-show/2026-05-24/
LOCATION:Senator Bob Martin Eastern Agricultural Center\, 2900 NC-125\, Williamston\, NC\, 27892\, United States
ORGANIZER;CN="SERHA":MAILTO:info@serha.org
END:VEVENT
END:VCALENDAR