BEGIN:VCALENDAR
VERSION:2.0
PRODID:-//Explore Martin County NC - ECPv6.14.2//NONSGML v1.0//EN
CALSCALE:GREGORIAN
METHOD:PUBLISH
X-WR-CALNAME:Explore Martin County NC
X-ORIGINAL-URL:https://exploremartincounty.com
X-WR-CALDESC:Events for Explore Martin County NC
REFRESH-INTERVAL;VALUE=DURATION:PT1H
X-Robots-Tag:noindex
X-PUBLISHED-TTL:PT1H
BEGIN:VTIMEZONE
TZID:America/New_York
BEGIN:DAYLIGHT
TZOFFSETFROM:-0500
TZOFFSETTO:-0400
TZNAME:EDT
DTSTART:20250309T070000
END:DAYLIGHT
BEGIN:STANDARD
TZOFFSETFROM:-0400
TZOFFSETTO:-0500
TZNAME:EST
DTSTART:20251102T060000
END:STANDARD
END:VTIMEZONE
BEGIN:VEVENT
DTSTART;TZID=America/New_York:20250716T100000
DTEND;TZID=America/New_York:20250716T110000
DTSTAMP:20260425T220830
CREATED:20250630T192735Z
LAST-MODIFIED:20250711T183606Z
UID:10004278-1752660000-1752663600@exploremartincounty.com
SUMMARY:Art Illusions by Dana Hill
DESCRIPTION:Martin Memorial Library’s summer reading events continue with “Art Illusions by Dana Hill.” Join in the fun at this mesmerizing magic performance\, sure to captivate audiences of all ages!
URL:https://exploremartincounty.com/event/art-illusions-by-dana-hill/
LOCATION:Martin Memorial Library\, 200 N. Smithwick St\, Williamston\, NC\, 27892\, United States
END:VEVENT
BEGIN:VEVENT
DTSTART;TZID=America/New_York:20250716T120000
DTEND;TZID=America/New_York:20250716T130000
DTSTAMP:20260425T220830
CREATED:20250630T193650Z
LAST-MODIFIED:20250630T193650Z
UID:10004280-1752667200-1752670800@exploremartincounty.com
SUMMARY:Community Book Club
DESCRIPTION:Join staff from Martin Community College Library and Martin Memorial Library for a discussion of your favorite book\, short story\, or poem. Bring a refreshment or light snack to share with the group.
URL:https://exploremartincounty.com/event/community-book-club-7/
LOCATION:Martin Community College\, Kehukee Park Rd\, Williamston\, 27892\, United States
ORGANIZER;CN="Martin Memorial Library":MAILTO:mdavis@bhmlib.org
END:VEVENT
BEGIN:VEVENT
DTSTART;TZID=America/New_York:20250716T120000
DTEND;TZID=America/New_York:20250716T160000
DTSTAMP:20260425T220830
CREATED:20250318T203012Z
LAST-MODIFIED:20250527T162406Z
UID:10003785-1752667200-1752681600@exploremartincounty.com
SUMMARY:Bailey Phelps Art Exhibition & Reception
DESCRIPTION:This art exhibition at the Martin County Arts Council Flatiron Gallery will take place from June 12th to July 24th. The opening reception on June 12th will be from 6:30 PM to 8 PM. \n \n 
URL:https://exploremartincounty.com/event/bailey-phelps-art-exhibition-reception-2/2025-07-16/
LOCATION:Martin County Arts Council – Flat Iron Gallery\, 124 Washington St\, Williamston\, NC\, 27892\, United States
END:VEVENT
BEGIN:VEVENT
DTSTART;TZID=America/New_York:20250716T130000
DTEND;TZID=America/New_York:20250716T150000
DTSTAMP:20260425T220830
CREATED:20250609T182840Z
LAST-MODIFIED:20250609T190319Z
UID:10004189-1752670800-1752678000@exploremartincounty.com
SUMMARY:Aurora Fossil Museum Event - Summer Reading Program
DESCRIPTION:Join Robersonville Public Library for a kids summer reading program with a lot of exciting events. This program is free and open to the public.
URL:https://exploremartincounty.com/event/color-your-world-paint-party-summer-reading-program/
LOCATION:First Christian Church – Robersonville\, 126 S Main St\, Robersonville\, 27871\, United States
ORGANIZER;CN="Robersonville Public Library":MAILTO:dburkhart@bhmlib.org
END:VEVENT
BEGIN:VEVENT
DTSTART;TZID=America/New_York:20250716T140000
DTEND;TZID=America/New_York:20250716T160000
DTSTAMP:20260425T220830
CREATED:20250317T203242Z
LAST-MODIFIED:20250317T203242Z
UID:10003474-1752674400-1752681600@exploremartincounty.com
SUMMARY:Bingo - Everetts Ruritan Club
DESCRIPTION:Bingo is every Wednesday at 2 PM at the Everetts Ruritan Club building. Price is $1 per card. Prizes are small items.
URL:https://exploremartincounty.com/event/bingo-everetts-ruritan-club/2025-07-16/
LOCATION:Everetts Ruritan Club\, 205 Ayers St\, Williamston\, NC\, 27892\, United States
END:VEVENT
BEGIN:VEVENT
DTSTART;TZID=America/New_York:20250717T120000
DTEND;TZID=America/New_York:20250717T160000
DTSTAMP:20260425T220830
CREATED:20250318T203012Z
LAST-MODIFIED:20250527T162406Z
UID:10003786-1752753600-1752768000@exploremartincounty.com
SUMMARY:Bailey Phelps Art Exhibition & Reception
DESCRIPTION:This art exhibition at the Martin County Arts Council Flatiron Gallery will take place from June 12th to July 24th. The opening reception on June 12th will be from 6:30 PM to 8 PM. \n \n 
URL:https://exploremartincounty.com/event/bailey-phelps-art-exhibition-reception-2/2025-07-17/
LOCATION:Martin County Arts Council – Flat Iron Gallery\, 124 Washington St\, Williamston\, NC\, 27892\, United States
END:VEVENT
BEGIN:VEVENT
DTSTART;TZID=America/New_York:20250717T173000
DTEND;TZID=America/New_York:20250717T193000
DTSTAMP:20260425T220830
CREATED:20250710T184000Z
LAST-MODIFIED:20250710T184000Z
UID:10004318-1752773400-1752780600@exploremartincounty.com
SUMMARY:Pancake Supper
DESCRIPTION:Have breakfast for supper and let E.J. Hayes do the cooking! Tickets available from all board members or at the Alumni Center Office. 252-789-1074 \n 
URL:https://exploremartincounty.com/event/pancake-supper/
LOCATION:E.J. Hayes Alumni Center\, 705 Washington Street\, Williamston\, NC\, 27892\, United States
END:VEVENT
BEGIN:VEVENT
DTSTART;TZID=America/New_York:20250717T173000
DTEND;TZID=America/New_York:20250717T213000
DTSTAMP:20260425T220830
CREATED:20250325T204517Z
LAST-MODIFIED:20250904T213658Z
UID:10003944-1752773400-1752787800@exploremartincounty.com
SUMMARY:Thursday Night Doubles - Farm Life Disc Golf
DESCRIPTION:Thursday night doubles run in spring\, summer\, and fall. Start time is 5:30 PM\, except for the summer months\, as the days get longer\, wherein 6 PM will be the new start time. \n  \nThis beautiful course is a tightly wooded course with swamps and a pond. Alt. pin placements make for a fun and challenging time. Situated on a private family farm\, so please call the owner before playing. The phone number is also posted on a sign near the 1st tee. \n  \nDebbie Roberson\nPhone: 252-217-9738
URL:https://exploremartincounty.com/event/thursday-night-doubles-farm-life-disc-golf/2025-07-17/
LOCATION:Farm Life Disc Golf\, 1233 Kent Roberson Rd.\, Williamston\, NC\, 27892\, United States
END:VEVENT
BEGIN:VEVENT
DTSTART;TZID=America/New_York:20250717T190000
DTEND;TZID=America/New_York:20250717T213000
DTSTAMP:20260425T220830
CREATED:20250717T175611Z
LAST-MODIFIED:20250717T175611Z
UID:10004325-1752778800-1752787800@exploremartincounty.com
SUMMARY:Thursday Night Dance Party
DESCRIPTION:It’s the debut of The Snack Shack’s Dance Party! Here’s your chance to come out and dance the night away! Open at 2:30 PM on Thursday\, but the dance starts at 7 PM. A fun night for the entire family! \n 
URL:https://exploremartincounty.com/event/thursday-night-dance-party/
LOCATION:The Snack Shack\, 101 B Main St\, Williamston\, NC\, 27892\, United States
END:VEVENT
BEGIN:VEVENT
DTSTART;TZID=America/New_York:20250718T090000
DTEND;TZID=America/New_York:20250718T210000
DTSTAMP:20260425T220830
CREATED:20250612T170803Z
LAST-MODIFIED:20250717T185637Z
UID:10004328-1752829200-1752872400@exploremartincounty.com
SUMMARY:Invitational Calcutta - Golf Tournament & Dinner
DESCRIPTION:Calling all golfers! Robersonville Country Club has several tournaments coming up. Some events are open to guests. Please call the Pro Shop at 252-795-4212 for more info. \n  \nJuly 18th – 20th: Tournament throughout the day\, Friday\, Saturday\, & Sunday. Friday night dinner at 6 PM\, catered by Georgia Deans for players and their spouses. Calcutta to take place from 7 PM to 7:30 PM. \n  \n \n 
URL:https://exploremartincounty.com/event/invitational-friday-night-calcutta/2025-07-18/
LOCATION:Robersonville Country Club\, 20720 NC Highway 903\, Robersonville\, NC\, 27871\, United States
END:VEVENT
BEGIN:VEVENT
DTSTART;TZID=America/New_York:20250718T120000
DTEND;TZID=America/New_York:20250718T160000
DTSTAMP:20260425T220830
CREATED:20250318T203012Z
LAST-MODIFIED:20250527T162406Z
UID:10003787-1752840000-1752854400@exploremartincounty.com
SUMMARY:Bailey Phelps Art Exhibition & Reception
DESCRIPTION:This art exhibition at the Martin County Arts Council Flatiron Gallery will take place from June 12th to July 24th. The opening reception on June 12th will be from 6:30 PM to 8 PM. \n \n 
URL:https://exploremartincounty.com/event/bailey-phelps-art-exhibition-reception-2/2025-07-18/
LOCATION:Martin County Arts Council – Flat Iron Gallery\, 124 Washington St\, Williamston\, NC\, 27892\, United States
END:VEVENT
BEGIN:VEVENT
DTSTART;TZID=America/New_York:20250718T190000
DTEND;TZID=America/New_York:20250718T210000
DTSTAMP:20260425T220830
CREATED:20250717T182157Z
LAST-MODIFIED:20250717T182157Z
UID:10004327-1752865200-1752872400@exploremartincounty.com
SUMMARY:Game Night
DESCRIPTION:Game night at The Friendly Spot in Jamesville is Friday\, July\, 18th from 7 PM to 9 PM. Come and join the fun! Bring a snack to share if you’d like. \n 
URL:https://exploremartincounty.com/event/game-night/
LOCATION:The Friendly Spot\, 2050 Main St\, Jamesville\, NC\, 27846\, United States
END:VEVENT
BEGIN:VEVENT
DTSTART;TZID=America/New_York:20250719T080000
DTEND;TZID=America/New_York:20250719T120000
DTSTAMP:20260425T220830
CREATED:20250527T172345Z
LAST-MODIFIED:20250714T162447Z
UID:10004155-1752912000-1752926400@exploremartincounty.com
SUMMARY:Christmas in July
DESCRIPTION:Martin County Farmers Market brings you Christmas in July on Saturday\, July 19th. Join in the fun at this special market day! Additionally\, the Farmers Market needs your help to fill up the box for Zach’s Toy Chest. Please consider bringing a new unwrapped toy to donate. It will help to bring a smile to a sick child in a local hospital. For more information about Zach’s Toy Chest\, check out their website at zachstoychest.org. \n 
URL:https://exploremartincounty.com/event/christmas-in-july/
LOCATION:Martin County Farmers Market\, 4001 W Main St\, Williamston\, NC\, 27892\, United States
END:VEVENT
BEGIN:VEVENT
DTSTART;TZID=America/New_York:20250719T090000
DTEND;TZID=America/New_York:20250719T210000
DTSTAMP:20260425T220830
CREATED:20250612T170803Z
LAST-MODIFIED:20250717T185637Z
UID:10004329-1752915600-1752958800@exploremartincounty.com
SUMMARY:Invitational Calcutta - Golf Tournament & Dinner
DESCRIPTION:Calling all golfers! Robersonville Country Club has several tournaments coming up. Some events are open to guests. Please call the Pro Shop at 252-795-4212 for more info. \n  \nJuly 18th – 20th: Tournament throughout the day\, Friday\, Saturday\, & Sunday. Friday night dinner at 6 PM\, catered by Georgia Deans for players and their spouses. Calcutta to take place from 7 PM to 7:30 PM. \n  \n \n 
URL:https://exploremartincounty.com/event/invitational-friday-night-calcutta/2025-07-19/
LOCATION:Robersonville Country Club\, 20720 NC Highway 903\, Robersonville\, NC\, 27871\, United States
END:VEVENT
BEGIN:VEVENT
DTSTART;TZID=America/New_York:20250719T110000
DTEND;TZID=America/New_York:20250719T130000
DTSTAMP:20260425T220830
CREATED:20250714T161016Z
LAST-MODIFIED:20250714T161016Z
UID:10004323-1752922800-1752930000@exploremartincounty.com
SUMMARY:Neighborhood Drop-In
DESCRIPTION:AROBG & Martin County Juneteenth Collective’s next neighborhood drop-in is Saturday\, June 19th. There will be games\, music\, food\, & fun! Jersey Mike’s Subs is providing lunch for the event\, taking place at Warren Court. \n 
URL:https://exploremartincounty.com/event/neighborhood-drop-in/
LOCATION:Warren Court Apartments\, 100 Warren Ct\, Williamston\, NC\, 27892\, United States
ORGANIZER;CN="Martin County Juneteenth Collective Inc.":MAILTO:mcjc_23@yahoo.com
END:VEVENT
BEGIN:VEVENT
DTSTART;TZID=America/New_York:20250719T110000
DTEND;TZID=America/New_York:20250719T193000
DTSTAMP:20260425T220830
CREATED:20250630T201524Z
LAST-MODIFIED:20250718T165924Z
UID:10004292-1752922800-1752953400@exploremartincounty.com
SUMMARY:Oak City Recreation Dept. Fundraiser by Roanoke BBQ Co.
DESCRIPTION:This pop-up fundraiser by Roanoke BBQ Company will benefit the Oak City Recreation Department. Save the date! \n  \n \n 
URL:https://exploremartincounty.com/event/oak-city-recreation-dept-fundraiser-by-roanoke-bbq-co/
LOCATION:Oak City NC Town Commons\, E Commerce St & West Ave\, Oak City\, NC\, 27857\, United States
END:VEVENT
BEGIN:VEVENT
DTSTART;TZID=America/New_York:20250719T120000
DTEND;TZID=America/New_York:20250719T160000
DTSTAMP:20260425T220830
CREATED:20250318T203012Z
LAST-MODIFIED:20250527T162406Z
UID:10003788-1752926400-1752940800@exploremartincounty.com
SUMMARY:Bailey Phelps Art Exhibition & Reception
DESCRIPTION:This art exhibition at the Martin County Arts Council Flatiron Gallery will take place from June 12th to July 24th. The opening reception on June 12th will be from 6:30 PM to 8 PM. \n \n 
URL:https://exploremartincounty.com/event/bailey-phelps-art-exhibition-reception-2/2025-07-19/
LOCATION:Martin County Arts Council – Flat Iron Gallery\, 124 Washington St\, Williamston\, NC\, 27892\, United States
END:VEVENT
BEGIN:VEVENT
DTSTART;TZID=America/New_York:20250720T090000
DTEND;TZID=America/New_York:20250720T190000
DTSTAMP:20260425T220830
CREATED:20250612T170803Z
LAST-MODIFIED:20250717T185637Z
UID:10004330-1753002000-1753038000@exploremartincounty.com
SUMMARY:Invitational Calcutta - Golf Tournament & Dinner
DESCRIPTION:Calling all golfers! Robersonville Country Club has several tournaments coming up. Some events are open to guests. Please call the Pro Shop at 252-795-4212 for more info. \n  \nJuly 18th – 20th: Tournament throughout the day\, Friday\, Saturday\, & Sunday. Friday night dinner at 6 PM\, catered by Georgia Deans for players and their spouses. Calcutta to take place from 7 PM to 7:30 PM. \n  \n \n 
URL:https://exploremartincounty.com/event/invitational-friday-night-calcutta/2025-07-20/
LOCATION:Robersonville Country Club\, 20720 NC Highway 903\, Robersonville\, NC\, 27871\, United States
END:VEVENT
BEGIN:VEVENT
DTSTART;TZID=America/New_York:20250722T120000
DTEND;TZID=America/New_York:20250722T160000
DTSTAMP:20260425T220830
CREATED:20250318T203012Z
LAST-MODIFIED:20250527T162406Z
UID:10003789-1753185600-1753200000@exploremartincounty.com
SUMMARY:Bailey Phelps Art Exhibition & Reception
DESCRIPTION:This art exhibition at the Martin County Arts Council Flatiron Gallery will take place from June 12th to July 24th. The opening reception on June 12th will be from 6:30 PM to 8 PM. \n \n 
URL:https://exploremartincounty.com/event/bailey-phelps-art-exhibition-reception-2/2025-07-22/
LOCATION:Martin County Arts Council – Flat Iron Gallery\, 124 Washington St\, Williamston\, NC\, 27892\, United States
END:VEVENT
BEGIN:VEVENT
DTSTART;TZID=America/New_York:20250722T183000
DTEND;TZID=America/New_York:20250722T200000
DTSTAMP:20260425T220830
CREATED:20250620T184734Z
LAST-MODIFIED:20250904T213209Z
UID:10004233-1753209000-1753214400@exploremartincounty.com
SUMMARY:Aqua Zumba
DESCRIPTION:Enjoy a pool workout at Aqua Zumba class at Roanoke Country Club\, every Tuesday night at 6:30 PM\, until pool season ends in late September.
URL:https://exploremartincounty.com/event/aqua-zumba/2025-07-22/
LOCATION:Roanoke Country Club\, 1380 Fairway Dr\, Williamston\, NC\, 27892\, United States
END:VEVENT
BEGIN:VEVENT
DTSTART;TZID=America/New_York:20250723T100000
DTEND;TZID=America/New_York:20250723T110000
DTSTAMP:20260425T220830
CREATED:20250630T193959Z
LAST-MODIFIED:20250630T193959Z
UID:10004281-1753264800-1753268400@exploremartincounty.com
SUMMARY:NC Aquarium Event - Summer Reading Program
DESCRIPTION:Join Martin Memorial Library at the Outdoor Pavilion for an interactive\, educational\, entertaining program presented by the NC Aquarium on Roanoke Island. This program is free and open to the public and is sure to be entertaining to all ages!
URL:https://exploremartincounty.com/event/nc-aquarium-event-summer-reading-program-3/
LOCATION:Martin Memorial Library\, 200 N. Smithwick St\, Williamston\, NC\, 27892\, United States
END:VEVENT
BEGIN:VEVENT
DTSTART;TZID=America/New_York:20250723T120000
DTEND;TZID=America/New_York:20250723T160000
DTSTAMP:20260425T220830
CREATED:20250318T203012Z
LAST-MODIFIED:20250527T162406Z
UID:10003790-1753272000-1753286400@exploremartincounty.com
SUMMARY:Bailey Phelps Art Exhibition & Reception
DESCRIPTION:This art exhibition at the Martin County Arts Council Flatiron Gallery will take place from June 12th to July 24th. The opening reception on June 12th will be from 6:30 PM to 8 PM. \n \n 
URL:https://exploremartincounty.com/event/bailey-phelps-art-exhibition-reception-2/2025-07-23/
LOCATION:Martin County Arts Council – Flat Iron Gallery\, 124 Washington St\, Williamston\, NC\, 27892\, United States
END:VEVENT
BEGIN:VEVENT
DTSTART;TZID=America/New_York:20250723T130000
DTEND;TZID=America/New_York:20250723T150000
DTSTAMP:20260425T220830
CREATED:20250609T191427Z
LAST-MODIFIED:20250609T191427Z
UID:10004192-1753275600-1753282800@exploremartincounty.com
SUMMARY:NC Aquarium Event - Summer Reading Program
DESCRIPTION:Join Robersonville Public Library for a kids summer reading program with a lot of exciting events. This program is free and open to the public.
URL:https://exploremartincounty.com/event/nc-aquarium-event-summer-reading-program-2/
LOCATION:First Christian Church – Robersonville\, 126 S Main St\, Robersonville\, 27871\, United States
ORGANIZER;CN="Robersonville Public Library":MAILTO:dburkhart@bhmlib.org
END:VEVENT
BEGIN:VEVENT
DTSTART;TZID=America/New_York:20250723T140000
DTEND;TZID=America/New_York:20250723T160000
DTSTAMP:20260425T220830
CREATED:20250317T203242Z
LAST-MODIFIED:20250317T203242Z
UID:10003475-1753279200-1753286400@exploremartincounty.com
SUMMARY:Bingo - Everetts Ruritan Club
DESCRIPTION:Bingo is every Wednesday at 2 PM at the Everetts Ruritan Club building. Price is $1 per card. Prizes are small items.
URL:https://exploremartincounty.com/event/bingo-everetts-ruritan-club/2025-07-23/
LOCATION:Everetts Ruritan Club\, 205 Ayers St\, Williamston\, NC\, 27892\, United States
END:VEVENT
BEGIN:VEVENT
DTSTART;TZID=America/New_York:20250723T180000
DTEND;TZID=America/New_York:20250723T200000
DTSTAMP:20260425T220830
CREATED:20250630T194538Z
LAST-MODIFIED:20250630T194538Z
UID:10004282-1753293600-1753300800@exploremartincounty.com
SUMMARY:Game Night for Teens
DESCRIPTION:Grab your friends and join Martin Memorial Library for an evening of fun\, food\, and board games! Pizza will be served. Event is for teens\, ages 13 to 18.
URL:https://exploremartincounty.com/event/game-night-for-teens/
LOCATION:Martin Memorial Library\, 200 N. Smithwick St\, Williamston\, NC\, 27892\, United States
END:VEVENT
BEGIN:VEVENT
DTSTART;TZID=America/New_York:20250724T120000
DTEND;TZID=America/New_York:20250724T160000
DTSTAMP:20260425T220830
CREATED:20250318T203012Z
LAST-MODIFIED:20250527T162406Z
UID:10003791-1753358400-1753372800@exploremartincounty.com
SUMMARY:Bailey Phelps Art Exhibition & Reception
DESCRIPTION:This art exhibition at the Martin County Arts Council Flatiron Gallery will take place from June 12th to July 24th. The opening reception on June 12th will be from 6:30 PM to 8 PM. \n \n 
URL:https://exploremartincounty.com/event/bailey-phelps-art-exhibition-reception-2/2025-07-24/
LOCATION:Martin County Arts Council – Flat Iron Gallery\, 124 Washington St\, Williamston\, NC\, 27892\, United States
END:VEVENT
BEGIN:VEVENT
DTSTART;TZID=America/New_York:20250724T173000
DTEND;TZID=America/New_York:20250724T213000
DTSTAMP:20260425T220830
CREATED:20250325T204517Z
LAST-MODIFIED:20250904T213658Z
UID:10003945-1753378200-1753392600@exploremartincounty.com
SUMMARY:Thursday Night Doubles - Farm Life Disc Golf
DESCRIPTION:Thursday night doubles run in spring\, summer\, and fall. Start time is 5:30 PM\, except for the summer months\, as the days get longer\, wherein 6 PM will be the new start time. \n  \nThis beautiful course is a tightly wooded course with swamps and a pond. Alt. pin placements make for a fun and challenging time. Situated on a private family farm\, so please call the owner before playing. The phone number is also posted on a sign near the 1st tee. \n  \nDebbie Roberson\nPhone: 252-217-9738
URL:https://exploremartincounty.com/event/thursday-night-doubles-farm-life-disc-golf/2025-07-24/
LOCATION:Farm Life Disc Golf\, 1233 Kent Roberson Rd.\, Williamston\, NC\, 27892\, United States
END:VEVENT
BEGIN:VEVENT
DTSTART;TZID=America/New_York:20250725T080000
DTEND;TZID=America/New_York:20250725T190000
DTSTAMP:20260425T220830
CREATED:20250520T161834Z
LAST-MODIFIED:20250721T145927Z
UID:10004121-1753430400-1753470000@exploremartincounty.com
SUMMARY:Little River Circuit Horse Show
DESCRIPTION:It’s the 50th Anniversary of the Little River Circuit Horse Show! The NCQHA-District 4 “Little River Circuit” Horse Show will take place July 25th – 27th\, 2025\, at the Senator Bob Martin Eastern Agricultural Center. Enjoy watching riders compete in exciting classes. No admission will be charged to the public. Please visit www.Martinganza.com for more information or call (919) 894-0600. Show times are Friday: 8 AM to 7 PM\, Saturday: 8 AM to 8 PM\, and Sunday: 8 AM to 5 PM. \n  \nClasses of many disciplines are available. There will be American Quarter Horse Association classes and Stock Horse classes for exhibitors who are not members of AQHA or do not have a registered Quarter Horse. Free to spectators. The flat Fee of $395 includes a stall\, 3 shavings\, and classes. Any money classes are separate fees. More info HERE. \n  \nNCQHA District IV members: Scholarship savings will be offered to youth members again this year. Over $1200 was saved in 2024! \n  \nLittle River Stalls and Hookup reservations are now open. Camper Hookups are mail-in. For confirmation stalls can be paid on the Martinganza AQHA Show and Futurity website if you would like to pay for stalls early. \n  \nPatterns are now posted on our Martinganza website by day for you to see! Click here –> https://martinganza.com/patterns/ \n  \nSomeone will be the winner of a wonderful SWFT scooter (pictured below) at this event. Sheet and show information are at www.martinganza.com/event. \n  \n \n  \n \n  \n \n \n 
URL:https://exploremartincounty.com/event/little-river-circuit-horse-show-2/2025-07-25/
LOCATION:Senator Bob Martin Eastern Agricultural Center\, 2900 NC-125\, Williamston\, NC\, 27892\, United States
ORGANIZER;CN="Martinganza":MAILTO:showsec57@gmail.com
END:VEVENT
BEGIN:VEVENT
DTSTART;TZID=America/New_York:20250725T180000
DTEND;TZID=America/New_York:20250725T200000
DTSTAMP:20260425T220830
CREATED:20250710T185616Z
LAST-MODIFIED:20250721T153131Z
UID:10004320-1753466400-1753473600@exploremartincounty.com
SUMMARY:Revival Worship Event
DESCRIPTION:A revival & worship community event is coming to Martin County Schools this July! Invite your friends\, family\, and neighbors to join in fellowship. \n 
URL:https://exploremartincounty.com/event/revival-worship-event/
LOCATION:Martin County Auditorium\, 1260 Godwin Ave\, Williamston\, NC\, 27892\, United States
ORGANIZER;CN="Martin County Schools":MAILTO:sstalls@martin.k12.nc.us
END:VEVENT
BEGIN:VEVENT
DTSTART;TZID=America/New_York:20250725T180000
DTEND;TZID=America/New_York:20250725T220000
DTSTAMP:20260425T220830
CREATED:20250722T143051Z
LAST-MODIFIED:20250722T143051Z
UID:10004340-1753466400-1753480800@exploremartincounty.com
SUMMARY:Game Night at The Snack Shack
DESCRIPTION:Game Night is back this Friday night at the Snack Shack from 6 PM to10 PM! All ages are welcome. Come out on Friday night and get your game on! Do you like board games and video games? The Snack Shack has both\, including game systems from Atari to PS5! Cool off with their lemonades or orangeades for only $3. Scoops of ice cream are only $2. \n \n  \n 
URL:https://exploremartincounty.com/event/game-night-at-the-snack-shack/
LOCATION:The Snack Shack\, 101 B Main St\, Williamston\, NC\, 27892\, United States
END:VEVENT
END:VCALENDAR