BEGIN:VCALENDAR
VERSION:2.0
PRODID:-//Explore Martin County NC - ECPv6.14.2//NONSGML v1.0//EN
CALSCALE:GREGORIAN
METHOD:PUBLISH
X-WR-CALNAME:Explore Martin County NC
X-ORIGINAL-URL:https://exploremartincounty.com
X-WR-CALDESC:Events for Explore Martin County NC
REFRESH-INTERVAL;VALUE=DURATION:PT1H
X-Robots-Tag:noindex
X-PUBLISHED-TTL:PT1H
BEGIN:VTIMEZONE
TZID:America/New_York
BEGIN:DAYLIGHT
TZOFFSETFROM:-0500
TZOFFSETTO:-0400
TZNAME:EDT
DTSTART:20260308T070000
END:DAYLIGHT
BEGIN:STANDARD
TZOFFSETFROM:-0400
TZOFFSETTO:-0500
TZNAME:EST
DTSTART:20261101T060000
END:STANDARD
END:VTIMEZONE
BEGIN:VEVENT
DTSTART;TZID=America/New_York:20260425T080000
DTEND;TZID=America/New_York:20260425T130000
DTSTAMP:20260425T074337
CREATED:20260416T164634Z
LAST-MODIFIED:20260416T164634Z
UID:10006291-1777104000-1777122000@exploremartincounty.com
SUMMARY:Robersonville Community Yard Sale
DESCRIPTION:Saturday\, April 25th\, 2026\, there will be a Community Yard Sale from 8 AM to 1 PM in Robersonville\, NC\, at the Old Dollar General Parking Lot. Come out and see what treasures you can find!\n 
URL:https://exploremartincounty.com/event/robersonville-community-yard-sale-2/
LOCATION:Dollar General Robersonville\, 703 N Main St\, Robersonville\, NC\, 27871\, United States
END:VEVENT
BEGIN:VEVENT
DTSTART;TZID=America/New_York:20260425T080000
DTEND;TZID=America/New_York:20260425T180000
DTSTAMP:20260425T074337
CREATED:20260325T190752Z
LAST-MODIFIED:20260325T190752Z
UID:10006260-1777104000-1777140000@exploremartincounty.com
SUMMARY:Just Horsin' Round Open Horse Show
DESCRIPTION:The ag center is welcoming in April’s Just Horsin’ Round Open Horse Show on April 25th – 26th\, 2026. Spectators are free of admission. Please be sure to bring your family and friends to enjoy watching the riders who put in their hard work and dedication. For more information\, please visit www.justhorsinround.com or email btew2@nc.rr.com. \n  \n \n  \n \n 
URL:https://exploremartincounty.com/event/just-horsin-round-open-horse-show-4/2026-04-25/
LOCATION:Senator Bob Martin Eastern Agricultural Center\, 2900 NC-125\, Williamston\, NC\, 27892\, United States
ORGANIZER;CN="Just Horsin' 'Round":MAILTO:btew2@nc.rr.com
END:VEVENT
BEGIN:VEVENT
DTSTART;TZID=America/New_York:20260425T100000
DTEND;TZID=America/New_York:20260425T210000
DTSTAMP:20260425T074338
CREATED:20260422T165153Z
LAST-MODIFIED:20260422T165153Z
UID:10006308-1777111200-1777150800@exploremartincounty.com
SUMMARY:Williamston Parks & Recreation Softball Season Opening Day
DESCRIPTION:Opening Day is almost here! Williamston Parks & Recreation is excited to kick off the 2026 Softball Season on Saturday\, April 25th\, at 10 AM. All teams should arrive by 9:30 AM. There’s a full day of softball ahead with 8U and 12U teams\, and each team will be playing two games—so come out and enjoy a great day at the fields! To start the season\, Coach William Johnson will throw out the ceremonial first pitch. Coach Johnson has dedicated decades to the youth of Martin County through coaching\, teaching\, serving on the Parks & Recreation board\, and working within the department. The community is proud to recognize his commitment and impact in the region. Sno-Time Shaved Ice will be on site for Opening Day\, and the concession stand will be serving sausage dogs\, hot dogs\, pizza\, candy\, and drinks. Come out\, support the teams\, and help celebrate Opening Day!\n\n 
URL:https://exploremartincounty.com/event/williamston-parks-recreation-softball-season-opening-day/
LOCATION:Godwin-Coppage Park\, 1073 Tyner Rd.\, Williamston\, NC\, 27892\, United States
ORGANIZER;CN="Williamston Parks & Recreation":MAILTO:allenoverby@townofwilliamston.com
END:VEVENT
BEGIN:VEVENT
DTSTART;TZID=America/New_York:20260425T190000
DTEND;TZID=America/New_York:20260425T220000
DTSTAMP:20260425T074338
CREATED:20260213T204233Z
LAST-MODIFIED:20260213T204233Z
UID:10006176-1777143600-1777154400@exploremartincounty.com
SUMMARY:Next Stop Comedy at Hook Hand Brewery\, Taproom\, & Art Gallery
DESCRIPTION:Comedy Night\, Saturday\, April 25th! Next Stop Comedy brings the best comedians\, with new lineups every time\, straight to your neighborhood for an unforgettable night of laughter! Shows feature top-tier talent from across the country\, delivering high-energy performances in intimate\, local venues. Whether you need an exciting date night\, you’re a die-hard comedy fan\, or you’re just looking for a fun night out\, Next Stop Comedy guarantees big laughs\, great vibes\, and an experience you won’t want to miss. More info and tickets HERE. \n 
URL:https://exploremartincounty.com/event/next-stop-comedy-at-hook-hand-brewery-taproom-art-gallery-3/
LOCATION:Hook Hand Brewery\, Taproom\, & Art Gallery\, 106 Railroad St\, Williamston\, NC\, 27892\, United States
ORGANIZER;CN="Next Stop Comedy":MAILTO:info@nextstopcomedy.com
END:VEVENT
END:VCALENDAR