BEGIN:VCALENDAR
VERSION:2.0
PRODID:-//Explore Martin County NC - ECPv6.14.2//NONSGML v1.0//EN
CALSCALE:GREGORIAN
METHOD:PUBLISH
X-ORIGINAL-URL:https://exploremartincounty.com
X-WR-CALDESC:Events for Explore Martin County NC
REFRESH-INTERVAL;VALUE=DURATION:PT1H
X-Robots-Tag:noindex
X-PUBLISHED-TTL:PT1H
BEGIN:VTIMEZONE
TZID:America/New_York
BEGIN:DAYLIGHT
TZOFFSETFROM:-0500
TZOFFSETTO:-0400
TZNAME:EDT
DTSTART:20250309T070000
END:DAYLIGHT
BEGIN:STANDARD
TZOFFSETFROM:-0400
TZOFFSETTO:-0500
TZNAME:EST
DTSTART:20251102T060000
END:STANDARD
END:VTIMEZONE
BEGIN:VTIMEZONE
TZID:UTC
BEGIN:STANDARD
TZOFFSETFROM:+0000
TZOFFSETTO:+0000
TZNAME:UTC
DTSTART:20250101T000000
END:STANDARD
END:VTIMEZONE
BEGIN:VEVENT
DTSTART;TZID=America/New_York:20251108T090000
DTEND;TZID=America/New_York:20251108T130000
DTSTAMP:20260423T131631
CREATED:20251021T150930Z
LAST-MODIFIED:20251021T150930Z
UID:10005537-1762592400-1762606800@exploremartincounty.com
SUMMARY:Documenting History - Community Scanning Day
DESCRIPTION:This community event is open to all! Gather those documents you want to preserve. Get them digitized for FREE! \n 
URL:https://exploremartincounty.com/event/documenting-history-community-scanning-day/
LOCATION:E.J. Hayes Alumni Center\, 705 Washington Street\, Williamston\, NC\, 27892\, United States
END:VEVENT
BEGIN:VEVENT
DTSTART;TZID=UTC:20251108T110000
DTEND;TZID=UTC:20251108T120000
DTSTAMP:20260423T131631
CREATED:20251103T172742Z
LAST-MODIFIED:20251104T025637Z
UID:10005582-1762599600-1762603200@exploremartincounty.com
SUMMARY:Oak City Veterans Day Service
DESCRIPTION:Join the Town of Oak City at the Fire Department on Saturday\, November 8th\, for a service honoring Veterans. The Oak City-Goose Nest Township Museum will be open that day\, 12 PM to 2 PM\, for a special exhibit honoring our Veterans. \n 
URL:https://exploremartincounty.com/event/veterans-day-service-2/
LOCATION:Town of Oak City Fire Department\, 101 E Commerce St\, Oak City\, NC\, 27857\, United States
ORGANIZER;CN="Town of Oak City":MAILTO:oakcity204@embarqmail.com
END:VEVENT
BEGIN:VEVENT
DTSTART;TZID=UTC:20251108T120000
DTEND;TZID=UTC:20251108T140000
DTSTAMP:20260423T131631
CREATED:20251103T173207Z
LAST-MODIFIED:20251104T025724Z
UID:10005583-1762603200-1762610400@exploremartincounty.com
SUMMARY:Oak City Veterans Day Exhibit
DESCRIPTION:The Oak City-Goose Nest Township Museum invites you to a special exhibit honoring our Veterans on Saturday\, November 8th\, from 12 PM to 2 PM. Before that\, join the Town of Oak City at the Fire Department from 11 AM to 12 PM\, for a service honoring Veterans. \n 
URL:https://exploremartincounty.com/event/veterans-day-service-3/
LOCATION:Oak City / Goose Nest Township Museum\, 106 E Commerce St\, Oak City\, 27857\, United States
ORGANIZER;CN="Town of Oak City":MAILTO:oakcity204@embarqmail.com
END:VEVENT
BEGIN:VEVENT
DTSTART;TZID=America/New_York:20251108T130000
DTEND;TZID=America/New_York:20251108T150000
DTSTAMP:20260423T131631
CREATED:20250411T181853Z
LAST-MODIFIED:20250411T181853Z
UID:10004016-1762606800-1762614000@exploremartincounty.com
SUMMARY:Healing Through Art
DESCRIPTION:Join AmVets Post 227\, at Healing Through Art\, a support group at Martin County Arts Council\, every 2nd and 4th Saturday March through December. Who knew art could be such a comforting experience?! All are welcome.
URL:https://exploremartincounty.com/event/healing-through-art/2025-11-08/
LOCATION:Martin County Arts Council – Flat Iron Gallery\, 124 Washington St\, Williamston\, NC\, 27892\, United States
ORGANIZER;CN="AmVets Post 227":MAILTO:cdspinney@hotmail.com
END:VEVENT
BEGIN:VEVENT
DTSTART;TZID=America/New_York:20251108T140000
DTEND;TZID=America/New_York:20251108T160000
DTSTAMP:20260423T131631
CREATED:20251104T031635Z
LAST-MODIFIED:20251104T031635Z
UID:10005594-1762610400-1762617600@exploremartincounty.com
SUMMARY:Annual Fall Gathering
DESCRIPTION:The Rural Beacon Initiative invites everyone to an Annual Fall Festival on Friday\, November 8th at 2 PM in the Piney Woods Community! Bring your family and friends for an afternoon of good food\, music\, and games. Celebrate the harvest season and the growing network of farmers\, families\, and partners reimagining the future of Southern land stewardship.\n\n\n\n\n\n\nSaturday\, November 8th\n2 PM (stay as long as you’d like!)\n1918 Free Union Rd\, Jamesville\, NC 27846\n\n\n 
URL:https://exploremartincounty.com/event/annual-fall-gathering/
LOCATION:Rural Beacon Initiative\, 1918 Free Union Rd\, Jamesville\, NC\, 27846\, United States
END:VEVENT
BEGIN:VEVENT
DTSTART;TZID=America/New_York:20251108T173000
DTEND;TZID=America/New_York:20251108T235900
DTSTAMP:20260423T131631
CREATED:20250203T180929Z
LAST-MODIFIED:20251103T231609Z
UID:10005585-1762623000-1762646340@exploremartincounty.com
SUMMARY:Williamston Pro Rodeo by Revenge Roughstock Company
DESCRIPTION:Get ready for the rodeo and be sure to get those tickets in advance! You don’t want to miss this event\, taking place at the Senator Bob Martin Eastern Agricultural Center\, November 7th – 8th\, 2025. For more information\, please visit www.revengeroughstock.com. \n  \nThe Senator Bob Martin Eastern Agricultural Center proudly welcomes Revenge Roughstock and Rodeo Company to the coliseum. Gates will open at 5:30 PM and the show will begin at 7:00 PM\, each night. Bull riding\, bronc riding\, and barrel racing are the three main events featured at this rodeo. Advance tickets are $15 each. Children 5 and under receive free entry. Any remaining tickets will be available at the door for $20. Concessions will also be available. Tickets can be purchased at rrc.myticketfox.com. For all additional information\, call 540-521-3959. *The Senator Bob Martin Eastern Agricultural Center does not have tickets for sale at the facility.* \n  \n \n 
URL:https://exploremartincounty.com/event/williamston-pro-rodeo-by-revenge-roughstock-company-2/2025-11-08/
LOCATION:Senator Bob Martin Eastern Agricultural Center\, 2900 NC-125\, Williamston\, NC\, 27892\, United States
ORGANIZER;CN="Revenge Roughstock and Rodeo Company":MAILTO:revengeroughstock.rrc@gmail.com
END:VEVENT
BEGIN:VEVENT
DTSTART;TZID=America/New_York:20251108T210000
DTEND;TZID=America/New_York:20251108T235900
DTSTAMP:20260423T131631
CREATED:20251106T200518Z
LAST-MODIFIED:20251106T200518Z
UID:10005602-1762635600-1762646340@exploremartincounty.com
SUMMARY:Lonnie Britton Live at Southfork Sports Bar
DESCRIPTION:Head to Southfork Sports Bar & Grill on Saturday\, November 8th\, from 9 PM to midnight for a live performance by “The Outlaw” Lonnie Britton. \n  \nScreenshot
URL:https://exploremartincounty.com/event/lonnie-britton-live-at-southfork-sports-bar-2/
LOCATION:Southfork Sports Bar & Grill\, 16328 NC Highway 125\, Robersonville\, NC\, 27871\, United States
END:VEVENT
END:VCALENDAR