BEGIN:VCALENDAR
VERSION:2.0
PRODID:-//Explore Martin County NC - ECPv6.14.2//NONSGML v1.0//EN
CALSCALE:GREGORIAN
METHOD:PUBLISH
X-ORIGINAL-URL:https://exploremartincounty.com
X-WR-CALDESC:Events for Explore Martin County NC
REFRESH-INTERVAL;VALUE=DURATION:PT1H
X-Robots-Tag:noindex
X-PUBLISHED-TTL:PT1H
BEGIN:VTIMEZONE
TZID:America/New_York
BEGIN:DAYLIGHT
TZOFFSETFROM:-0500
TZOFFSETTO:-0400
TZNAME:EDT
DTSTART:20250309T070000
END:DAYLIGHT
BEGIN:STANDARD
TZOFFSETFROM:-0400
TZOFFSETTO:-0500
TZNAME:EST
DTSTART:20251102T060000
END:STANDARD
END:VTIMEZONE
BEGIN:VEVENT
DTSTART;TZID=America/New_York:20251029T103000
DTEND;TZID=America/New_York:20251029T123000
DTSTAMP:20260425T154606
CREATED:20251021T160700Z
LAST-MODIFIED:20251021T160700Z
UID:10005543-1761733800-1761741000@exploremartincounty.com
SUMMARY:Robersonville Public Library Halloween Party
DESCRIPTION:Join Robersonville Public Library staff for a fun\, all-ages Halloween Party on October 29th at 10:30 AM! Costumes are optional. \n 
URL:https://exploremartincounty.com/event/robersonville-public-library-halloween-party/
LOCATION:Robersonville Public Library\, 119 S Main St\, Robersonville\, NC\, 27871\, United States
END:VEVENT
BEGIN:VEVENT
DTSTART;TZID=America/New_York:20251029T120000
DTEND;TZID=America/New_York:20251029T160000
DTSTAMP:20260425T154606
CREATED:20250828T204535Z
LAST-MODIFIED:20250922T204843Z
UID:10005308-1761739200-1761753600@exploremartincounty.com
SUMMARY:Alicia Garver Art Exhibition & Reception
DESCRIPTION:The Alicia Garver Art Exhibition & Reception “A Little Bit of Everything” at the Martin County Arts Council Flatiron Gallery will be on display from September 26th to November 6th. The opening reception on September 26th will be from 6:30 PM to 8 PM. \n  \n \n 
URL:https://exploremartincounty.com/event/alicia-garver-art-exhibition-reception-2/2025-10-29/
LOCATION:Martin County Arts Council – Flat Iron Gallery\, 124 Washington St\, Williamston\, NC\, 27892\, United States
END:VEVENT
BEGIN:VEVENT
DTSTART;TZID=America/New_York:20251029T140000
DTEND;TZID=America/New_York:20251029T160000
DTSTAMP:20260425T154606
CREATED:20250317T203242Z
LAST-MODIFIED:20250317T203242Z
UID:10003489-1761746400-1761753600@exploremartincounty.com
SUMMARY:Bingo - Everetts Ruritan Club
DESCRIPTION:Bingo is every Wednesday at 2 PM at the Everetts Ruritan Club building. Price is $1 per card. Prizes are small items.
URL:https://exploremartincounty.com/event/bingo-everetts-ruritan-club/2025-10-29/
LOCATION:Everetts Ruritan Club\, 205 Ayers St\, Williamston\, NC\, 27892\, United States
END:VEVENT
BEGIN:VEVENT
DTSTART;TZID=America/New_York:20251029T180000
DTEND;TZID=America/New_York:20251029T200000
DTSTAMP:20260425T154606
CREATED:20251021T151604Z
LAST-MODIFIED:20251021T151604Z
UID:10005538-1761760800-1761768000@exploremartincounty.com
SUMMARY:Maple Grove Fall Festival
DESCRIPTION:Join the fun at Maple Grove Christian Church’s Fall Festival in Jamesville and Trunk or Treat on October 29th! Enjoy dinner\, activities for kids\, and more! \n 
URL:https://exploremartincounty.com/event/maple-grove-fall-festival/
LOCATION:Maple Grove Christian Church\, 1500 Maple Grove Church Rd\, Jamesville\, NC\, 27846\, United States
END:VEVENT
BEGIN:VEVENT
DTSTART;TZID=America/New_York:20251029T180000
DTEND;TZID=America/New_York:20251029T200000
DTSTAMP:20260425T154606
CREATED:20251021T152705Z
LAST-MODIFIED:20251023T160546Z
UID:10005539-1761760800-1761768000@exploremartincounty.com
SUMMARY:Bethany Trunk-or-Treat
DESCRIPTION:Save the date for this Trunk or Treat event at Bethany Pentecostal Holiness Church in Williamston\, NC! It will begin at 6 PM with hot dogs and s’mores. Trunk or Treat will begin at 7 PM! \n 
URL:https://exploremartincounty.com/event/bethany-trunk-or-treat/
LOCATION:Bethany Pentecostal Holiness Church\, 1248 Tyner Rd\, Williamston\, NC\, 27892\, United States
END:VEVENT
BEGIN:VEVENT
DTSTART;TZID=America/New_York:20251029T180000
DTEND;TZID=America/New_York:20251029T203000
DTSTAMP:20260425T154606
CREATED:20251023T205652Z
LAST-MODIFIED:20251023T205652Z
UID:10005561-1761760800-1761769800@exploremartincounty.com
SUMMARY:Williamston First PH Church Fall Festival
DESCRIPTION:Come out and join Williamston First Pentecostal Church for their Fall Festival\, October 29th at 6 PM! There will be games\, food\, and a trunk-or-treat! \n 
URL:https://exploremartincounty.com/event/williamston-first-ph-church-fall-festival/
LOCATION:Williamston First Pentecostal Holiness Church\, 1000 N Haughton St\, Williamston\, NC\, 27892\, United States
END:VEVENT
END:VCALENDAR