BEGIN:VCALENDAR
VERSION:2.0
PRODID:-//Explore Martin County NC - ECPv6.14.2//NONSGML v1.0//EN
CALSCALE:GREGORIAN
METHOD:PUBLISH
X-ORIGINAL-URL:https://exploremartincounty.com
X-WR-CALDESC:Events for Explore Martin County NC
REFRESH-INTERVAL;VALUE=DURATION:PT1H
X-Robots-Tag:noindex
X-PUBLISHED-TTL:PT1H
BEGIN:VTIMEZONE
TZID:America/New_York
BEGIN:DAYLIGHT
TZOFFSETFROM:-0500
TZOFFSETTO:-0400
TZNAME:EDT
DTSTART:20250309T070000
END:DAYLIGHT
BEGIN:STANDARD
TZOFFSETFROM:-0400
TZOFFSETTO:-0500
TZNAME:EST
DTSTART:20251102T060000
END:STANDARD
END:VTIMEZONE
BEGIN:VEVENT
DTSTART;TZID=America/New_York:20251026T070000
DTEND;TZID=America/New_York:20251026T210000
DTSTAMP:20260425T154724
CREATED:20250423T183702Z
LAST-MODIFIED:20251021T162223Z
UID:10005547-1761462000-1761512400@exploremartincounty.com
SUMMARY:SERHA Fall Spooktacular Horse Show
DESCRIPTION:October 23rd to 26th\, Senator Bob Martin Eastern Agricultural Center will be hosting the SERHA Fall Spooktacular Horse Show. Show times are approximately 7:00 am – 9:00 pm each day. Admission is free for spectators. For details\, please visit www.serha.org or call (919) 260-1228. \n  \n \n 
URL:https://exploremartincounty.com/event/serha-fall-spooktacular-horse-show-2/2025-10-26/
LOCATION:Senator Bob Martin Eastern Agricultural Center\, 2900 NC-125\, Williamston\, NC\, 27892\, United States
ORGANIZER;CN="SERHA":MAILTO:info@serha.org
END:VEVENT
BEGIN:VEVENT
DTSTART;TZID=America/New_York:20251026T100000
DTEND;TZID=America/New_York:20251026T160000
DTSTAMP:20260425T154724
CREATED:20250407T194959Z
LAST-MODIFIED:20250407T194959Z
UID:10003990-1761472800-1761494400@exploremartincounty.com
SUMMARY:Annual Quilt Show - Quilt Trails of the Tar & Roanoke Rivers
DESCRIPTION:Save the date! The Annual Quilt Show in Louisburg\, NC is not just for quilters\, it’s for people who enjoy the fiber arts and seeing where the quilts of our grandmothers have evolved. More info to come…
URL:https://exploremartincounty.com/event/annual-quilt-show-quilt-trails-of-the-tar-roanoke-rivers/2025-10-26/
LOCATION:Historic Person Place\, 605 North Main St\, Louisburg\, NC\, 27549\, United States
ORGANIZER;CN="Quilt Trails of the Tar & Roanoke Rivers":MAILTO:admin@quilttrailsenc.org
END:VEVENT
BEGIN:VEVENT
DTSTART;TZID=America/New_York:20251026T140000
DTEND;TZID=America/New_York:20251026T160000
DTSTAMP:20260425T154724
CREATED:20251003T201357Z
LAST-MODIFIED:20251021T155458Z
UID:10005429-1761487200-1761494400@exploremartincounty.com
SUMMARY:Jewelry-Making Class
DESCRIPTION:The Martin County Arts Council is hosting a jewelry-making class on Sunday\, October 6th. Get crafty and make jewelry for you to wear and/or give to your loved ones for the holidays! \n  \n \n 
URL:https://exploremartincounty.com/event/jewelry-making-class/
LOCATION:Martin County Arts Council\, 124 Washington St.\, Williamston\, NC\, 27892\, United States
END:VEVENT
BEGIN:VEVENT
DTSTART;TZID=America/New_York:20251026T150000
DTEND;TZID=America/New_York:20251026T220000
DTSTAMP:20260425T154724
CREATED:20251003T200935Z
LAST-MODIFIED:20251003T200935Z
UID:10005427-1761490800-1761516000@exploremartincounty.com
SUMMARY:Halloween at Deadwood
DESCRIPTION:Haunted House and Ghost Train Rides! Prepare to have your wits scared out of you! We promise screams and laughter. What more could you ask for? Every Friday\, Saturday\, and Sunday starting Friday\, October 3rd\, ending November 2nd. \n  \nHalloween Lite is from 5 PM to 7 PM on Fridays & Saturdays. Sunday hours are 3 PM to 8 PM. \n$12.50 for adults\n$10 for young souls under 12 years \n  \nHalloween Scary is from 7:30 PM until (we run until everyone in line has gone)\, Friday and Saturday nights only. \n$25 for adults\n$15 for souls under 12 years\n$10 for souls under 8 years. \n 
URL:https://exploremartincounty.com/event/halloween-at-deadwood-3/2025-10-26/
LOCATION:Deadwood\, 2302 Ed’s Grocery Rd\, Williamston\, NC\, 27892\, United States
END:VEVENT
BEGIN:VEVENT
DTSTART;TZID=America/New_York:20251026T163000
DTEND;TZID=America/New_York:20251026T180000
DTSTAMP:20260425T154724
CREATED:20251023T203912Z
LAST-MODIFIED:20251023T203912Z
UID:10005557-1761496200-1761501600@exploremartincounty.com
SUMMARY:FCC Trunk-or-Treat
DESCRIPTION:Head to First Christian Church in Williamston for a Trunk or Treat event on Sunday\, October 26th. Happy Halloween! \n 
URL:https://exploremartincounty.com/event/fcc-trunk-or-treat/
LOCATION:First Christian Church\, 101 E Liberty St\, Williamston\, NC\, 27892\, United States
END:VEVENT
BEGIN:VEVENT
DTSTART;TZID=America/New_York:20251026T170000
DTEND;TZID=America/New_York:20251026T190000
DTSTAMP:20260425T154724
CREATED:20251020T172829Z
LAST-MODIFIED:20251020T172829Z
UID:10005529-1761498000-1761505200@exploremartincounty.com
SUMMARY:Family Fall Festival
DESCRIPTION:Community Christian Church in Williamston is hosting a Family Fall Festival on Sunday\, October 26th! Don’t miss out on this fun event for all ages. See you there! \n 
URL:https://exploremartincounty.com/event/family-fall-festival/
LOCATION:Community Christian Church\, 22184 NC-123\, Williamston\, NC\, 27892\, United States
END:VEVENT
END:VCALENDAR