BEGIN:VCALENDAR
VERSION:2.0
PRODID:-//Explore Martin County NC - ECPv6.14.2//NONSGML v1.0//EN
CALSCALE:GREGORIAN
METHOD:PUBLISH
X-WR-CALNAME:Explore Martin County NC
X-ORIGINAL-URL:https://exploremartincounty.com
X-WR-CALDESC:Events for Explore Martin County NC
REFRESH-INTERVAL;VALUE=DURATION:PT1H
X-Robots-Tag:noindex
X-PUBLISHED-TTL:PT1H
BEGIN:VTIMEZONE
TZID:America/New_York
BEGIN:DAYLIGHT
TZOFFSETFROM:-0500
TZOFFSETTO:-0400
TZNAME:EDT
DTSTART:20250309T070000
END:DAYLIGHT
BEGIN:STANDARD
TZOFFSETFROM:-0400
TZOFFSETTO:-0500
TZNAME:EST
DTSTART:20251102T060000
END:STANDARD
END:VTIMEZONE
BEGIN:VEVENT
DTSTART;TZID=America/New_York:20251024T070000
DTEND;TZID=America/New_York:20251024T210000
DTSTAMP:20260425T154325
CREATED:20250423T183702Z
LAST-MODIFIED:20251021T162223Z
UID:10005545-1761289200-1761339600@exploremartincounty.com
SUMMARY:SERHA Fall Spooktacular Horse Show
DESCRIPTION:October 23rd to 26th\, Senator Bob Martin Eastern Agricultural Center will be hosting the SERHA Fall Spooktacular Horse Show. Show times are approximately 7:00 am – 9:00 pm each day. Admission is free for spectators. For details\, please visit www.serha.org or call (919) 260-1228. \n  \n \n 
URL:https://exploremartincounty.com/event/serha-fall-spooktacular-horse-show-2/2025-10-24/
LOCATION:Senator Bob Martin Eastern Agricultural Center\, 2900 NC-125\, Williamston\, NC\, 27892\, United States
ORGANIZER;CN="SERHA":MAILTO:info@serha.org
END:VEVENT
BEGIN:VEVENT
DTSTART;TZID=America/New_York:20251024T090000
DTEND;TZID=America/New_York:20251024T140000
DTSTAMP:20260425T154325
CREATED:20250908T201429Z
LAST-MODIFIED:20250908T201429Z
UID:10005344-1761296400-1761314400@exploremartincounty.com
SUMMARY:Special Olympics Fall Festival
DESCRIPTION:Head to Godwin-Coppage Park for a fall festival hosted by Special Olympics of Martin County on October 24th. Please save the date for this festive event! \n 
URL:https://exploremartincounty.com/event/special-olympics-fall-festival/
LOCATION:Godwin-Coppage Park\, 1073 Tyner Rd.\, Williamston\, NC\, 27892\, United States
ORGANIZER;CN="Special Olympics Martin County NC":MAILTO:martin@sonc.net
END:VEVENT
BEGIN:VEVENT
DTSTART;TZID=America/New_York:20251024T103000
DTEND;TZID=America/New_York:20251024T113000
DTSTAMP:20260425T154325
CREATED:20251007T173738Z
LAST-MODIFIED:20251021T160400Z
UID:10005475-1761301800-1761305400@exploremartincounty.com
SUMMARY:Storytime Robersonville
DESCRIPTION:Storytime at the Robersonville Public Library takes place on Wednesdays at 10:30 AM and Fridays at 10:30 AM / 3:30 PM. Perfect for all ages! Children must be accompanied by a caregiver. No registration needed — just drop in and join the fun! \n\n\n  \n \n  \n  \n 
URL:https://exploremartincounty.com/event/storytime-robersonville-2/2025-10-24/1/
LOCATION:Robersonville Public Library\, 119 S Main St\, Robersonville\, NC\, 27871\, United States
END:VEVENT
BEGIN:VEVENT
DTSTART;TZID=America/New_York:20251024T120000
DTEND;TZID=America/New_York:20251024T160000
DTSTAMP:20260425T154325
CREATED:20250828T204535Z
LAST-MODIFIED:20250922T204843Z
UID:10005306-1761307200-1761321600@exploremartincounty.com
SUMMARY:Alicia Garver Art Exhibition & Reception
DESCRIPTION:The Alicia Garver Art Exhibition & Reception “A Little Bit of Everything” at the Martin County Arts Council Flatiron Gallery will be on display from September 26th to November 6th. The opening reception on September 26th will be from 6:30 PM to 8 PM. \n  \n \n 
URL:https://exploremartincounty.com/event/alicia-garver-art-exhibition-reception-2/2025-10-24/
LOCATION:Martin County Arts Council – Flat Iron Gallery\, 124 Washington St\, Williamston\, NC\, 27892\, United States
END:VEVENT
BEGIN:VEVENT
DTSTART;TZID=America/New_York:20251024T153000
DTEND;TZID=America/New_York:20251024T163000
DTSTAMP:20260425T154325
CREATED:20251007T173738Z
LAST-MODIFIED:20251021T160400Z
UID:10005476-1761319800-1761323400@exploremartincounty.com
SUMMARY:Storytime Robersonville
DESCRIPTION:Storytime at the Robersonville Public Library takes place on Wednesdays at 10:30 AM and Fridays at 10:30 AM / 3:30 PM. Perfect for all ages! Children must be accompanied by a caregiver. No registration needed — just drop in and join the fun! \n\n\n  \n \n  \n  \n 
URL:https://exploremartincounty.com/event/storytime-robersonville-2/2025-10-24/2/
LOCATION:Robersonville Public Library\, 119 S Main St\, Robersonville\, NC\, 27871\, United States
END:VEVENT
BEGIN:VEVENT
DTSTART;TZID=America/New_York:20251024T160000
DTEND;TZID=America/New_York:20251024T220000
DTSTAMP:20260425T154325
CREATED:20251006T203859Z
LAST-MODIFIED:20251006T203859Z
UID:10005438-1761321600-1761343200@exploremartincounty.com
SUMMARY:Classic Halloween Movie Night
DESCRIPTION:Enjoy a classic Halloween movie night with friends! Hook Hand Brewery\, Taproom\, & Art Gallery will be showing a surprise film on the following dates: October 3rd\, 10th\, 17th\, and 24th. \n  \n \n 
URL:https://exploremartincounty.com/event/classic-halloween-movie-night-2/2025-10-24/
LOCATION:Hook Hand Brewery\, Taproom\, & Art Gallery\, 106 Railroad St\, Williamston\, NC\, 27892\, United States
END:VEVENT
BEGIN:VEVENT
DTSTART;TZID=America/New_York:20251024T170000
DTEND;TZID=America/New_York:20251024T193000
DTSTAMP:20260425T154325
CREATED:20251020T172058Z
LAST-MODIFIED:20251020T172058Z
UID:10005528-1761325200-1761334200@exploremartincounty.com
SUMMARY:Pancake Supper & Silent Auction
DESCRIPTION:Friday night\, October 24th\, come and enjoy a pancake and sausage dinner! There will be a silent auction as well. All proceeds go to support the Appalachian Christmas Outreach Project.\n 
URL:https://exploremartincounty.com/event/pancake-supper-silent-auction/
LOCATION:Piney Grove Baptist Church\, 2925 Piney Grove Church Rd\, Williamston\, NC\, 27892\, United States
END:VEVENT
BEGIN:VEVENT
DTSTART;TZID=America/New_York:20251024T170000
DTEND;TZID=America/New_York:20251024T213000
DTSTAMP:20260425T154325
CREATED:20251006T202121Z
LAST-MODIFIED:20251006T202121Z
UID:10005432-1761325200-1761341400@exploremartincounty.com
SUMMARY:Halloween Cocktail Party - Members-Only
DESCRIPTION:Scary season is upon us! Friday\, October 24th\, Roanoke Country Club will host a Members-Only Halloween Cocktail Party from 5 PM to 9:30 PM. The dining room will be OPEN with a limited menu. Appetizers\, music\, & beverages will be served. Local musician\, Jamie Bryant\, is performing at 7 PM. Please bring candy for the kids! \n 
URL:https://exploremartincounty.com/event/halloween-cocktail-party-members-only/
LOCATION:Roanoke Country Club\, 1380 Fairway Dr\, Williamston\, NC\, 27892\, United States
END:VEVENT
BEGIN:VEVENT
DTSTART;TZID=America/New_York:20251024T170000
DTEND;TZID=America/New_York:20251024T235900
DTSTAMP:20260425T154325
CREATED:20251003T200821Z
LAST-MODIFIED:20251003T200821Z
UID:10005410-1761325200-1761350340@exploremartincounty.com
SUMMARY:Halloween at Deadwood
DESCRIPTION:Haunted House and Ghost Train Rides! Prepare to have your wits scared out of you! We promise screams and laughter. What more could you ask for? Every Friday\, Saturday\, and Sunday starting Friday\, October 3rd\, ending November 2nd. \n  \nHalloween Lite is from 5 PM to 7 PM on Fridays & Saturdays. Sunday hours are 3 PM to 8 PM. \n$12.50 for adults\n$10 for young souls under 12 years \n  \nHalloween Scary is from 7:30 PM until (we run until everyone in line has gone)\, Friday and Saturday nights only. \n$25 for adults\n$15 for souls under 12 years\n$10 for souls under 8 years. \n 
URL:https://exploremartincounty.com/event/halloween-at-deadwood-2/2025-10-24/
LOCATION:Deadwood\, 2302 Ed’s Grocery Rd\, Williamston\, NC\, 27892\, United States
END:VEVENT
BEGIN:VEVENT
DTSTART;TZID=America/New_York:20251024T180000
DTEND;TZID=America/New_York:20251024T220000
DTSTAMP:20260425T154325
CREATED:20251023T164743Z
LAST-MODIFIED:20251023T164743Z
UID:10005556-1761328800-1761343200@exploremartincounty.com
SUMMARY:Friday Night Karaoke - The Tipsy Palate
DESCRIPTION:Come one\, come all to sing & laugh! On Friday\, enjoy karaoke with DJ Ronnie P at the Tipsy Palate Restaurant & Bar. \n 
URL:https://exploremartincounty.com/event/friday-night-karaoke-the-tipsy-palate-3/
LOCATION:The Tipsy Palate Restaurant & Bar\, 705 N Main St\, Robersonville\, NC\, 27871\, United States
END:VEVENT
BEGIN:VEVENT
DTSTART;TZID=America/New_York:20251024T190000
DTEND;TZID=America/New_York:20251024T210000
DTSTAMP:20260425T154325
CREATED:20251023T163656Z
LAST-MODIFIED:20251125T202228Z
UID:10005551-1761332400-1761339600@exploremartincounty.com
SUMMARY:Annual Turkey Shoot
DESCRIPTION:Join the Jamesville community for the Annual Turkey Shoot Fundraiser! The first round begins at 7 PM. Enjoy food\, snacks\, and soft drinks. Come support a great cause and have a fun night out! \n 
URL:https://exploremartincounty.com/event/annual-turkey-shoot/2025-10-24/
LOCATION:Jamesville Little League Ballpark\, 1054 NC-171\, Jamesville\, 27846\, United States
END:VEVENT
BEGIN:VEVENT
DTSTART;TZID=America/New_York:20251024T190000
DTEND;TZID=America/New_York:20251024T230000
DTSTAMP:20260425T154325
CREATED:20251006T210747Z
LAST-MODIFIED:20251006T210747Z
UID:10005454-1761332400-1761346800@exploremartincounty.com
SUMMARY:Frightmore Academy Haunted House
DESCRIPTION:The 2025 Scary Season is upon us! Come learn a lesson in fear at Frightmore Academy! Get tickets here: app.hauntpay.com/events/FA25\n\nWhen:\nOct. 3rd & 4th\, 7:00pm-10:00pm\nOct. 10th & 11th\, 7:00pm-10:00pm\nOct. 17th & 18th\, 7:00pm-11:00pm\nOct. 24th & 25th\, 7:00pm-11:00pm\nOct. 31st\, 7:00pm-11:00pm\nNov. 1st \, 7:00pm-11:00pm\n\nWhere: 2115 Everetts Road\, Williamston\, NC 27892
URL:https://exploremartincounty.com/event/frightmore-academy-haunted-house-2/2025-10-24/
LOCATION:Frightmore Academy\, 2115 Everetts Rd\, Williamston\, NC\, 27892\, United States
END:VEVENT
BEGIN:VEVENT
DTSTART;TZID=America/New_York:20251024T210000
DTEND;TZID=America/New_York:20251024T235900
DTSTAMP:20260425T154325
CREATED:20251023T204327Z
LAST-MODIFIED:20251023T204327Z
UID:10005558-1761339600-1761350340@exploremartincounty.com
SUMMARY:Dusty Davis Live at Southfork Sports Bar
DESCRIPTION:Head to Southfork Sports Bar & Grill on Friday\, October 24th\, from 9 PM to midnight for a live performance by local artist Dusty Davis. \n  \nScreenshot
URL:https://exploremartincounty.com/event/dusty-davis-live-at-southfork-sports-bar/
LOCATION:Southfork Sports Bar & Grill\, 16328 NC Highway 125\, Robersonville\, NC\, 27871\, United States
END:VEVENT
END:VCALENDAR