BEGIN:VCALENDAR
VERSION:2.0
PRODID:-//Explore Martin County NC - ECPv6.14.2//NONSGML v1.0//EN
CALSCALE:GREGORIAN
METHOD:PUBLISH
X-WR-CALNAME:Explore Martin County NC
X-ORIGINAL-URL:https://exploremartincounty.com
X-WR-CALDESC:Events for Explore Martin County NC
REFRESH-INTERVAL;VALUE=DURATION:PT1H
X-Robots-Tag:noindex
X-PUBLISHED-TTL:PT1H
BEGIN:VTIMEZONE
TZID:America/New_York
BEGIN:DAYLIGHT
TZOFFSETFROM:-0500
TZOFFSETTO:-0400
TZNAME:EDT
DTSTART:20250309T070000
END:DAYLIGHT
BEGIN:STANDARD
TZOFFSETFROM:-0400
TZOFFSETTO:-0500
TZNAME:EST
DTSTART:20251102T060000
END:STANDARD
END:VTIMEZONE
BEGIN:VEVENT
DTSTART;TZID=America/New_York:20251020T180000
DTEND;TZID=America/New_York:20251020T200000
DTSTAMP:20260425T154326
CREATED:20251013T213046Z
LAST-MODIFIED:20251013T213046Z
UID:10005514-1760983200-1760990400@exploremartincounty.com
SUMMARY:Line Dancing Class
DESCRIPTION:Register now for Martin Community College’s Line Dancing Class\, taking place on Monday\, October 20th! Please call 252-789-0248 to register for this class or any of the interesting Continuing Ed. classes MCC has to offer! \n  \nIn this class\, you will be given step-by-step instructions in a group environment. Dance patterns are repeated so everyone learns at the same pace. You will join people who want to learn something new and get a great workout at the same time! This is a Personal Interest Course. \n  \n \n 
URL:https://exploremartincounty.com/event/line-dancing-class-4/
LOCATION:Martin Community College\, Kehukee Park Rd\, Williamston\, 27892\, United States
END:VEVENT
END:VCALENDAR