BEGIN:VCALENDAR
VERSION:2.0
PRODID:-//Explore Martin County NC - ECPv6.14.2//NONSGML v1.0//EN
CALSCALE:GREGORIAN
METHOD:PUBLISH
X-WR-CALNAME:Explore Martin County NC
X-ORIGINAL-URL:https://exploremartincounty.com
X-WR-CALDESC:Events for Explore Martin County NC
REFRESH-INTERVAL;VALUE=DURATION:PT1H
X-Robots-Tag:noindex
X-PUBLISHED-TTL:PT1H
BEGIN:VTIMEZONE
TZID:America/New_York
BEGIN:DAYLIGHT
TZOFFSETFROM:-0500
TZOFFSETTO:-0400
TZNAME:EDT
DTSTART:20250309T070000
END:DAYLIGHT
BEGIN:STANDARD
TZOFFSETFROM:-0400
TZOFFSETTO:-0500
TZNAME:EST
DTSTART:20251102T060000
END:STANDARD
END:VTIMEZONE
BEGIN:VEVENT
DTSTART;TZID=America/New_York:20251019T070000
DTEND;TZID=America/New_York:20251019T235900
DTSTAMP:20260425T154326
CREATED:20250521T173053Z
LAST-MODIFIED:20251002T214458Z
UID:10004145-1760857200-1760918340@exploremartincounty.com
SUMMARY:NCHJA “C” Horse Show
DESCRIPTION:The NCHJA “C” Horse Show will take place at the Senator Bob Martin Eastern Agricultural Center\, October 18th – 19th\, 2025. This show will be Halloween-themed\, so get festive and feel free to wear a costume! For more information\, please visit www.williamstonhunterccircuit.com. \n  \n \n  \n \n  \n \n 
URL:https://exploremartincounty.com/event/nchja-c-horse-show-12/2025-10-19/
LOCATION:Senator Bob Martin Eastern Agricultural Center\, 2900 NC-125\, Williamston\, NC\, 27892\, United States
ORGANIZER;CN="Williamston Hunter 'C' Circuit":MAILTO:williamstonhuntercircuit@gmail.com
END:VEVENT
BEGIN:VEVENT
DTSTART;TZID=America/New_York:20251019T150000
DTEND;TZID=America/New_York:20251019T220000
DTSTAMP:20260425T154326
CREATED:20251003T200935Z
LAST-MODIFIED:20251003T200935Z
UID:10005426-1760886000-1760911200@exploremartincounty.com
SUMMARY:Halloween at Deadwood
DESCRIPTION:Haunted House and Ghost Train Rides! Prepare to have your wits scared out of you! We promise screams and laughter. What more could you ask for? Every Friday\, Saturday\, and Sunday starting Friday\, October 3rd\, ending November 2nd. \n  \nHalloween Lite is from 5 PM to 7 PM on Fridays & Saturdays. Sunday hours are 3 PM to 8 PM. \n$12.50 for adults\n$10 for young souls under 12 years \n  \nHalloween Scary is from 7:30 PM until (we run until everyone in line has gone)\, Friday and Saturday nights only. \n$25 for adults\n$15 for souls under 12 years\n$10 for souls under 8 years. \n 
URL:https://exploremartincounty.com/event/halloween-at-deadwood-3/2025-10-19/
LOCATION:Deadwood\, 2302 Ed’s Grocery Rd\, Williamston\, NC\, 27892\, United States
END:VEVENT
END:VCALENDAR