BEGIN:VCALENDAR
VERSION:2.0
PRODID:-//Explore Martin County NC - ECPv6.14.2//NONSGML v1.0//EN
CALSCALE:GREGORIAN
METHOD:PUBLISH
X-ORIGINAL-URL:https://exploremartincounty.com
X-WR-CALDESC:Events for Explore Martin County NC
REFRESH-INTERVAL;VALUE=DURATION:PT1H
X-Robots-Tag:noindex
X-PUBLISHED-TTL:PT1H
BEGIN:VTIMEZONE
TZID:America/New_York
BEGIN:DAYLIGHT
TZOFFSETFROM:-0500
TZOFFSETTO:-0400
TZNAME:EDT
DTSTART:20250309T070000
END:DAYLIGHT
BEGIN:STANDARD
TZOFFSETFROM:-0400
TZOFFSETTO:-0500
TZNAME:EST
DTSTART:20251102T060000
END:STANDARD
END:VTIMEZONE
BEGIN:VEVENT
DTSTART;TZID=America/New_York:20251014T110000
DTEND;TZID=America/New_York:20251014T120000
DTSTAMP:20260425T154724
CREATED:20251013T182625Z
LAST-MODIFIED:20251013T182625Z
UID:10005510-1760439600-1760443200@exploremartincounty.com
SUMMARY:Storytime Williamston
DESCRIPTION:Toddler & Preschooler Storytime at the Library! Join library staff for a fun-filled storytime designed just for toddlers and preschoolers. Each week features delightful stories\, playful songs\, movement\, and age-appropriate activities to help little ones develop early literacy skills—all while having a blast! Perfect for ages 18 months–5 years with a caregiver. No registration needed—just drop in and join the fun! \n\n\n  \n \n  \n  \n 
URL:https://exploremartincounty.com/event/storytime-williamston-9/
LOCATION:Martin Memorial Library\, 200 N. Smithwick St\, Williamston\, NC\, 27892\, United States
END:VEVENT
BEGIN:VEVENT
DTSTART;TZID=America/New_York:20251014T120000
DTEND;TZID=America/New_York:20251014T160000
DTSTAMP:20260425T154724
CREATED:20250828T204535Z
LAST-MODIFIED:20250922T204843Z
UID:10005299-1760443200-1760457600@exploremartincounty.com
SUMMARY:Alicia Garver Art Exhibition & Reception
DESCRIPTION:The Alicia Garver Art Exhibition & Reception “A Little Bit of Everything” at the Martin County Arts Council Flatiron Gallery will be on display from September 26th to November 6th. The opening reception on September 26th will be from 6:30 PM to 8 PM. \n  \n \n 
URL:https://exploremartincounty.com/event/alicia-garver-art-exhibition-reception-2/2025-10-14/
LOCATION:Martin County Arts Council – Flat Iron Gallery\, 124 Washington St\, Williamston\, NC\, 27892\, United States
END:VEVENT
BEGIN:VEVENT
DTSTART;TZID=America/New_York:20251014T173000
DTEND;TZID=America/New_York:20251014T183000
DTSTAMP:20260425T154724
CREATED:20250917T175350Z
LAST-MODIFIED:20250917T175350Z
UID:10005365-1760463000-1760466600@exploremartincounty.com
SUMMARY:Overdue and Over It Book Club
DESCRIPTION:Join the Overdue and Over It Book Club\, formerly the Martin County Book Club. This month’s book is Mockingjay by Suzanne Collins. Virtual options are available for those who can’t attend in person. Light refreshments are served\, and books are available for check-out at the circulation desk. Email hnelson@bhmlib.org for more information or just come by the library! \n\n  \n \n\n  \n  \n  \n\n  \n 
URL:https://exploremartincounty.com/event/overdue-and-over-it-book-club-3/
LOCATION:Martin Memorial Library\, 200 N. Smithwick St\, Williamston\, NC\, 27892\, United States
END:VEVENT
END:VCALENDAR