BEGIN:VCALENDAR
VERSION:2.0
PRODID:-//Explore Martin County NC - ECPv6.14.2//NONSGML v1.0//EN
CALSCALE:GREGORIAN
METHOD:PUBLISH
X-WR-CALNAME:Explore Martin County NC
X-ORIGINAL-URL:https://exploremartincounty.com
X-WR-CALDESC:Events for Explore Martin County NC
REFRESH-INTERVAL;VALUE=DURATION:PT1H
X-Robots-Tag:noindex
X-PUBLISHED-TTL:PT1H
BEGIN:VTIMEZONE
TZID:America/New_York
BEGIN:DAYLIGHT
TZOFFSETFROM:-0500
TZOFFSETTO:-0400
TZNAME:EDT
DTSTART:20250309T070000
END:DAYLIGHT
BEGIN:STANDARD
TZOFFSETFROM:-0400
TZOFFSETTO:-0500
TZNAME:EST
DTSTART:20251102T060000
END:STANDARD
END:VTIMEZONE
BEGIN:VEVENT
DTSTART;TZID=America/New_York:20251012T090000
DTEND;TZID=America/New_York:20251012T110000
DTSTAMP:20260425T154324
CREATED:20250721T152031Z
LAST-MODIFIED:20250811T184544Z
UID:10004422-1760259600-1760266800@exploremartincounty.com
SUMMARY:Fall Pickin' Party & Songwriter Showcase
DESCRIPTION:Pickin’ on the Cashie will be holding a campout\, jam\, and songwriter showcase for their Fall festival. This is donation only. Stay tuned for more details. If you are a songwriter who plays roots-based original music (country\, bluegrass\, acoustic blues\, folk\, etc.) and would like to be included in songwriter rounds\, please message justinrandolphedwards@gmail.com if interested. Learn more about this event HERE. \n  \n \n  \n \n  \n 
URL:https://exploremartincounty.com/event/fall-pickin-party-songwriter-showcase/2025-10-12/
LOCATION:Cashie River\, 110 Hoggard Mill Rd\, Windsor\, NC\, 27983\, United States
ORGANIZER;CN="Pickin%E2%80%99 on the Cashie":MAILTO:justinrandolphedwards@gmail.com
END:VEVENT
BEGIN:VEVENT
DTSTART;TZID=America/New_York:20251012T150000
DTEND;TZID=America/New_York:20251012T220000
DTSTAMP:20260425T154324
CREATED:20251003T200935Z
LAST-MODIFIED:20251003T200935Z
UID:10005425-1760281200-1760306400@exploremartincounty.com
SUMMARY:Halloween at Deadwood
DESCRIPTION:Haunted House and Ghost Train Rides! Prepare to have your wits scared out of you! We promise screams and laughter. What more could you ask for? Every Friday\, Saturday\, and Sunday starting Friday\, October 3rd\, ending November 2nd. \n  \nHalloween Lite is from 5 PM to 7 PM on Fridays & Saturdays. Sunday hours are 3 PM to 8 PM. \n$12.50 for adults\n$10 for young souls under 12 years \n  \nHalloween Scary is from 7:30 PM until (we run until everyone in line has gone)\, Friday and Saturday nights only. \n$25 for adults\n$15 for souls under 12 years\n$10 for souls under 8 years. \n 
URL:https://exploremartincounty.com/event/halloween-at-deadwood-3/2025-10-12/
LOCATION:Deadwood\, 2302 Ed’s Grocery Rd\, Williamston\, NC\, 27892\, United States
END:VEVENT
END:VCALENDAR