BEGIN:VCALENDAR
VERSION:2.0
PRODID:-//Explore Martin County NC - ECPv6.14.2//NONSGML v1.0//EN
CALSCALE:GREGORIAN
METHOD:PUBLISH
X-WR-CALNAME:Explore Martin County NC
X-ORIGINAL-URL:https://exploremartincounty.com
X-WR-CALDESC:Events for Explore Martin County NC
REFRESH-INTERVAL;VALUE=DURATION:PT1H
X-Robots-Tag:noindex
X-PUBLISHED-TTL:PT1H
BEGIN:VTIMEZONE
TZID:America/New_York
BEGIN:DAYLIGHT
TZOFFSETFROM:-0500
TZOFFSETTO:-0400
TZNAME:EDT
DTSTART:20250309T070000
END:DAYLIGHT
BEGIN:STANDARD
TZOFFSETFROM:-0400
TZOFFSETTO:-0500
TZNAME:EST
DTSTART:20251102T060000
END:STANDARD
END:VTIMEZONE
BEGIN:VEVENT
DTSTART;TZID=America/New_York:20251005T070000
DTEND;TZID=America/New_York:20251005T235900
DTSTAMP:20260425T154326
CREATED:20250807T210135Z
LAST-MODIFIED:20250807T210135Z
UID:10004377-1759647600-1759708740@exploremartincounty.com
SUMMARY:Da Bomb Barrel Racing 10th Annual Finale
DESCRIPTION:We are excited to announce the BIG X SLOT RACE! This event is bringing the energy to Williamston! Get ready for this and SO much more at the 10th annual Da Bomb Finale – coming to you October 2nd – 5th at the Senator Bob Martin Eastern Agricultural Center. Entries and Reservations open August 18th for qualifiers and August 20th for all others. Mark your calendars. For more information please visit www.dabombbarrelracing.com.
URL:https://exploremartincounty.com/event/da-bomb-barrel-racing-10th-annual-finale/2025-10-05/
LOCATION:Senator Bob Martin Eastern Agricultural Center\, 2900 NC-125\, Williamston\, NC\, 27892\, United States
ORGANIZER;CN="Da Bomb Barrel Racing LLC":MAILTO:dabombbarrels@yahoo.com
END:VEVENT
BEGIN:VEVENT
DTSTART;TZID=America/New_York:20251005T120000
DTEND;TZID=America/New_York:20251005T170000
DTSTAMP:20260425T154327
CREATED:20250612T171935Z
LAST-MODIFIED:20250612T171935Z
UID:10004211-1759665600-1759683600@exploremartincounty.com
SUMMARY:Club Championship Golf Tournament
DESCRIPTION:Calling all golfers! Robersonville Country Club has several tournaments coming up. Some events are open to guests. Please call the Pro Shop at 252-795-4212 for more info.
URL:https://exploremartincounty.com/event/club-championship-golf-tournament/2025-10-05/
LOCATION:Robersonville Country Club\, 20720 NC Highway 903\, Robersonville\, NC\, 27871\, United States
END:VEVENT
BEGIN:VEVENT
DTSTART;TZID=America/New_York:20251005T150000
DTEND;TZID=America/New_York:20251005T220000
DTSTAMP:20260425T154327
CREATED:20251003T200935Z
LAST-MODIFIED:20251003T200935Z
UID:10005424-1759676400-1759701600@exploremartincounty.com
SUMMARY:Halloween at Deadwood
DESCRIPTION:Haunted House and Ghost Train Rides! Prepare to have your wits scared out of you! We promise screams and laughter. What more could you ask for? Every Friday\, Saturday\, and Sunday starting Friday\, October 3rd\, ending November 2nd. \n  \nHalloween Lite is from 5 PM to 7 PM on Fridays & Saturdays. Sunday hours are 3 PM to 8 PM. \n$12.50 for adults\n$10 for young souls under 12 years \n  \nHalloween Scary is from 7:30 PM until (we run until everyone in line has gone)\, Friday and Saturday nights only. \n$25 for adults\n$15 for souls under 12 years\n$10 for souls under 8 years. \n 
URL:https://exploremartincounty.com/event/halloween-at-deadwood-3/2025-10-05/
LOCATION:Deadwood\, 2302 Ed’s Grocery Rd\, Williamston\, NC\, 27892\, United States
END:VEVENT
END:VCALENDAR