BEGIN:VCALENDAR
VERSION:2.0
PRODID:-//Explore Martin County NC - ECPv6.14.2//NONSGML v1.0//EN
CALSCALE:GREGORIAN
METHOD:PUBLISH
X-WR-CALNAME:Explore Martin County NC
X-ORIGINAL-URL:https://exploremartincounty.com
X-WR-CALDESC:Events for Explore Martin County NC
REFRESH-INTERVAL;VALUE=DURATION:PT1H
X-Robots-Tag:noindex
X-PUBLISHED-TTL:PT1H
BEGIN:VTIMEZONE
TZID:America/New_York
BEGIN:DAYLIGHT
TZOFFSETFROM:-0500
TZOFFSETTO:-0400
TZNAME:EDT
DTSTART:20250309T070000
END:DAYLIGHT
BEGIN:STANDARD
TZOFFSETFROM:-0400
TZOFFSETTO:-0500
TZNAME:EST
DTSTART:20251102T060000
END:STANDARD
END:VTIMEZONE
BEGIN:VTIMEZONE
TZID:UTC
BEGIN:STANDARD
TZOFFSETFROM:+0000
TZOFFSETTO:+0000
TZNAME:UTC
DTSTART:20250101T000000
END:STANDARD
END:VTIMEZONE
BEGIN:VEVENT
DTSTART;TZID=America/New_York:20251004T070000
DTEND;TZID=America/New_York:20251004T235900
DTSTAMP:20260425T154320
CREATED:20250807T210135Z
LAST-MODIFIED:20250807T210135Z
UID:10004376-1759561200-1759622340@exploremartincounty.com
SUMMARY:Da Bomb Barrel Racing 10th Annual Finale
DESCRIPTION:We are excited to announce the BIG X SLOT RACE! This event is bringing the energy to Williamston! Get ready for this and SO much more at the 10th annual Da Bomb Finale – coming to you October 2nd – 5th at the Senator Bob Martin Eastern Agricultural Center. Entries and Reservations open August 18th for qualifiers and August 20th for all others. Mark your calendars. For more information please visit www.dabombbarrelracing.com.
URL:https://exploremartincounty.com/event/da-bomb-barrel-racing-10th-annual-finale/2025-10-04/
LOCATION:Senator Bob Martin Eastern Agricultural Center\, 2900 NC-125\, Williamston\, NC\, 27892\, United States
ORGANIZER;CN="Da Bomb Barrel Racing LLC":MAILTO:dabombbarrels@yahoo.com
END:VEVENT
BEGIN:VEVENT
DTSTART;TZID=America/New_York:20251004T080000
DTEND;TZID=America/New_York:20251004T170000
DTSTAMP:20260425T154320
CREATED:20250328T142419Z
LAST-MODIFIED:20251002T214316Z
UID:10003956-1759564800-1759597200@exploremartincounty.com
SUMMARY:Connect Fest & Hot Salsa Taste Contest
DESCRIPTION:Connect Fest is where creativity meets connectivity. This dynamic event is all about bridging the digital divide and ensuring our communities have the tools and access needed to thrive in today’s world. Come explore tech\, art\, and innovation—all while empowering the beloved community and building abundance for all. To get involved or to learn more details about these events\, contact Rhaegan Jackson at hello@blackacreequity.com. We look forward to seeing you on campus! \n  \n\nCalling all hot sauce and salsa fanatics! Get ready for the first-ever Hot Salsa Taste Contest at Connect Fest! This event is communities together through a friendly (and fiery) competition\, celebrating a food staple that connects families and cultures. Do you think your sauce is the best? Bring your best homemade creation and let our guests pick their fave! Winner gets a $200 cash prize! Sign up here: https://f.mtr.cool/ulhiigomxh\n\n  \nPresented by Providence Omnistructure. \n  \n \n  \n \n  \n \n  \n \n  \n \n 
URL:https://exploremartincounty.com/event/connect-fest/
LOCATION:Providence Omnistructure – Blackacre Campus\, 600 N Smithwick St\, Williamston\, NC\, 27892\, United States
END:VEVENT
BEGIN:VEVENT
DTSTART;TZID=America/New_York:20251004T080000
DTEND;TZID=America/New_York:20251004T170000
DTSTAMP:20260425T154320
CREATED:20250612T171935Z
LAST-MODIFIED:20250612T171935Z
UID:10004210-1759564800-1759597200@exploremartincounty.com
SUMMARY:Club Championship Golf Tournament
DESCRIPTION:Calling all golfers! Robersonville Country Club has several tournaments coming up. Some events are open to guests. Please call the Pro Shop at 252-795-4212 for more info.
URL:https://exploremartincounty.com/event/club-championship-golf-tournament/2025-10-04/
LOCATION:Robersonville Country Club\, 20720 NC Highway 903\, Robersonville\, NC\, 27871\, United States
END:VEVENT
BEGIN:VEVENT
DTSTART;TZID=America/New_York:20251004T100000
DTEND;TZID=America/New_York:20251004T140000
DTSTAMP:20260425T154320
CREATED:20251001T182307Z
LAST-MODIFIED:20251001T182307Z
UID:10005382-1759572000-1759586400@exploremartincounty.com
SUMMARY:Fall Festival at NERSBA
DESCRIPTION:NERSBA Early College is hosting its annual Fall Festival on October 4th! Bring the family out for this fun-filled day in support of the school. \n 
URL:https://exploremartincounty.com/event/fall-festival-at-nersba/
LOCATION:NERSBA\, 1215 St Andrews St\, Jamesville\, NC\, 27846\, United States
END:VEVENT
BEGIN:VEVENT
DTSTART;TZID=UTC:20251004T100000
DTEND;TZID=UTC:20251004T170000
DTSTAMP:20260425T154320
CREATED:20251001T191003Z
LAST-MODIFIED:20251003T181946Z
UID:10005397-1759572000-1759597200@exploremartincounty.com
SUMMARY:2025 Fall Fun Fest at Wynn Farms
DESCRIPTION:Every weekend in October! $10 for a day full of fun! Concessions will be available. The farm and shop sells pumpkins\, hay bales\, hand-dipped ice cream\, produce\, jams/jellies\, etc. \n  \nNEW fun activities this fall:\nCorn Pit\nCorn Maze\nBarrel Train\nPedal Toy Track\nOutdoor Games\nFeed the Animals\nHayride\n\n\nand more…
URL:https://exploremartincounty.com/event/2025-fall-fun-fest-at-wynn-farms/2025-10-04/
LOCATION:Wynn Farms Produce & Mercantile\, 3695 Everetts Rd\, Williamston\, NC\, 27892\, United States
END:VEVENT
BEGIN:VEVENT
DTSTART;TZID=America/New_York:20251004T110000
DTEND;TZID=America/New_York:20251004T130000
DTSTAMP:20260425T154321
CREATED:20250909T164819Z
LAST-MODIFIED:20250909T164819Z
UID:10005347-1759575600-1759582800@exploremartincounty.com
SUMMARY:Blessing of the Animals
DESCRIPTION:The Episcopal Church of the Advent’s annual “Blessing of the Animals” takes place on October 4th\, at 11 AM\, in downtown Williamston. Celebrate the Feast of St. Francis of Assisi and bring your pets to be blessed. This community event is open to all who want to join in the celebration! \n  \n 
URL:https://exploremartincounty.com/event/blessing-of-the-animals/
LOCATION:Episcopal Church of the Advent\, 112 W Church St\, Williamston\, NC\, 27892\, United States
END:VEVENT
BEGIN:VEVENT
DTSTART;TZID=America/New_York:20251004T110000
DTEND;TZID=America/New_York:20251004T160000
DTSTAMP:20260425T154321
CREATED:20250825T190406Z
LAST-MODIFIED:20250919T213848Z
UID:10005234-1759575600-1759593600@exploremartincounty.com
SUMMARY:Bertie's Forgotten Black & Native Patriots of the Revolutionary War
DESCRIPTION:Step into history at this educational community event\, featuring two days of Revolutionary War experiences in Bertie County! \n  \n\nExperience two unforgettable days of Revolutionary War experiences in Bertie County on October 3rd & 4th! This family-friendly event brings history to life interactively and engagingly. You won’t want to miss it!\n\n\n\n\n\nLive Encampments\nWeapons Demonstrations\nHistorical Presentations\nFife & Drum Corps\nDelicious Food Trucks\n\n\n\n\n\nPresented in partnership with America 250\, Blue Jay Recreation Center\, NCCU College of Arts\, Social Sciences and Humanities\, and Explore Indian Woods. For more information visit: https://bluejayrec.com.\n\n  \n \n  \n \n 
URL:https://exploremartincounty.com/event/berties-forgotten-black-native-patriots-of-the-revolutionary-war/2025-10-04/
LOCATION:Blue Jay Recreation Center\, 1711 Indian Woods Rd\, Windsor\, NC\, 27983\, United States
END:VEVENT
BEGIN:VEVENT
DTSTART;TZID=UTC:20251004T110000
DTEND;TZID=UTC:20251004T200000
DTSTAMP:20260425T154321
CREATED:20250821T193700Z
LAST-MODIFIED:20251001T214154Z
UID:10005224-1759575600-1759608000@exploremartincounty.com
SUMMARY:Hamilton's Roanoke River Festival
DESCRIPTION:Hosted at Morris Lynch Center\, this yearly celebration of the historic Roanoke River and the charming Town of Hamilton is a MUST-ATTEND! Please mark your calendars. Live music is by David Spruill and The Perfect Blend Band\, from 12 to 2 PM. There will be vendors\, bounce houses\, indoor bingo\, train tours of Historic Hamilton\, a 360-degree photo booth\, and a comedy show at 6 PM. \n  \n \n  \n 
URL:https://exploremartincounty.com/event/hamiltons-roanoke-river-festival/
LOCATION:Morris Lynch Center\, 301 S Front St\, Hamilton\, NC\, 27840\, United States
ORGANIZER;CN="Town of Hamilton":MAILTO:townclerk@embarqmail.com
END:VEVENT
BEGIN:VEVENT
DTSTART;TZID=America/New_York:20251004T150000
DTEND;TZID=America/New_York:20251004T220000
DTSTAMP:20260425T154321
CREATED:20251002T222021Z
LAST-MODIFIED:20251002T222021Z
UID:10005392-1759590000-1759615200@exploremartincounty.com
SUMMARY:Dirt Kart Race
DESCRIPTION:Leggett Mill Speedway will hold a dirt kart race on Saturday\, October 4th. Track opens at 3 PM\, and racing starts around 6 PM. Come see the action! It will be a fun race for all!
URL:https://exploremartincounty.com/event/dirt-kart-race-8/
LOCATION:Leggett Mill Speedway\, 4049 Race Track Rd\, Williamston\, NC\, 27892\, United States
END:VEVENT
BEGIN:VEVENT
DTSTART;TZID=America/New_York:20251004T170000
DTEND;TZID=America/New_York:20251004T235900
DTSTAMP:20260425T154321
CREATED:20251003T200821Z
LAST-MODIFIED:20251003T200821Z
UID:10005405-1759597200-1759622340@exploremartincounty.com
SUMMARY:Halloween at Deadwood
DESCRIPTION:Haunted House and Ghost Train Rides! Prepare to have your wits scared out of you! We promise screams and laughter. What more could you ask for? Every Friday\, Saturday\, and Sunday starting Friday\, October 3rd\, ending November 2nd. \n  \nHalloween Lite is from 5 PM to 7 PM on Fridays & Saturdays. Sunday hours are 3 PM to 8 PM. \n$12.50 for adults\n$10 for young souls under 12 years \n  \nHalloween Scary is from 7:30 PM until (we run until everyone in line has gone)\, Friday and Saturday nights only. \n$25 for adults\n$15 for souls under 12 years\n$10 for souls under 8 years. \n 
URL:https://exploremartincounty.com/event/halloween-at-deadwood-2/2025-10-04/
LOCATION:Deadwood\, 2302 Ed’s Grocery Rd\, Williamston\, NC\, 27892\, United States
END:VEVENT
BEGIN:VEVENT
DTSTART;TZID=America/New_York:20251004T190000
DTEND;TZID=America/New_York:20251004T230000
DTSTAMP:20260425T154321
CREATED:20251006T210747Z
LAST-MODIFIED:20251006T210747Z
UID:10005449-1759604400-1759618800@exploremartincounty.com
SUMMARY:Frightmore Academy Haunted House
DESCRIPTION:The 2025 Scary Season is upon us! Come learn a lesson in fear at Frightmore Academy! Get tickets here: app.hauntpay.com/events/FA25\n\nWhen:\nOct. 3rd & 4th\, 7:00pm-10:00pm\nOct. 10th & 11th\, 7:00pm-10:00pm\nOct. 17th & 18th\, 7:00pm-11:00pm\nOct. 24th & 25th\, 7:00pm-11:00pm\nOct. 31st\, 7:00pm-11:00pm\nNov. 1st \, 7:00pm-11:00pm\n\nWhere: 2115 Everetts Road\, Williamston\, NC 27892
URL:https://exploremartincounty.com/event/frightmore-academy-haunted-house-2/2025-10-04/
LOCATION:Frightmore Academy\, 2115 Everetts Rd\, Williamston\, NC\, 27892\, United States
END:VEVENT
END:VCALENDAR