BEGIN:VCALENDAR
VERSION:2.0
PRODID:-//Explore Martin County NC - ECPv6.14.2//NONSGML v1.0//EN
CALSCALE:GREGORIAN
METHOD:PUBLISH
X-ORIGINAL-URL:https://exploremartincounty.com
X-WR-CALDESC:Events for Explore Martin County NC
REFRESH-INTERVAL;VALUE=DURATION:PT1H
X-Robots-Tag:noindex
X-PUBLISHED-TTL:PT1H
BEGIN:VTIMEZONE
TZID:America/New_York
BEGIN:DAYLIGHT
TZOFFSETFROM:-0500
TZOFFSETTO:-0400
TZNAME:EDT
DTSTART:20250309T070000
END:DAYLIGHT
BEGIN:STANDARD
TZOFFSETFROM:-0400
TZOFFSETTO:-0500
TZNAME:EST
DTSTART:20251102T060000
END:STANDARD
END:VTIMEZONE
BEGIN:VEVENT
DTSTART;TZID=America/New_York:20250930T120000
DTEND;TZID=America/New_York:20250930T160000
DTSTAMP:20260425T154723
CREATED:20250828T204535Z
LAST-MODIFIED:20250922T204843Z
UID:10005291-1759233600-1759248000@exploremartincounty.com
SUMMARY:Alicia Garver Art Exhibition & Reception
DESCRIPTION:The Alicia Garver Art Exhibition & Reception “A Little Bit of Everything” at the Martin County Arts Council Flatiron Gallery will be on display from September 26th to November 6th. The opening reception on September 26th will be from 6:30 PM to 8 PM. \n  \n \n 
URL:https://exploremartincounty.com/event/alicia-garver-art-exhibition-reception-2/2025-09-30/
LOCATION:Martin County Arts Council – Flat Iron Gallery\, 124 Washington St\, Williamston\, NC\, 27892\, United States
END:VEVENT
BEGIN:VEVENT
DTSTART;TZID=America/New_York:20250930T140000
DTEND;TZID=America/New_York:20250930T160000
DTSTAMP:20260425T154723
CREATED:20250905T164041Z
LAST-MODIFIED:20250905T164041Z
UID:10005337-1759240800-1759248000@exploremartincounty.com
SUMMARY:Uncovering Blackbeard's Ship
DESCRIPTION:MCC’s Scholars of Global Distinction invites you to uncover the history of Blackbeard! All are invited to enjoy this educational experience that includes a special student contest. \n 
URL:https://exploremartincounty.com/event/uncovering-blackbeards-ship/
LOCATION:Martin Community College\, Kehukee Park Rd\, Williamston\, 27892\, United States
END:VEVENT
END:VCALENDAR