BEGIN:VCALENDAR
VERSION:2.0
PRODID:-//Explore Martin County NC - ECPv6.14.2//NONSGML v1.0//EN
CALSCALE:GREGORIAN
METHOD:PUBLISH
X-WR-CALNAME:Explore Martin County NC
X-ORIGINAL-URL:https://exploremartincounty.com
X-WR-CALDESC:Events for Explore Martin County NC
REFRESH-INTERVAL;VALUE=DURATION:PT1H
X-Robots-Tag:noindex
X-PUBLISHED-TTL:PT1H
BEGIN:VTIMEZONE
TZID:America/New_York
BEGIN:DAYLIGHT
TZOFFSETFROM:-0500
TZOFFSETTO:-0400
TZNAME:EDT
DTSTART:20250309T070000
END:DAYLIGHT
BEGIN:STANDARD
TZOFFSETFROM:-0400
TZOFFSETTO:-0500
TZNAME:EST
DTSTART:20251102T060000
END:STANDARD
END:VTIMEZONE
BEGIN:VEVENT
DTSTART;TZID=America/New_York:20250928T000000
DTEND;TZID=America/New_York:20250928T003000
DTSTAMP:20260425T170904
CREATED:20250910T202108Z
LAST-MODIFIED:20250922T165208Z
UID:10005376-1759017600-1759019400@exploremartincounty.com
SUMMARY:Carolina Stampede After Party at The Snack Shack
DESCRIPTION:The fun continues after the Carolina Stampede Music Festival! On Friday & Saturday\, September 26th – 27th\, The Snack Shack hosts a Stampede After Party from 10 PM to 12 AM (midnight) on Friday and 10 PM to 12:30 AM on Saturday. Stay downtown a little while longer! On Saturday\, unwind to an acoustic performance by local vocalist and musician\, Nanette Garrett. Get your late-night munchies and hang out with friends to classic rock and classic country tunes. \n  \n \n 
URL:https://exploremartincounty.com/event/carolina-stampede-afterparty-at-the-snack-shack/2025-09-28/
LOCATION:The Snack Shack\, 101 B Main St\, Williamston\, NC\, 27892\, United States
END:VEVENT
BEGIN:VEVENT
DTSTART;TZID=America/New_York:20250928T000000
DTEND;TZID=America/New_York:20250928T020000
DTSTAMP:20260425T170904
CREATED:20250917T172617Z
LAST-MODIFIED:20250917T172617Z
UID:10005361-1759017600-1759024800@exploremartincounty.com
SUMMARY:DJ Dinero at El Mariachi
DESCRIPTION:Saturday\, September 27th\, DJ Dinero will be spinning at El Mariachi from 8 PM to 2 AM. Not ready to call it a night once The Stampede downtown wraps up? El Mariachi’s will be open until 2 AM!\n 
URL:https://exploremartincounty.com/event/dj-dinero-at-el-mariachi/2025-09-28/
LOCATION:El Mariachi Mexican Restaurant\, 129 West Blvd\, Williamston\, NC\, 27892\, United States
END:VEVENT
BEGIN:VEVENT
DTSTART;TZID=America/New_York:20250928T090000
DTEND;TZID=America/New_York:20250928T180000
DTSTAMP:20260425T170904
CREATED:20250318T210535Z
LAST-MODIFIED:20250925T212025Z
UID:10005381-1759050000-1759082400@exploremartincounty.com
SUMMARY:United Horsemen of the Carolina's Open Horse Show
DESCRIPTION:The United Horsemen of the Carolina’s Open Horse Show will take place at the Senator Bob Martin Eastern Agricultural Center\, September 27th to 28th\, 2025. Spectator admission is FREE! Please visit www.uhotc.org for more information. \n 
URL:https://exploremartincounty.com/event/united-horsemen-of-the-carolinas-open-horse-show-2/2025-09-28/
LOCATION:Senator Bob Martin Eastern Agricultural Center\, 2900 NC-125\, Williamston\, NC\, 27892\, United States
END:VEVENT
BEGIN:VEVENT
DTSTART;TZID=America/New_York:20250928T110000
DTEND;TZID=America/New_York:20250928T140000
DTSTAMP:20260425T170904
CREATED:20250924T191307Z
LAST-MODIFIED:20250924T191307Z
UID:10005379-1759057200-1759068000@exploremartincounty.com
SUMMARY:Sunday Brunch
DESCRIPTION:Sunday Brunch is September 28th at Roanoke Country Club from 11 AM to 2 PM! Open to the public! No reservations are required if your party has fewer than 5. If your party has more the 5\, just call Georgia Deans to let them know – 252-789-1188!
URL:https://exploremartincounty.com/event/sunday-brunch/
LOCATION:Roanoke Country Club\, 1380 Fairway Dr\, Williamston\, NC\, 27892\, United States
END:VEVENT
BEGIN:VEVENT
DTSTART;TZID=America/New_York:20250928T140000
DTEND;TZID=America/New_York:20250928T170000
DTSTAMP:20260425T170904
CREATED:20250917T173159Z
LAST-MODIFIED:20250917T173159Z
UID:10005362-1759068000-1759078800@exploremartincounty.com
SUMMARY:Holiday Bow Making Workshop
DESCRIPTION:Join Inspired Door Designs at The Small Shop on Main in downtown Williamston for a Holiday Bow Making Workshop on Sunday\, September 28th. Please call 252-495-1868 or 252-508-6605 to reserve your spot! \n 
URL:https://exploremartincounty.com/event/holiday-bow-making-workshop/
LOCATION:The Small Shop on Main\, 143 W Main St\, Williamston\, NC\, 27892\, United States
ORGANIZER;CN="Inspired Door Designs":MAILTO:Melissa@inspireddoordesigns.com
END:VEVENT
END:VCALENDAR