BEGIN:VCALENDAR
VERSION:2.0
PRODID:-//Explore Martin County NC - ECPv6.14.2//NONSGML v1.0//EN
CALSCALE:GREGORIAN
METHOD:PUBLISH
X-WR-CALNAME:Explore Martin County NC
X-ORIGINAL-URL:https://exploremartincounty.com
X-WR-CALDESC:Events for Explore Martin County NC
REFRESH-INTERVAL;VALUE=DURATION:PT1H
X-Robots-Tag:noindex
X-PUBLISHED-TTL:PT1H
BEGIN:VTIMEZONE
TZID:America/New_York
BEGIN:DAYLIGHT
TZOFFSETFROM:-0500
TZOFFSETTO:-0400
TZNAME:EDT
DTSTART:20250309T070000
END:DAYLIGHT
BEGIN:STANDARD
TZOFFSETFROM:-0400
TZOFFSETTO:-0500
TZNAME:EST
DTSTART:20251102T060000
END:STANDARD
END:VTIMEZONE
BEGIN:VEVENT
DTSTART;TZID=America/New_York:20250923T110000
DTEND;TZID=America/New_York:20250923T120000
DTSTAMP:20260425T170903
CREATED:20250905T211010Z
LAST-MODIFIED:20250905T211036Z
UID:10005340-1758625200-1758628800@exploremartincounty.com
SUMMARY:Storytime Williamston
DESCRIPTION:Storytime with Jessika Patrick – Join library staff for a fun and engaging storytime designed especially for toddlers and preschoolers! \n\n\nEnjoy stories\, songs\, and activities that spark imagination and learning.\nPerfect for little ones and their caregivers.\nElla Mae Abbitt Meeting Room at Martin Memorial Library\n\n  \nCome read\, sing\, and play with us! \n  \nToddler & Preschooler Storytime at the Library! Join library staff for a fun-filled storytime designed just for toddlers and preschoolers! Each storytime features delightful stories\, playful songs\, movement\, and age-appropriate activities to help little ones develop early literacy skills—all while having a blast. Perfect for ages 18 months–5 years (must be accompanied by a caregiver). No registration needed—just drop in and join the fun! \n\n\n  \n \n  \n  \n 
URL:https://exploremartincounty.com/event/storytime-williamston-7/2025-09-23/
LOCATION:Martin Memorial Library\, 200 N. Smithwick St\, Williamston\, NC\, 27892\, United States
END:VEVENT
END:VCALENDAR