BEGIN:VCALENDAR
VERSION:2.0
PRODID:-//Explore Martin County NC - ECPv6.14.2//NONSGML v1.0//EN
CALSCALE:GREGORIAN
METHOD:PUBLISH
X-WR-CALNAME:Explore Martin County NC
X-ORIGINAL-URL:https://exploremartincounty.com
X-WR-CALDESC:Events for Explore Martin County NC
REFRESH-INTERVAL;VALUE=DURATION:PT1H
X-Robots-Tag:noindex
X-PUBLISHED-TTL:PT1H
BEGIN:VTIMEZONE
TZID:America/New_York
BEGIN:DAYLIGHT
TZOFFSETFROM:-0500
TZOFFSETTO:-0400
TZNAME:EDT
DTSTART:20250309T070000
END:DAYLIGHT
BEGIN:STANDARD
TZOFFSETFROM:-0400
TZOFFSETTO:-0500
TZNAME:EST
DTSTART:20251102T060000
END:STANDARD
END:VTIMEZONE
BEGIN:VEVENT
DTSTART;TZID=America/New_York:20250922T090000
DTEND;TZID=America/New_York:20250922T160000
DTSTAMP:20260425T170847
CREATED:20250905T212142Z
LAST-MODIFIED:20250905T212142Z
UID:10005342-1758531600-1758556800@exploremartincounty.com
SUMMARY:Mental Health First Aid Training
DESCRIPTION:Join staff and special guests at Martin Memorial Library for a free training that teaches attendees how to recognize signs of mental health and substance use challenges\, start supportive conversations\, and connect people to resources. \n\n\nRSVP by September 8 (space is limited to 30 participants).\n200 N Smithwick Street\, Williamston\, NC\nContact Melissa Green at magreen@email.unc.edu or 919-843-3304 for more info.\n\n 
URL:https://exploremartincounty.com/event/mental-health-first-aid-training/
LOCATION:Martin Memorial Library\, 200 N. Smithwick St\, Williamston\, NC\, 27892\, United States
END:VEVENT
END:VCALENDAR