BEGIN:VCALENDAR
VERSION:2.0
PRODID:-//Explore Martin County NC - ECPv6.14.2//NONSGML v1.0//EN
CALSCALE:GREGORIAN
METHOD:PUBLISH
X-WR-CALNAME:Explore Martin County NC
X-ORIGINAL-URL:https://exploremartincounty.com
X-WR-CALDESC:Events for Explore Martin County NC
REFRESH-INTERVAL;VALUE=DURATION:PT1H
X-Robots-Tag:noindex
X-PUBLISHED-TTL:PT1H
BEGIN:VTIMEZONE
TZID:America/New_York
BEGIN:DAYLIGHT
TZOFFSETFROM:-0500
TZOFFSETTO:-0400
TZNAME:EDT
DTSTART:20250309T070000
END:DAYLIGHT
BEGIN:STANDARD
TZOFFSETFROM:-0400
TZOFFSETTO:-0500
TZNAME:EST
DTSTART:20251102T060000
END:STANDARD
END:VTIMEZONE
BEGIN:VTIMEZONE
TZID:UTC
BEGIN:STANDARD
TZOFFSETFROM:+0000
TZOFFSETTO:+0000
TZNAME:UTC
DTSTART:20250101T000000
END:STANDARD
END:VTIMEZONE
BEGIN:VEVENT
DTSTART;TZID=America/New_York:20250920T000000
DTEND;TZID=America/New_York:20250920T235900
DTSTAMP:20260425T170941
CREATED:20250623T174130Z
LAST-MODIFIED:20250828T202627Z
UID:10004250-1758326400-1758412740@exploremartincounty.com
SUMMARY:E.J. Hayes Homecoming
DESCRIPTION:Save the date! The 2025 Williamston Homecoming takes place Sept. 19th to 21st. Time to get ready! The E.J. Hayes Alumni Association will sponsor several activities. There will be… \n  \n\n\nMeet & Greet at the Alumni Center (Fri.)\nCommunity Breakfast (Sat.)\nTailgating on the grounds of the Alumni Center\n“Themed” Dinner & Dance (Limited tickets!) – MORE INFO HERE!\n\n\n  \nIf you plan to participate in the tailgate event on Sept. 20th\, please RESERVE YOUR SPOT NOW! The cost is $75. Spaces are going quickly! Please call Thelma Purvis at the Alumni Center (252) 789-0040 or come by the Alumni Center on Wednesday or Thursday between 10 AM – 4 PM. More info coming soon… \n  \n \n  \n \n  \n \n  \n \n  \n \n 
URL:https://exploremartincounty.com/event/e-j-hayes-homecoming/2025-09-20/
LOCATION:E.J. Hayes Alumni Center\, 705 Washington Street\, Williamston\, NC\, 27892\, United States
END:VEVENT
BEGIN:VEVENT
DTSTART;TZID=UTC:20250920T073000
DTEND;TZID=UTC:20250920T235900
DTSTAMP:20260425T170941
CREATED:20250808T143943Z
LAST-MODIFIED:20250917T182527Z
UID:10004388-1758353400-1758412740@exploremartincounty.com
SUMMARY:Sunnyside Open Horse Show
DESCRIPTION:The Sunnyside Open Horse Show\, produced by Equine Event Planning\, LLC.\, will take place at the Senator Bob Martin Eastern Agricultural Center\, September 19th – 21st\, 2025. Please visit www.EquineEventPlanning.com for more information.
URL:https://exploremartincounty.com/event/sunnyside-open-horse-show/2025-09-20/
LOCATION:Senator Bob Martin Eastern Agricultural Center\, 2900 NC-125\, Williamston\, NC\, 27892\, United States
END:VEVENT
BEGIN:VEVENT
DTSTART;TZID=America/New_York:20250920T080000
DTEND;TZID=America/New_York:20250920T120000
DTSTAMP:20260425T170941
CREATED:20250822T151018Z
LAST-MODIFIED:20250917T182701Z
UID:10005226-1758355200-1758369600@exploremartincounty.com
SUMMARY:Kickoff to Fall Farmers Market
DESCRIPTION:Head to the Kickoff to Fall Farmers Market on September 20th from 8 AM to noon and support local farmers and artisans. Have lunch and refreshments at the Concession Stand / Fundraiser for Williamston Church of Christ. Shop for locally made gifts\, fresh produce\, meat\, and more! \n  \n \n 
URL:https://exploremartincounty.com/event/kickoff-to-fall-farmers-market/
LOCATION:Martin County Farmers Market\, 4001 W Main St\, Williamston\, NC\, 27892\, United States
END:VEVENT
BEGIN:VEVENT
DTSTART;TZID=America/New_York:20250920T100000
DTEND;TZID=America/New_York:20250920T150000
DTSTAMP:20260425T170941
CREATED:20250917T180239Z
LAST-MODIFIED:20250917T180239Z
UID:10005367-1758362400-1758380400@exploremartincounty.com
SUMMARY:Pop-Up Thrift Shop
DESCRIPTION:Get ready for a pop-up thrift event\, Williamston! On September 19th & 20th\, on West Blvd (across from Zuuaa Mart)\, there will be a pop-up thrift shop from 10 AM to 3 PM. \n 
URL:https://exploremartincounty.com/event/pop-up-thrift-shop/2025-09-20/
LOCATION:NC
END:VEVENT
BEGIN:VEVENT
DTSTART;TZID=America/New_York:20250920T150000
DTEND;TZID=America/New_York:20250920T220000
DTSTAMP:20260425T170941
CREATED:20250827T184737Z
LAST-MODIFIED:20250827T184737Z
UID:10005261-1758380400-1758405600@exploremartincounty.com
SUMMARY:Dirt Kart Race
DESCRIPTION:Graveyard Motor Speedway will hold a dirt kart race on Saturday\, September 20th. Gates open at 3 PM and racing begins around 6/6:30 PM!
URL:https://exploremartincounty.com/event/dirt-kart-race-7/
LOCATION:Graveyard Motor Speedway\, 8351 Bear Grass Rd\, Robersonville\, NC\, 27871\, United States
END:VEVENT
BEGIN:VEVENT
DTSTART;TZID=America/New_York:20250920T193000
DTEND;TZID=America/New_York:20250920T210000
DTSTAMP:20260425T170941
CREATED:20250707T185705Z
LAST-MODIFIED:20250910T165830Z
UID:10004356-1758396600-1758402000@exploremartincounty.com
SUMMARY:Finding Nemo Jr. - Martin Community Players
DESCRIPTION:See this stage production of Finding Nemo “Junior” with an all-kids cast on Sept. 18th\, 20th\, & 21st. Let’s support these young\, talented performers! Tickets may be purchased at the door on the day of the event or at Mast Pharmacy before the event. Contact Martin Community Players at 252-661-0609 or martincommplayers@gmail.com and visit our new website for more information and a calendar of events! \n  \n\nWant to sign up your child to participate?! Below are some FAQs…\n\n\nQ: Who can sign up?\nA: Parents may sign up children ages 6-15. There is some flexibility on the higher age limit\, but six is the youngest age for this production.\n\n\nQ: When are sign-ups?\nA: TONIGHT (Monday\, August 11) and TOMORROW (Tuesday\, August 12) from 6:00 pm – 7:00 pm. You only need to attend one meeting.\n\n\nQ: Where do we go to sign up?\nA: Sign-up meetings are held in the Martin County Auditorium on the campus of Martin County High School. Please use the backstage entrance. See the map in the comments for directions.\n\n\nQ: Will children have to audition?\nA: No—Everyone who signs up will be given a part!\n\n\nQ: What are the performance dates?\nA: Thursday\, September 18 at 7:30 pm\, Saturday\, September 20 at 7:30 pm\, and Sunday\, September 21 at 3:00 pm. Please make sure your child is available to participate in all performance dates before signing up.\n\n\nQ: What is the rehearsal schedule?\nA: Rehearsals begin August 18 and are typically on Monday\, Tuesday\, Thursday\, and Friday evenings at 6:00 pm. We schedule a five-week rehearsal period. A Sunday afternoon rehearsal is held the week leading up to the show.\n\n\nQ: What are parents’ responsibilities?\nA: A parent or supervising adult must be on site with their child(ren) during rehearsals. One adult per child will sign up to help backstage during one of the three performances. Some base layer garments or minor costume pieces may need to be purchased for your child (ex.: black leggings and socks). Parents will help younger children with costumes before and after dress rehearsals and performances. Parents are encouraged to volunteer with sets\, props\, and costumes!\n\n\n \n  \n \n  \n \n 
URL:https://exploremartincounty.com/event/finding-nemo-jr-martin-community-players/2025-09-20/
LOCATION:Martin County Auditorium\, 1260 Godwin Ave\, Williamston\, NC\, 27892\, United States
ORGANIZER;CN="Martin Community Players":MAILTO:andyweaver@suddenlink.net
END:VEVENT
END:VCALENDAR