BEGIN:VCALENDAR
VERSION:2.0
PRODID:-//Explore Martin County NC - ECPv6.14.2//NONSGML v1.0//EN
CALSCALE:GREGORIAN
METHOD:PUBLISH
X-WR-CALNAME:Explore Martin County NC
X-ORIGINAL-URL:https://exploremartincounty.com
X-WR-CALDESC:Events for Explore Martin County NC
REFRESH-INTERVAL;VALUE=DURATION:PT1H
X-Robots-Tag:noindex
X-PUBLISHED-TTL:PT1H
BEGIN:VTIMEZONE
TZID:America/New_York
BEGIN:DAYLIGHT
TZOFFSETFROM:-0500
TZOFFSETTO:-0400
TZNAME:EDT
DTSTART:20250309T070000
END:DAYLIGHT
BEGIN:STANDARD
TZOFFSETFROM:-0400
TZOFFSETTO:-0500
TZNAME:EST
DTSTART:20251102T060000
END:STANDARD
END:VTIMEZONE
BEGIN:VEVENT
DTSTART;TZID=America/New_York:20250905T103000
DTEND;TZID=America/New_York:20250905T120000
DTSTAMP:20260425T170940
CREATED:20250827T185757Z
LAST-MODIFIED:20250827T185757Z
UID:10005262-1757068200-1757073600@exploremartincounty.com
SUMMARY:Bertie County Inclusive Nature Walk
DESCRIPTION:One Community has started a nature walking club for people of ALL abilities in Bertie County. Every Friday for the month of September\, the group will be meeting at the Roanoke/Cashie River Center to walk the beautiful boardwalk along the Cashie River. Please RSVP HERE! \n 
URL:https://exploremartincounty.com/event/bertie-county-inclusive-nature-walk/2025-09-05/
LOCATION:Roanoke/Cashie River Center\, 112 W Water St\, Windsor\, NC\, 27983\, United States
ORGANIZER;CN="One Community":MAILTO:info@OneCommunityNC.org
END:VEVENT
BEGIN:VEVENT
DTSTART;TZID=America/New_York:20250905T120000
DTEND;TZID=America/New_York:20250905T160000
DTSTAMP:20260425T170940
CREATED:20250318T204412Z
LAST-MODIFIED:20250814T153857Z
UID:10003840-1757073600-1757088000@exploremartincounty.com
SUMMARY:Photography Exhibition & Reception
DESCRIPTION:The annual photography exhibition at the Martin County Arts Council Flatiron Gallery will take place from August 14th to September 18th. The opening reception on August 14th will be from 6:30 PM to 8 PM. \n  \n \n 
URL:https://exploremartincounty.com/event/photography-exhibition-reception/2025-09-05/
LOCATION:Martin County Arts Council – Flat Iron Gallery\, 124 Washington St\, Williamston\, NC\, 27892\, United States
END:VEVENT
BEGIN:VEVENT
DTSTART;TZID=America/New_York:20250905T170000
DTEND;TZID=America/New_York:20250905T190000
DTSTAMP:20260425T170940
CREATED:20250822T201540Z
LAST-MODIFIED:20250822T201540Z
UID:10005228-1757091600-1757098800@exploremartincounty.com
SUMMARY:Felting & Friends
DESCRIPTION:Come hang out with JLS Alpaca Farm at The Tea Room on Main on Friday\, September 5th\, from 5 PM to 7 PM! Bring a friend and learn how to make felt soap. It’s $30 for 2 felted soaps (1 for each – you & a friend OR 2 for you!) \n 
URL:https://exploremartincounty.com/event/felting-friends/
LOCATION:The Tea Room on Main\, 150 W. Main St\, Williamston\, NC\, 27892\, United States
ORGANIZER;CN="JLS Alpacas":MAILTO:jls.alpacas@gmail.com
END:VEVENT
BEGIN:VEVENT
DTSTART;TZID=America/New_York:20250905T190000
DTEND;TZID=America/New_York:20250905T220000
DTSTAMP:20260425T170940
CREATED:20250905T151540Z
LAST-MODIFIED:20250905T151540Z
UID:10005336-1757098800-1757109600@exploremartincounty.com
SUMMARY:Trivia Night at The Snack Shack
DESCRIPTION:Get a team together or just show up for Trivia Night at The Snack Shack! Join in the fun from 7 PM to 10 PM. \n  \n \n  \n  \n  \n  \n 
URL:https://exploremartincounty.com/event/trivia-night-at-the-snack-shack/
LOCATION:The Snack Shack\, 101 B Main St\, Williamston\, NC\, 27892\, United States
END:VEVENT
END:VCALENDAR