BEGIN:VCALENDAR
VERSION:2.0
PRODID:-//Explore Martin County NC - ECPv6.14.2//NONSGML v1.0//EN
CALSCALE:GREGORIAN
METHOD:PUBLISH
X-WR-CALNAME:Explore Martin County NC
X-ORIGINAL-URL:https://exploremartincounty.com
X-WR-CALDESC:Events for Explore Martin County NC
REFRESH-INTERVAL;VALUE=DURATION:PT1H
X-Robots-Tag:noindex
X-PUBLISHED-TTL:PT1H
BEGIN:VTIMEZONE
TZID:America/New_York
BEGIN:DAYLIGHT
TZOFFSETFROM:-0500
TZOFFSETTO:-0400
TZNAME:EDT
DTSTART:20250309T070000
END:DAYLIGHT
BEGIN:STANDARD
TZOFFSETFROM:-0400
TZOFFSETTO:-0500
TZNAME:EST
DTSTART:20251102T060000
END:STANDARD
END:VTIMEZONE
BEGIN:VEVENT
DTSTART;TZID=America/New_York:20250830T080000
DTEND;TZID=America/New_York:20250830T120000
DTSTAMP:20260425T184950
CREATED:20250825T151217Z
LAST-MODIFIED:20250828T202814Z
UID:10005231-1756540800-1756555200@exploremartincounty.com
SUMMARY:Farmers Market
DESCRIPTION:Join in the fun at the Martin County Farmers Market for their final regular season market day on August 30th. There will be free popcorn for all customers! Let’s support our local farmers and artisans. Have lunch and refreshments at the Concession Stand / Fundraiser for Williamston Church of Christ. Shop for locally made gifts\, fresh produce\, meat\, and more! The market will be back on September 20th for a fall-themed market… \n 
URL:https://exploremartincounty.com/event/farmers-market-9/
LOCATION:Martin County Farmers Market\, 4001 W Main St\, Williamston\, NC\, 27892\, United States
END:VEVENT
BEGIN:VEVENT
DTSTART;TZID=America/New_York:20250830T080000
DTEND;TZID=America/New_York:20250830T170000
DTSTAMP:20260425T184950
CREATED:20250612T171812Z
LAST-MODIFIED:20250612T171812Z
UID:10004208-1756540800-1756573200@exploremartincounty.com
SUMMARY:Par 3 Golf Tournament
DESCRIPTION:Calling all golfers! Robersonville Country Club has several tournaments coming up. Some events are open to guests. Please call the Pro Shop at 252-795-4212 for more info.
URL:https://exploremartincounty.com/event/par-3-golf-tournament/
LOCATION:Robersonville Country Club\, 20720 NC Highway 903\, Robersonville\, NC\, 27871\, United States
END:VEVENT
BEGIN:VEVENT
DTSTART;TZID=America/New_York:20250830T120000
DTEND;TZID=America/New_York:20250830T200000
DTSTAMP:20260425T184950
CREATED:20250623T165019Z
LAST-MODIFIED:20250826T195836Z
UID:10004245-1756555200-1756584000@exploremartincounty.com
SUMMARY:Robersonville Summer Music Festival
DESCRIPTION:Robersonville Music Festival will take place Saturday\, August 30th\, from noon to 8 PM\, at Robersonville Recreational Park. Enjoy local bands\, fun games for kids\, and plenty of vendors!\n\n\n\nWould you like to be a vendor or sponsor? Please email: info@venue603.com.\n\n\nThe Powell Boyz – Family gospel group from Robersonville.\nAG Thomas – Southern soul hits.\nDavid Dyer – Americana roots rock.\n\n\nShableek – Jazz saxophonist.\njAndr – Mellow R & B group.\nTish Songbird – R & B\, soul singer.\nThe Perfect Blend Band – R & B with a hint of soul and beach music.\nDavid Spruill – Smooth R & B from Martin County.\nKathy Watkins – Soulful & jazzy sounds.\nDJKP & DJ StarChild – Dance & boogie to DJKP & DJ StarChild’s live mixes.
URL:https://exploremartincounty.com/event/the-perfect-blend-band-live/
LOCATION:Robersonville Recreational Park\, 503 N Main St\, Robersonville\, NC\, 27871
ORGANIZER;CN="Venue 603":MAILTO:info@venue603.com
END:VEVENT
BEGIN:VEVENT
DTSTART;TZID=America/New_York:20250830T153000
DTEND;TZID=America/New_York:20250830T173000
DTSTAMP:20260425T184950
CREATED:20250804T184242Z
LAST-MODIFIED:20250804T184242Z
UID:10004351-1756567800-1756575000@exploremartincounty.com
SUMMARY:Wine & Design
DESCRIPTION:This is a special ON WHEELS event at The Small Shop on Main. Sign up\, show up\, sip up\, PAINT! No artistic talent is needed- we’ll take you through step by step! At this event\, participants will be painting a fall bouquet ginger jar door hanger. Wine & Design is not your typical art class. Be prepared to listen to music\, laugh\, and let go of stress. Bring friends or come alone\, we promise you will have a good time. This class is BYOB; bring your favorite wine/beer and snacks- (we supply cups and bottle openers!) \nWe start painting at the scheduled time of class. Please arrive 15 minutes before class time so you have two full hours to paint your masterpiece. We\, unfortunately\, cannot accommodate walk-ins\, so please book in advance. PAYMENT MUST BE MADE ONLINE. RESERVATIONS NOT GUARANTEED UNTIL PAYMENT HAS BEEN RECEIVED. \nThis is an ADULT painting party\, and recommended for ages 18+ and up! Anyone under the age of 18 MUST be accompanied by an adult! Children under the age of 12 are not admitted into adult classes. Each person present in the studio must have a paid seat. If you have questions\, please email us at greenvillenc@wineanddesign.com. \n**Cancellation policy: To receive a credit towards another class\, you must call at least 24 hours before an event. No refunds will be given\, but you are welcome to transfer to another class of equal value. No credit will be issued to no-shows. \n 
URL:https://exploremartincounty.com/event/wine-design/
LOCATION:The Small Shop on Main\, 143 W Main St\, Williamston\, NC\, 27892\, United States
ORGANIZER;CN="Wine & Design":MAILTO:greenvillenc@wineanddesign.com
END:VEVENT
BEGIN:VEVENT
DTSTART;TZID=America/New_York:20250830T180000
DTEND;TZID=America/New_York:20250830T210000
DTSTAMP:20260425T184950
CREATED:20250630T182437Z
LAST-MODIFIED:20250825T171635Z
UID:10004275-1756576800-1756587600@exploremartincounty.com
SUMMARY:Grace Jam Gospel Concert 2025
DESCRIPTION:Martin County and surrounding areas! New Crossroads Community Church invites you to the inaugural Grace Jam on Saturday\, August 30th at 6 PM on the Main Street Community Stage in Downtown Williamston. \n  \n \n 
URL:https://exploremartincounty.com/event/grace-jam-gospel-concert-2025/
LOCATION:Main Street Community Stage – Williamston\, 140 W Main St\, Williamston\, NC\, 27892\, United States
ORGANIZER;CN="New Crossroads Community Church":MAILTO:newcrossroadscf@gmail.com
END:VEVENT
END:VCALENDAR