BEGIN:VCALENDAR
VERSION:2.0
PRODID:-//Explore Martin County NC - ECPv6.14.2//NONSGML v1.0//EN
CALSCALE:GREGORIAN
METHOD:PUBLISH
X-WR-CALNAME:Explore Martin County NC
X-ORIGINAL-URL:https://exploremartincounty.com
X-WR-CALDESC:Events for Explore Martin County NC
REFRESH-INTERVAL;VALUE=DURATION:PT1H
X-Robots-Tag:noindex
X-PUBLISHED-TTL:PT1H
BEGIN:VTIMEZONE
TZID:America/New_York
BEGIN:DAYLIGHT
TZOFFSETFROM:-0500
TZOFFSETTO:-0400
TZNAME:EDT
DTSTART:20250309T070000
END:DAYLIGHT
BEGIN:STANDARD
TZOFFSETFROM:-0400
TZOFFSETTO:-0500
TZNAME:EST
DTSTART:20251102T060000
END:STANDARD
END:VTIMEZONE
BEGIN:VEVENT
DTSTART;TZID=America/New_York:20250829T103000
DTEND;TZID=America/New_York:20250829T113000
DTSTAMP:20260425T184932
CREATED:20250811T183936Z
LAST-MODIFIED:20250811T183936Z
UID:10004418-1756463400-1756467000@exploremartincounty.com
SUMMARY:Storytime Robersonville
DESCRIPTION:Storytime at the Robersonville Public Library takes place on Wednesdays at 10:30 AM and Fridays at 10:30 AM / 3:30 PM. Perfect for all ages! Children must be accompanied by a caregiver. No registration needed — just drop in and join the fun! \n\n\n  \n \n  \n  \n 
URL:https://exploremartincounty.com/event/storytime-robersonville/2025-08-29/1/
LOCATION:Robersonville Public Library\, 119 S Main St\, Robersonville\, NC\, 27871\, United States
END:VEVENT
BEGIN:VEVENT
DTSTART;TZID=America/New_York:20250829T120000
DTEND;TZID=America/New_York:20250829T160000
DTSTAMP:20260425T184932
CREATED:20250318T204412Z
LAST-MODIFIED:20250814T153857Z
UID:10003835-1756468800-1756483200@exploremartincounty.com
SUMMARY:Photography Exhibition & Reception
DESCRIPTION:The annual photography exhibition at the Martin County Arts Council Flatiron Gallery will take place from August 14th to September 18th. The opening reception on August 14th will be from 6:30 PM to 8 PM. \n  \n \n 
URL:https://exploremartincounty.com/event/photography-exhibition-reception/2025-08-29/
LOCATION:Martin County Arts Council – Flat Iron Gallery\, 124 Washington St\, Williamston\, NC\, 27892\, United States
END:VEVENT
BEGIN:VEVENT
DTSTART;TZID=America/New_York:20250829T140000
DTEND;TZID=America/New_York:20250829T160000
DTSTAMP:20260425T184932
CREATED:20250811T182129Z
LAST-MODIFIED:20250811T182201Z
UID:10004408-1756476000-1756483200@exploremartincounty.com
SUMMARY:Narcan Training Class at the Library
DESCRIPTION:FREE Narcan Training at the Library! Save a Life — Learn How to Respond to an Opioid Overdose! Join MTW District Health and The Hope Exchange for a free\, hands-on Narcan (naloxone) training session on August 29th\, 2025\, at 2 PM\, in the Ella Mae Abbit Meeting Room at Martin Memorial Library. Learn to recognize the signs of an opioid overdose and practice how to administer Narcan. For more info\, please contact The Hope Exchange at 252-310-0017. Register HERE.
URL:https://exploremartincounty.com/event/4715/
LOCATION:Martin Memorial Library\, 200 N. Smithwick St\, Williamston\, NC\, 27892\, United States
END:VEVENT
BEGIN:VEVENT
DTSTART;TZID=America/New_York:20250829T153000
DTEND;TZID=America/New_York:20250829T163000
DTSTAMP:20260425T184932
CREATED:20250811T183936Z
LAST-MODIFIED:20250811T183936Z
UID:10004419-1756481400-1756485000@exploremartincounty.com
SUMMARY:Storytime Robersonville
DESCRIPTION:Storytime at the Robersonville Public Library takes place on Wednesdays at 10:30 AM and Fridays at 10:30 AM / 3:30 PM. Perfect for all ages! Children must be accompanied by a caregiver. No registration needed — just drop in and join the fun! \n\n\n  \n \n  \n  \n 
URL:https://exploremartincounty.com/event/storytime-robersonville/2025-08-29/2/
LOCATION:Robersonville Public Library\, 119 S Main St\, Robersonville\, NC\, 27871\, United States
END:VEVENT
BEGIN:VEVENT
DTSTART;TZID=America/New_York:20250829T180000
DTEND;TZID=America/New_York:20250829T220000
DTSTAMP:20260425T184932
CREATED:20250828T180517Z
LAST-MODIFIED:20250828T180517Z
UID:10005267-1756490400-1756504800@exploremartincounty.com
SUMMARY:Game Night at The Snack Shack
DESCRIPTION:Game Night is back this Friday night at the Snack Shack from 6 PM to 10 PM! All ages are welcome. Come out and get your game on! Do you like board games and video games? The Snack Shack has both\, including game systems from Atari to PS5 to Xbox! Cool off with lemonades or orangeades for only $3. Scoops of ice cream are only $2. \n  \n \n  \n 
URL:https://exploremartincounty.com/event/game-night-at-the-snack-shack-2/
LOCATION:The Snack Shack\, 101 B Main St\, Williamston\, NC\, 27892\, United States
END:VEVENT
BEGIN:VEVENT
DTSTART;TZID=America/New_York:20250829T210000
DTEND;TZID=America/New_York:20250829T235900
DTSTAMP:20260425T184932
CREATED:20250825T153716Z
LAST-MODIFIED:20250825T153716Z
UID:10005232-1756501200-1756511940@exploremartincounty.com
SUMMARY:Live Music at Southfork Sports Bar & Grill
DESCRIPTION:Head to Southfork Sports Bar & Grill on Friday\, August 29th\, from 9 PM to 12 AM for local\, live music\, drinks\, and fun! \n 
URL:https://exploremartincounty.com/event/live-music-at-southfork-sports-bar-grill-2/
LOCATION:Southfork Sports Bar & Grill\, 16328 NC Highway 125\, Robersonville\, NC\, 27871\, United States
END:VEVENT
END:VCALENDAR