BEGIN:VCALENDAR
VERSION:2.0
PRODID:-//Explore Martin County NC - ECPv6.14.2//NONSGML v1.0//EN
CALSCALE:GREGORIAN
METHOD:PUBLISH
X-ORIGINAL-URL:https://exploremartincounty.com
X-WR-CALDESC:Events for Explore Martin County NC
REFRESH-INTERVAL;VALUE=DURATION:PT1H
X-Robots-Tag:noindex
X-PUBLISHED-TTL:PT1H
BEGIN:VTIMEZONE
TZID:America/New_York
BEGIN:DAYLIGHT
TZOFFSETFROM:-0500
TZOFFSETTO:-0400
TZNAME:EDT
DTSTART:20250309T070000
END:DAYLIGHT
BEGIN:STANDARD
TZOFFSETFROM:-0400
TZOFFSETTO:-0500
TZNAME:EST
DTSTART:20251102T060000
END:STANDARD
END:VTIMEZONE
BEGIN:VEVENT
DTSTART;TZID=America/New_York:20250828T120000
DTEND;TZID=America/New_York:20250828T160000
DTSTAMP:20260425T185114
CREATED:20250318T204412Z
LAST-MODIFIED:20250814T153857Z
UID:10003834-1756382400-1756396800@exploremartincounty.com
SUMMARY:Photography Exhibition & Reception
DESCRIPTION:The annual photography exhibition at the Martin County Arts Council Flatiron Gallery will take place from August 14th to September 18th. The opening reception on August 14th will be from 6:30 PM to 8 PM. \n  \n \n 
URL:https://exploremartincounty.com/event/photography-exhibition-reception/2025-08-28/
LOCATION:Martin County Arts Council – Flat Iron Gallery\, 124 Washington St\, Williamston\, NC\, 27892\, United States
END:VEVENT
BEGIN:VEVENT
DTSTART;TZID=America/New_York:20250828T173000
DTEND;TZID=America/New_York:20250828T213000
DTSTAMP:20260425T185114
CREATED:20250325T204517Z
LAST-MODIFIED:20250904T213658Z
UID:10003950-1756402200-1756416600@exploremartincounty.com
SUMMARY:Thursday Night Doubles - Farm Life Disc Golf
DESCRIPTION:Thursday night doubles run in spring\, summer\, and fall. Start time is 5:30 PM\, except for the summer months\, as the days get longer\, wherein 6 PM will be the new start time. \n  \nThis beautiful course is a tightly wooded course with swamps and a pond. Alt. pin placements make for a fun and challenging time. Situated on a private family farm\, so please call the owner before playing. The phone number is also posted on a sign near the 1st tee. \n  \nDebbie Roberson\nPhone: 252-217-9738
URL:https://exploremartincounty.com/event/thursday-night-doubles-farm-life-disc-golf/2025-08-28/
LOCATION:Farm Life Disc Golf\, 1233 Kent Roberson Rd.\, Williamston\, NC\, 27892\, United States
END:VEVENT
BEGIN:VEVENT
DTSTART;TZID=America/New_York:20250828T183000
DTEND;TZID=America/New_York:20250828T230000
DTSTAMP:20260425T185114
CREATED:20250826T160647Z
LAST-MODIFIED:20250826T160647Z
UID:10005246-1756405800-1756422000@exploremartincounty.com
SUMMARY:Church League Bowling
DESCRIPTION:Church League Bowling will begin on Thursday\, August 28th\, and run for a 12-week season\, every Thursday at 6:30 PM\, with teams of 4. Season will finish before Thanksgiving. Join a team or bring your own team! Contact Williamston Bowling Center if you’re interested. \n  \n \n 
URL:https://exploremartincounty.com/event/church-league-bowling-2/2025-08-28/
LOCATION:Williamston Bowling Center\, 617 East Blvd\, Williamston\, NC\, 27892\, United States
END:VEVENT
BEGIN:VEVENT
DTSTART;TZID=America/New_York:20250828T190000
DTEND;TZID=America/New_York:20250828T220000
DTSTAMP:20260425T185114
CREATED:20250807T193934Z
LAST-MODIFIED:20250807T193934Z
UID:10004368-1756407600-1756418400@exploremartincounty.com
SUMMARY:Football Watch Party - ECU vs NC State
DESCRIPTION:Head to The Snack Shack for the ECU vs NC State Football Game on Thursday\, August 28th at 7 PM. Bring the fam to this watch party! All ages welcome. \n 
URL:https://exploremartincounty.com/event/football-watch-party-ecu-vs-nc-state/
LOCATION:The Snack Shack\, 101 B Main St\, Williamston\, NC\, 27892\, United States
END:VEVENT
END:VCALENDAR