BEGIN:VCALENDAR
VERSION:2.0
PRODID:-//Explore Martin County NC - ECPv6.14.2//NONSGML v1.0//EN
CALSCALE:GREGORIAN
METHOD:PUBLISH
X-ORIGINAL-URL:https://exploremartincounty.com
X-WR-CALDESC:Events for Explore Martin County NC
REFRESH-INTERVAL;VALUE=DURATION:PT1H
X-Robots-Tag:noindex
X-PUBLISHED-TTL:PT1H
BEGIN:VTIMEZONE
TZID:America/New_York
BEGIN:DAYLIGHT
TZOFFSETFROM:-0500
TZOFFSETTO:-0400
TZNAME:EDT
DTSTART:20250309T070000
END:DAYLIGHT
BEGIN:STANDARD
TZOFFSETFROM:-0400
TZOFFSETTO:-0500
TZNAME:EST
DTSTART:20251102T060000
END:STANDARD
END:VTIMEZONE
BEGIN:VEVENT
DTSTART;TZID=America/New_York:20250826T110000
DTEND;TZID=America/New_York:20250826T120000
DTSTAMP:20260425T185128
CREATED:20250811T180548Z
LAST-MODIFIED:20250811T184037Z
UID:10004406-1756206000-1756209600@exploremartincounty.com
SUMMARY:Storytime Williamston
DESCRIPTION:Toddler & Preschooler Storytime at the Library! Join library staff for a fun-filled storytime designed just for toddlers and preschoolers! Each storytime features delightful stories\, playful songs\, movement\, and age-appropriate activities to help little ones develop early literacy skills—all while having a blast. Perfect for ages 18 months–5 years (must be accompanied by a caregiver). No registration needed—just drop in and join the fun! \n\n\n  \n \n  \n  \n 
URL:https://exploremartincounty.com/event/storytime-williamston-6/
LOCATION:Martin Memorial Library\, 200 N. Smithwick St\, Williamston\, NC\, 27892\, United States
END:VEVENT
BEGIN:VEVENT
DTSTART;TZID=America/New_York:20250826T120000
DTEND;TZID=America/New_York:20250826T160000
DTSTAMP:20260425T185128
CREATED:20250318T204412Z
LAST-MODIFIED:20250814T153857Z
UID:10003832-1756209600-1756224000@exploremartincounty.com
SUMMARY:Photography Exhibition & Reception
DESCRIPTION:The annual photography exhibition at the Martin County Arts Council Flatiron Gallery will take place from August 14th to September 18th. The opening reception on August 14th will be from 6:30 PM to 8 PM. \n  \n \n 
URL:https://exploremartincounty.com/event/photography-exhibition-reception/2025-08-26/
LOCATION:Martin County Arts Council – Flat Iron Gallery\, 124 Washington St\, Williamston\, NC\, 27892\, United States
END:VEVENT
BEGIN:VEVENT
DTSTART;TZID=America/New_York:20250826T183000
DTEND;TZID=America/New_York:20250826T200000
DTSTAMP:20260425T185128
CREATED:20250620T184734Z
LAST-MODIFIED:20250904T213209Z
UID:10004238-1756233000-1756238400@exploremartincounty.com
SUMMARY:Aqua Zumba
DESCRIPTION:Enjoy a pool workout at Aqua Zumba class at Roanoke Country Club\, every Tuesday night at 6:30 PM\, until pool season ends in late September.
URL:https://exploremartincounty.com/event/aqua-zumba/2025-08-26/
LOCATION:Roanoke Country Club\, 1380 Fairway Dr\, Williamston\, NC\, 27892\, United States
END:VEVENT
END:VCALENDAR