BEGIN:VCALENDAR
VERSION:2.0
PRODID:-//Explore Martin County NC - ECPv6.14.2//NONSGML v1.0//EN
CALSCALE:GREGORIAN
METHOD:PUBLISH
X-ORIGINAL-URL:https://exploremartincounty.com
X-WR-CALDESC:Events for Explore Martin County NC
REFRESH-INTERVAL;VALUE=DURATION:PT1H
X-Robots-Tag:noindex
X-PUBLISHED-TTL:PT1H
BEGIN:VTIMEZONE
TZID:America/New_York
BEGIN:DAYLIGHT
TZOFFSETFROM:-0500
TZOFFSETTO:-0400
TZNAME:EDT
DTSTART:20250309T070000
END:DAYLIGHT
BEGIN:STANDARD
TZOFFSETFROM:-0400
TZOFFSETTO:-0500
TZNAME:EST
DTSTART:20251102T060000
END:STANDARD
END:VTIMEZONE
BEGIN:VEVENT
DTSTART;TZID=America/New_York:20250824T080000
DTEND;TZID=America/New_York:20250824T235900
DTSTAMP:20260425T185129
CREATED:20250520T162901Z
LAST-MODIFIED:20250520T162901Z
UID:10004126-1756022400-1756079940@exploremartincounty.com
SUMMARY:Endless Summer Horse Show
DESCRIPTION:More info coming soon for the Endless Summer Horse Show. Stalls and Hookup reservations are now open. Camper Hookups are mail-in. For confirmation stalls can be paid on the Martinganza AQHA Show and Futurity website if you would like to pay for stalls early.
URL:https://exploremartincounty.com/event/endless-summer-horse-show/2025-08-24/
LOCATION:Senator Bob Martin Eastern Agricultural Center\, 2900 NC-125\, Williamston\, NC\, 27892\, United States
ORGANIZER;CN="Martinganza":MAILTO:showsec57@gmail.com
END:VEVENT
BEGIN:VEVENT
DTSTART;TZID=America/New_York:20250824T100000
DTEND;TZID=America/New_York:20250824T170000
DTSTAMP:20260425T185129
CREATED:20250812T164312Z
LAST-MODIFIED:20250812T164312Z
UID:10004427-1756029600-1756054800@exploremartincounty.com
SUMMARY:Community Day
DESCRIPTION:Family\, friends\, & community\, you’re invited to be a guest at a Community Day at Mount Zion United Holy Church in Williamston. Worship begins at 10 AM & after the service\, continue the day with food\, fellowship\, games\, prizes\, & fun! Don’t miss out on this festive community event! \n 
URL:https://exploremartincounty.com/event/community-day/
LOCATION:Mount Zion United Holy Church\, 201 Jamesville Rd\, Williamston\, NC\, 27892\, United States
END:VEVENT
END:VCALENDAR