BEGIN:VCALENDAR
VERSION:2.0
PRODID:-//Explore Martin County NC - ECPv6.14.2//NONSGML v1.0//EN
CALSCALE:GREGORIAN
METHOD:PUBLISH
X-WR-CALNAME:Explore Martin County NC
X-ORIGINAL-URL:https://exploremartincounty.com
X-WR-CALDESC:Events for Explore Martin County NC
REFRESH-INTERVAL;VALUE=DURATION:PT1H
X-Robots-Tag:noindex
X-PUBLISHED-TTL:PT1H
BEGIN:VTIMEZONE
TZID:America/New_York
BEGIN:DAYLIGHT
TZOFFSETFROM:-0500
TZOFFSETTO:-0400
TZNAME:EDT
DTSTART:20250309T070000
END:DAYLIGHT
BEGIN:STANDARD
TZOFFSETFROM:-0400
TZOFFSETTO:-0500
TZNAME:EST
DTSTART:20251102T060000
END:STANDARD
END:VTIMEZONE
BEGIN:VEVENT
DTSTART;TZID=America/New_York:20250822T080000
DTEND;TZID=America/New_York:20250822T235900
DTSTAMP:20260425T184202
CREATED:20250520T162901Z
LAST-MODIFIED:20250520T162901Z
UID:10004124-1755849600-1755907140@exploremartincounty.com
SUMMARY:Endless Summer Horse Show
DESCRIPTION:More info coming soon for the Endless Summer Horse Show. Stalls and Hookup reservations are now open. Camper Hookups are mail-in. For confirmation stalls can be paid on the Martinganza AQHA Show and Futurity website if you would like to pay for stalls early.
URL:https://exploremartincounty.com/event/endless-summer-horse-show/2025-08-22/
LOCATION:Senator Bob Martin Eastern Agricultural Center\, 2900 NC-125\, Williamston\, NC\, 27892\, United States
ORGANIZER;CN="Martinganza":MAILTO:showsec57@gmail.com
END:VEVENT
BEGIN:VEVENT
DTSTART;TZID=America/New_York:20250822T103000
DTEND;TZID=America/New_York:20250822T113000
DTSTAMP:20260425T184202
CREATED:20250811T183936Z
LAST-MODIFIED:20250811T183936Z
UID:10004415-1755858600-1755862200@exploremartincounty.com
SUMMARY:Storytime Robersonville
DESCRIPTION:Storytime at the Robersonville Public Library takes place on Wednesdays at 10:30 AM and Fridays at 10:30 AM / 3:30 PM. Perfect for all ages! Children must be accompanied by a caregiver. No registration needed — just drop in and join the fun! \n\n\n  \n \n  \n  \n 
URL:https://exploremartincounty.com/event/storytime-robersonville/2025-08-22/1/
LOCATION:Robersonville Public Library\, 119 S Main St\, Robersonville\, NC\, 27871\, United States
END:VEVENT
BEGIN:VEVENT
DTSTART;TZID=America/New_York:20250822T120000
DTEND;TZID=America/New_York:20250822T160000
DTSTAMP:20260425T184202
CREATED:20250318T204412Z
LAST-MODIFIED:20250814T153857Z
UID:10003830-1755864000-1755878400@exploremartincounty.com
SUMMARY:Photography Exhibition & Reception
DESCRIPTION:The annual photography exhibition at the Martin County Arts Council Flatiron Gallery will take place from August 14th to September 18th. The opening reception on August 14th will be from 6:30 PM to 8 PM. \n  \n \n 
URL:https://exploremartincounty.com/event/photography-exhibition-reception/2025-08-22/
LOCATION:Martin County Arts Council – Flat Iron Gallery\, 124 Washington St\, Williamston\, NC\, 27892\, United States
END:VEVENT
BEGIN:VEVENT
DTSTART;TZID=America/New_York:20250822T153000
DTEND;TZID=America/New_York:20250822T163000
DTSTAMP:20260425T184202
CREATED:20250811T183936Z
LAST-MODIFIED:20250811T183936Z
UID:10004416-1755876600-1755880200@exploremartincounty.com
SUMMARY:Storytime Robersonville
DESCRIPTION:Storytime at the Robersonville Public Library takes place on Wednesdays at 10:30 AM and Fridays at 10:30 AM / 3:30 PM. Perfect for all ages! Children must be accompanied by a caregiver. No registration needed — just drop in and join the fun! \n\n\n  \n \n  \n  \n 
URL:https://exploremartincounty.com/event/storytime-robersonville/2025-08-22/2/
LOCATION:Robersonville Public Library\, 119 S Main St\, Robersonville\, NC\, 27871\, United States
END:VEVENT
BEGIN:VEVENT
DTSTART;TZID=America/New_York:20250822T210000
DTEND;TZID=America/New_York:20250822T233000
DTSTAMP:20260425T184202
CREATED:20250820T200517Z
LAST-MODIFIED:20250820T200517Z
UID:10005218-1755896400-1755905400@exploremartincounty.com
SUMMARY:Live Music at Southfork Sports Bar & Grill
DESCRIPTION:Head to Southfork Sports Bar & Grill on Friday\, August 22nd\, from 9 PM to 11:30 PM for local\, live music\, drinks\, and fun! \n 
URL:https://exploremartincounty.com/event/live-music-at-southfork-sports-bar-grill/
LOCATION:Southfork Sports Bar & Grill\, 16328 NC Highway 125\, Robersonville\, NC\, 27871\, United States
END:VEVENT
END:VCALENDAR