BEGIN:VCALENDAR
VERSION:2.0
PRODID:-//Explore Martin County NC - ECPv6.14.2//NONSGML v1.0//EN
CALSCALE:GREGORIAN
METHOD:PUBLISH
X-ORIGINAL-URL:https://exploremartincounty.com
X-WR-CALDESC:Events for Explore Martin County NC
REFRESH-INTERVAL;VALUE=DURATION:PT1H
X-Robots-Tag:noindex
X-PUBLISHED-TTL:PT1H
BEGIN:VTIMEZONE
TZID:America/New_York
BEGIN:DAYLIGHT
TZOFFSETFROM:-0500
TZOFFSETTO:-0400
TZNAME:EDT
DTSTART:20250309T070000
END:DAYLIGHT
BEGIN:STANDARD
TZOFFSETFROM:-0400
TZOFFSETTO:-0500
TZNAME:EST
DTSTART:20251102T060000
END:STANDARD
END:VTIMEZONE
BEGIN:VEVENT
DTSTART;TZID=America/New_York:20250816T080000
DTEND;TZID=America/New_York:20250816T120000
DTSTAMP:20260425T185113
CREATED:20250811T184934Z
LAST-MODIFIED:20250814T152252Z
UID:10004423-1755331200-1755345600@exploremartincounty.com
SUMMARY:Farmers Market
DESCRIPTION:Head to the Farmers Market on Saturday from 8 AM to noon and support local farmers and artisans. Have lunch and refreshments at the Concession Stand / Fundraiser for Bear Grass Yucca House. Shop for locally made gifts\, fresh produce\, meat\, and more! \n  \n \n 
URL:https://exploremartincounty.com/event/farmers-market-7/
LOCATION:Martin County Farmers Market\, 4001 W Main St\, Williamston\, NC\, 27892\, United States
END:VEVENT
BEGIN:VEVENT
DTSTART;TZID=America/New_York:20250816T080000
DTEND;TZID=America/New_York:20250816T180000
DTSTAMP:20260425T185113
CREATED:20250225T194837Z
LAST-MODIFIED:20250811T165031Z
UID:10004404-1755331200-1755367200@exploremartincounty.com
SUMMARY:Just Horsin' 'Round Open Horse Show
DESCRIPTION:Senator Bob Martin Eastern Agricultural Center will be welcoming in August’s Just Horsin’ ‘Round Open Horse Show on August 16th – 17th\, 2025. Spectator admission is FREE! Show times are Saturday: 8 AM – 6 PM\, and Sunday 8 AM – 6 PM. Please bring your family and friends to enjoy watching the riders who put in their hard work and dedication. For more information\, please visit www.justhorsinround.com. \n  \n \n 
URL:https://exploremartincounty.com/event/just-horsin-round-open-horse-show-3/2025-08-16/
LOCATION:Senator Bob Martin Eastern Agricultural Center\, 2900 NC-125\, Williamston\, NC\, 27892\, United States
END:VEVENT
BEGIN:VEVENT
DTSTART;TZID=America/New_York:20250816T090000
DTEND;TZID=America/New_York:20250816T180000
DTSTAMP:20260425T185113
CREATED:20250723T160510Z
LAST-MODIFIED:20250723T160510Z
UID:10004342-1755334800-1755367200@exploremartincounty.com
SUMMARY:The Stamped Flamingo Grand Re-Opening
DESCRIPTION:Join Williamston Downtown’s newest shop on Saturday\, August 16th\, for a Grand Re-Opening celebration\, as they have recently relocated from Robersonville. Ribbon-cutting ceremony takes place at 11 AM. There will be a raffle that day (every purchase is an entry)\, and the first few customers of the day will receive a FREE gift. Micki with Perfect Perks and Kimberly with Betty’s Hat Bar Haven will be joining be for the day of celebration. Micki will have a coffee bar\, and Kim will have a hat bar. Come out and show downtown some love!
URL:https://exploremartincounty.com/event/the-stamped-flamingo-grand-re-opening/
LOCATION:The Stamped Flamingo\, 145 W Main St\, Williamston\, NC\, 27892\, United States
END:VEVENT
BEGIN:VEVENT
DTSTART;TZID=America/New_York:20250816T100000
DTEND;TZID=America/New_York:20250816T130000
DTSTAMP:20260425T185113
CREATED:20250804T191818Z
LAST-MODIFIED:20250804T191818Z
UID:10004354-1755338400-1755349200@exploremartincounty.com
SUMMARY:Boutique Back to School Bash
DESCRIPTION:Y’all head to Twice as Nice Boutique on August 16th\, for a back-to-school event featuring vendors\, a food truck\, and a photographer. Shop and get your back-to-school photos made at this special event! Please email twiceasniceboutique0220@gmail.com for more info. \n 
URL:https://exploremartincounty.com/event/boutique-back-to-school-bash/
LOCATION:Twice as Nice Boutique\, 3580 Joe Mobley Rd\, Williamston\, NC\, 27892\, United States
END:VEVENT
BEGIN:VEVENT
DTSTART;TZID=America/New_York:20250816T100000
DTEND;TZID=America/New_York:20250816T140000
DTSTAMP:20260425T185113
CREATED:20250721T161750Z
LAST-MODIFIED:20250721T161750Z
UID:10004338-1755338400-1755352800@exploremartincounty.com
SUMMARY:Fun in the Sun
DESCRIPTION:Williamston Police Department invites all to Fun in the Sun at Godwin-Coppage Park on Saturday\, August 16th\, from 10 AM to 2 PM! In lieu of National Night Out\, enjoy a day filled with water slides\, bounce houses\, bubbles\, a fireman’s course\, and free hot dogs and ice pops. Swimsuits and towels are recommended. For more information\, contact Detective Sergeant Michael Pope at 252-661-0527. Hope to see you there for a fun\, family-friendly day in the park!
URL:https://exploremartincounty.com/event/fun-in-the-sun-2/
LOCATION:Godwin-Coppage Park\, 1073 Tyner Rd.\, Williamston\, NC\, 27892\, United States
ORGANIZER;CN="Williamston Police Department":MAILTO:bethcoltrain@townofwilliamston.com
END:VEVENT
BEGIN:VEVENT
DTSTART;TZID=America/New_York:20250816T110000
DTEND;TZID=America/New_York:20250816T190000
DTSTAMP:20260425T185113
CREATED:20250807T152443Z
LAST-MODIFIED:20250811T140601Z
UID:10004363-1755342000-1755370800@exploremartincounty.com
SUMMARY:Oak City Christmas Parade Committee Fundraiser by Roanoke BBQ Co.
DESCRIPTION:This pop-up fundraiser by Roanoke BBQ Company / Smoke Ropers will benefit the Christmas Parade Committee. Save the date – Saturday\, August 16th! For more info or to place your order\, text 919-824-2979 or message the Smoke Ropers Facebook Page. Get your order in before August 12th to guarantee your plate(s). \n  \n \n  \n 
URL:https://exploremartincounty.com/event/oak-city-christmas-parade-committee-fundraiser-by-roanoke-bbq-co/
LOCATION:Oak City NC Town Commons\, E Commerce St & West Ave\, Oak City\, NC\, 27857\, United States
END:VEVENT
BEGIN:VEVENT
DTSTART;TZID=America/New_York:20250816T150000
DTEND;TZID=America/New_York:20250816T220000
DTSTAMP:20260425T185113
CREATED:20250812T155408Z
LAST-MODIFIED:20250812T155408Z
UID:10004425-1755356400-1755381600@exploremartincounty.com
SUMMARY:Dirt Kart Race
DESCRIPTION:Graveyard Motor Speedway will hold a dirt kart race on Saturday\, August 16th. Gates open at 3 PM / practice at 4:30/5 PM and racing begins before 7 PM!
URL:https://exploremartincounty.com/event/dirt-kart-race-5/
LOCATION:Graveyard Motor Speedway\, 8351 Bear Grass Rd\, Robersonville\, NC\, 27871\, United States
END:VEVENT
BEGIN:VEVENT
DTSTART;TZID=America/New_York:20250816T180000
DTEND;TZID=America/New_York:20250816T220000
DTSTAMP:20260425T185113
CREATED:20250804T185809Z
LAST-MODIFIED:20250804T185809Z
UID:10004353-1755367200-1755381600@exploremartincounty.com
SUMMARY:Retro Video Game Night
DESCRIPTION:Come out to The Snack Shack in downtown Williamston on Saturday\, August 16th\, to enjoy a retro video game night. Bring your friends and family and play the games you grew up on! \n 
URL:https://exploremartincounty.com/event/retro-video-game-night/
LOCATION:The Snack Shack\, 101 B Main St\, Williamston\, NC\, 27892\, United States
END:VEVENT
BEGIN:VEVENT
DTSTART;TZID=America/New_York:20250816T200000
DTEND;TZID=America/New_York:20250816T220000
DTSTAMP:20260425T185113
CREATED:20250814T170919Z
LAST-MODIFIED:20250814T170919Z
UID:10005216-1755374400-1755381600@exploremartincounty.com
SUMMARY:Screamin' Bridge Bluegrass Live
DESCRIPTION:Local band\, Screamin’ Bridge Bluegrass will perform live on Saturday\, August 16th at Green Acres. Green Acres Family Campground is “The Place to Be” and open all year! Visit Green Acres in Bear Grass\, NC for some wholesome family fun and unique camping experiences for the entire family. From nightly to seasonal camping\, Green Acres fits your needs. \n 
URL:https://exploremartincounty.com/event/screamin-bridge-bluegrass-live/
LOCATION:Green Acres Family Campground\, 1679 Green Acres Rd\, Williamston\, NC\, 27892\, United States
END:VEVENT
END:VCALENDAR