BEGIN:VCALENDAR
VERSION:2.0
PRODID:-//Explore Martin County NC - ECPv6.14.2//NONSGML v1.0//EN
CALSCALE:GREGORIAN
METHOD:PUBLISH
X-WR-CALNAME:Explore Martin County NC
X-ORIGINAL-URL:https://exploremartincounty.com
X-WR-CALDESC:Events for Explore Martin County NC
REFRESH-INTERVAL;VALUE=DURATION:PT1H
X-Robots-Tag:noindex
X-PUBLISHED-TTL:PT1H
BEGIN:VTIMEZONE
TZID:America/New_York
BEGIN:DAYLIGHT
TZOFFSETFROM:-0500
TZOFFSETTO:-0400
TZNAME:EDT
DTSTART:20250309T070000
END:DAYLIGHT
BEGIN:STANDARD
TZOFFSETFROM:-0400
TZOFFSETTO:-0500
TZNAME:EST
DTSTART:20251102T060000
END:STANDARD
END:VTIMEZONE
BEGIN:VEVENT
DTSTART;TZID=America/New_York:20250815T103000
DTEND;TZID=America/New_York:20250815T113000
DTSTAMP:20260425T184948
CREATED:20250811T183936Z
LAST-MODIFIED:20250811T183936Z
UID:10004412-1755253800-1755257400@exploremartincounty.com
SUMMARY:Storytime Robersonville
DESCRIPTION:Storytime at the Robersonville Public Library takes place on Wednesdays at 10:30 AM and Fridays at 10:30 AM / 3:30 PM. Perfect for all ages! Children must be accompanied by a caregiver. No registration needed — just drop in and join the fun! \n\n\n  \n \n  \n  \n 
URL:https://exploremartincounty.com/event/storytime-robersonville/2025-08-15/1/
LOCATION:Robersonville Public Library\, 119 S Main St\, Robersonville\, NC\, 27871\, United States
END:VEVENT
BEGIN:VEVENT
DTSTART;TZID=America/New_York:20250815T120000
DTEND;TZID=America/New_York:20250815T160000
DTSTAMP:20260425T184948
CREATED:20250318T204412Z
LAST-MODIFIED:20250814T153857Z
UID:10003825-1755259200-1755273600@exploremartincounty.com
SUMMARY:Photography Exhibition & Reception
DESCRIPTION:The annual photography exhibition at the Martin County Arts Council Flatiron Gallery will take place from August 14th to September 18th. The opening reception on August 14th will be from 6:30 PM to 8 PM. \n  \n \n 
URL:https://exploremartincounty.com/event/photography-exhibition-reception/2025-08-15/
LOCATION:Martin County Arts Council – Flat Iron Gallery\, 124 Washington St\, Williamston\, NC\, 27892\, United States
END:VEVENT
BEGIN:VEVENT
DTSTART;TZID=America/New_York:20250815T153000
DTEND;TZID=America/New_York:20250815T163000
DTSTAMP:20260425T184948
CREATED:20250811T183936Z
LAST-MODIFIED:20250811T183936Z
UID:10004413-1755271800-1755275400@exploremartincounty.com
SUMMARY:Storytime Robersonville
DESCRIPTION:Storytime at the Robersonville Public Library takes place on Wednesdays at 10:30 AM and Fridays at 10:30 AM / 3:30 PM. Perfect for all ages! Children must be accompanied by a caregiver. No registration needed — just drop in and join the fun! \n\n\n  \n \n  \n  \n 
URL:https://exploremartincounty.com/event/storytime-robersonville/2025-08-15/2/
LOCATION:Robersonville Public Library\, 119 S Main St\, Robersonville\, NC\, 27871\, United States
END:VEVENT
BEGIN:VEVENT
DTSTART;TZID=America/New_York:20250815T190000
DTEND;TZID=America/New_York:20250815T210000
DTSTAMP:20260425T184948
CREATED:20250723T163943Z
LAST-MODIFIED:20250723T163943Z
UID:10004343-1755284400-1755291600@exploremartincounty.com
SUMMARY:Back-to-School Ice Cream Party
DESCRIPTION:Please join The Friendly Spot in Jamesville for back-to-school fun! All are invited to this ice cream party on August 15th. \n 
URL:https://exploremartincounty.com/event/back-to-school-ice-cream-party/
LOCATION:The Friendly Spot\, 2050 Main St\, Jamesville\, NC\, 27846\, United States
END:VEVENT
BEGIN:VEVENT
DTSTART;TZID=America/New_York:20250815T190000
DTEND;TZID=America/New_York:20250815T220000
DTSTAMP:20260425T184948
CREATED:20250811T185137Z
LAST-MODIFIED:20250811T185137Z
UID:10004424-1755284400-1755295200@exploremartincounty.com
SUMMARY:Karaoke Night at The Snack Shack
DESCRIPTION:You can be a star on Karaoke Night at The Snack Shack! Join in the fun from 7 PM to 10 PM. \n  \n \n  \n \n  \n  \n  \n  \n 
URL:https://exploremartincounty.com/event/karaoke-night-at-the-snack-shack-9/
LOCATION:The Snack Shack\, 101 B Main St\, Williamston\, NC\, 27892\, United States
END:VEVENT
END:VCALENDAR