BEGIN:VCALENDAR
VERSION:2.0
PRODID:-//Explore Martin County NC - ECPv6.14.2//NONSGML v1.0//EN
CALSCALE:GREGORIAN
METHOD:PUBLISH
X-ORIGINAL-URL:https://exploremartincounty.com
X-WR-CALDESC:Events for Explore Martin County NC
REFRESH-INTERVAL;VALUE=DURATION:PT1H
X-Robots-Tag:noindex
X-PUBLISHED-TTL:PT1H
BEGIN:VTIMEZONE
TZID:America/New_York
BEGIN:DAYLIGHT
TZOFFSETFROM:-0500
TZOFFSETTO:-0400
TZNAME:EDT
DTSTART:20250309T070000
END:DAYLIGHT
BEGIN:STANDARD
TZOFFSETFROM:-0400
TZOFFSETTO:-0500
TZNAME:EST
DTSTART:20251102T060000
END:STANDARD
END:VTIMEZONE
BEGIN:VEVENT
DTSTART;TZID=America/New_York:20250726T080000
DTEND;TZID=America/New_York:20250726T200000
DTSTAMP:20260425T202402
CREATED:20250520T161834Z
LAST-MODIFIED:20250721T145927Z
UID:10004122-1753516800-1753560000@exploremartincounty.com
SUMMARY:Little River Circuit Horse Show
DESCRIPTION:It’s the 50th Anniversary of the Little River Circuit Horse Show! The NCQHA-District 4 “Little River Circuit” Horse Show will take place July 25th – 27th\, 2025\, at the Senator Bob Martin Eastern Agricultural Center. Enjoy watching riders compete in exciting classes. No admission will be charged to the public. Please visit www.Martinganza.com for more information or call (919) 894-0600. Show times are Friday: 8 AM to 7 PM\, Saturday: 8 AM to 8 PM\, and Sunday: 8 AM to 5 PM. \n  \nClasses of many disciplines are available. There will be American Quarter Horse Association classes and Stock Horse classes for exhibitors who are not members of AQHA or do not have a registered Quarter Horse. Free to spectators. The flat Fee of $395 includes a stall\, 3 shavings\, and classes. Any money classes are separate fees. More info HERE. \n  \nNCQHA District IV members: Scholarship savings will be offered to youth members again this year. Over $1200 was saved in 2024! \n  \nLittle River Stalls and Hookup reservations are now open. Camper Hookups are mail-in. For confirmation stalls can be paid on the Martinganza AQHA Show and Futurity website if you would like to pay for stalls early. \n  \nPatterns are now posted on our Martinganza website by day for you to see! Click here –> https://martinganza.com/patterns/ \n  \nSomeone will be the winner of a wonderful SWFT scooter (pictured below) at this event. Sheet and show information are at www.martinganza.com/event. \n  \n \n  \n \n  \n \n \n 
URL:https://exploremartincounty.com/event/little-river-circuit-horse-show-2/2025-07-26/
LOCATION:Senator Bob Martin Eastern Agricultural Center\, 2900 NC-125\, Williamston\, NC\, 27892\, United States
ORGANIZER;CN="Martinganza":MAILTO:showsec57@gmail.com
END:VEVENT
BEGIN:VEVENT
DTSTART;TZID=America/New_York:20250726T110000
DTEND;TZID=America/New_York:20250726T160000
DTSTAMP:20260425T202402
CREATED:20250721T141542Z
LAST-MODIFIED:20250721T141542Z
UID:10004332-1753527600-1753545600@exploremartincounty.com
SUMMARY:Christmas in July
DESCRIPTION:SANTA is coming to town! CHRISTMAS in JULY – this Saturday\, 7/26/25! Outside vendors and HIGHWAY 17 Concessions will be there with their food truck and their FAMOUS CHEESEBURGERS. Bring the kids to see Santa and they will get a coupon for a FREE ICE CREAM CONE (12 & under). High Cotton Farms\, 1366 Bell Town Rd\, Williamston\, 252-809-7005.
URL:https://exploremartincounty.com/event/christmas-in-july-2/
LOCATION:High Cotton Farms\, 1366 Bell Town Rd\, Williamston\, NC\, 27892\, United States
END:VEVENT
BEGIN:VEVENT
DTSTART;TZID=America/New_York:20250726T110000
DTEND;TZID=America/New_York:20250726T170000
DTSTAMP:20260425T202402
CREATED:20250717T185457Z
LAST-MODIFIED:20250717T185457Z
UID:10004331-1753527600-1753549200@exploremartincounty.com
SUMMARY:Plate Sale - Fried Fish Sandwiches & Fried Soft Shell Crab
DESCRIPTION:Enjoy Fried Fish Sandwiches & Fried Soft Shell Crab in support of Robersonville Dream Makers on Saturday\, July 26th\, from 11 AM until they run out! \n 
URL:https://exploremartincounty.com/event/plate-sale-fried-fish-sandwiches-fried-soft-shell-crab/
LOCATION:NC
END:VEVENT
BEGIN:VEVENT
DTSTART;TZID=America/New_York:20250726T130000
DTEND;TZID=America/New_York:20250726T150000
DTSTAMP:20260425T202402
CREATED:20250411T181853Z
LAST-MODIFIED:20250411T181853Z
UID:10004010-1753534800-1753542000@exploremartincounty.com
SUMMARY:Healing Through Art
DESCRIPTION:Join AmVets Post 227\, at Healing Through Art\, a support group at Martin County Arts Council\, every 2nd and 4th Saturday March through December. Who knew art could be such a comforting experience?! All are welcome.
URL:https://exploremartincounty.com/event/healing-through-art/2025-07-26/
LOCATION:Martin County Arts Council – Flat Iron Gallery\, 124 Washington St\, Williamston\, NC\, 27892\, United States
ORGANIZER;CN="AmVets Post 227":MAILTO:cdspinney@hotmail.com
END:VEVENT
BEGIN:VEVENT
DTSTART;TZID=America/New_York:20250726T140000
DTEND;TZID=America/New_York:20250726T170000
DTSTAMP:20260425T202402
CREATED:20250623T163541Z
LAST-MODIFIED:20250714T152725Z
UID:10004244-1753538400-1753549200@exploremartincounty.com
SUMMARY:75th Anniversary & Fun Day - Everetts Ruritan Club
DESCRIPTION:On July 26th\, Everetts Ruritan Club will host a 75th anniversary celebration and fun day with games\, food\, and activities. Join in the fun for this all-ages event in support of the organization! \n  \n 
URL:https://exploremartincounty.com/event/75th-anniversary-fun-day-everetts-ruritan-club/
LOCATION:Everetts Ruritan Club\, 205 Ayers St\, Williamston\, NC\, 27892\, United States
END:VEVENT
BEGIN:VEVENT
DTSTART;TZID=America/New_York:20250726T190000
DTEND;TZID=America/New_York:20250726T190000
DTSTAMP:20260425T202402
CREATED:20250612T175423Z
LAST-MODIFIED:20250630T180441Z
UID:10004273-1753556400-1753556400@exploremartincounty.com
SUMMARY:Jamesville EMS & Fire Fundraising Banquet
DESCRIPTION:Jamesville EMS and Fire are teaming up again this year for the 2nd annual fundraising banquet at Senator Bob Martin Eastern Agricultural Center on July 26th. Mission BBQ will return to offer its amazing menu and support.\n\nSince Martin General Hospital closed almost two years ago\, both departments have faced increased challenges\, including longer drive times\, higher fuel costs\, and greater demands on resources. Despite these challenges\, Jamesville EMS and Fire have continued to provide critical services to the area and mutual aid to Washington County and other areas in Martin County. This is the driving force behind their commitment to making a positive impact.\n\n\n\nAuction items this year feature an impressive lineup\, including trips to Mexico\, Vegas\, and Hawaii\, designer handbags\, vacation packages\, sports team tickets\, inshore fishing trips\, golf passes to Golf Links OBX\, OBX packages for a couple and a family including hotel stays\, dining\, and entertainment\, handmade wood products such as gun cases\, flags\, outdoor furniture\, and much more. They will also offer a range of exclusive experiences\, including a silent auction table\, a women’s table\, a reverse raffle\, and games before the event starts to win money or prizes.\n\nLast year’s event was a resounding success! Don’t miss your chance to make a difference – tickets are available until July 11th or as long as they last. If you haven’t secured your seat\, please reach out to a member as soon as possible. There’s a limited number of raffle tickets remaining\, with approximately a dozen left out of 200. Meal tickets available but there will be a limit to these to finalize all catering plans by July 11th.\n\n\nThe deadline for sponsorship is July 1st\, so please contact a member ASAP if you’re interested in becoming a sponsor.
URL:https://exploremartincounty.com/event/jamesville-ems-fire-fundraising-banquet/
LOCATION:Senator Bob Martin Eastern Agricultural Center\, 2900 NC-125\, Williamston\, NC\, 27892\, United States
END:VEVENT
BEGIN:VEVENT
DTSTART;TZID=America/New_York:20250726T210000
DTEND;TZID=America/New_York:20250726T235900
DTSTAMP:20260425T202402
CREATED:20250710T184433Z
LAST-MODIFIED:20250710T184433Z
UID:10004319-1753563600-1753574340@exploremartincounty.com
SUMMARY:Nick Bentley Live
DESCRIPTION:Local artist\, Nick Bentley will be performing at South Fork Sports Bar & Grill in Robersonville on Saturday\, July 26th. Come on out and have beers with friends\, while listening to local\, live music! \n 
URL:https://exploremartincounty.com/event/nick-bentley-live/
LOCATION:Southfork Sports Bar & Grill\, 16328 NC Highway 125\, Robersonville\, NC\, 27871\, United States
END:VEVENT
END:VCALENDAR