BEGIN:VCALENDAR
VERSION:2.0
PRODID:-//Explore Martin County NC - ECPv6.14.2//NONSGML v1.0//EN
CALSCALE:GREGORIAN
METHOD:PUBLISH
X-WR-CALNAME:Explore Martin County NC
X-ORIGINAL-URL:https://exploremartincounty.com
X-WR-CALDESC:Events for Explore Martin County NC
REFRESH-INTERVAL;VALUE=DURATION:PT1H
X-Robots-Tag:noindex
X-PUBLISHED-TTL:PT1H
BEGIN:VTIMEZONE
TZID:America/New_York
BEGIN:DAYLIGHT
TZOFFSETFROM:-0500
TZOFFSETTO:-0400
TZNAME:EDT
DTSTART:20250309T070000
END:DAYLIGHT
BEGIN:STANDARD
TZOFFSETFROM:-0400
TZOFFSETTO:-0500
TZNAME:EST
DTSTART:20251102T060000
END:STANDARD
END:VTIMEZONE
BEGIN:VEVENT
DTSTART;TZID=America/New_York:20250714T180000
DTEND;TZID=America/New_York:20250714T200000
DTSTAMP:20260425T202229
CREATED:20250324T184752Z
LAST-MODIFIED:20250325T155852Z
UID:10003925-1752516000-1752523200@exploremartincounty.com
SUMMARY:Line Dancing Class
DESCRIPTION:Register now for Martin Community College’s Line Dancing Class series\, taking place on ***UPDATED DATES*** Monday nights from April 14th to July 14th. ***UPDATED DATES*** Please contact Lena Jackson at 252-789-0257 to register. \n \n 
URL:https://exploremartincounty.com/event/line-dancing-class-3-2/2025-07-14/
LOCATION:Martin Community College\, Kehukee Park Rd\, Williamston\, 27892\, United States
END:VEVENT
END:VCALENDAR