BEGIN:VCALENDAR
VERSION:2.0
PRODID:-//Explore Martin County NC - ECPv6.14.2//NONSGML v1.0//EN
CALSCALE:GREGORIAN
METHOD:PUBLISH
X-ORIGINAL-URL:https://exploremartincounty.com
X-WR-CALDESC:Events for Explore Martin County NC
REFRESH-INTERVAL;VALUE=DURATION:PT1H
X-Robots-Tag:noindex
X-PUBLISHED-TTL:PT1H
BEGIN:VTIMEZONE
TZID:America/New_York
BEGIN:DAYLIGHT
TZOFFSETFROM:-0500
TZOFFSETTO:-0400
TZNAME:EDT
DTSTART:20250309T070000
END:DAYLIGHT
BEGIN:STANDARD
TZOFFSETFROM:-0400
TZOFFSETTO:-0500
TZNAME:EST
DTSTART:20251102T060000
END:STANDARD
END:VTIMEZONE
BEGIN:VEVENT
DTSTART;TZID=America/New_York:20250712T000000
DTEND;TZID=America/New_York:20250712T235900
DTSTAMP:20260425T202402
CREATED:20250702T160745Z
LAST-MODIFIED:20250702T160745Z
UID:10004298-1752278400-1752364740@exploremartincounty.com
SUMMARY:Grilled Chicken & Fish Fry Fundraiser
DESCRIPTION:Perfect Image Bulldogs Plate Sale Fundraiser – Come out and support the cheer & football teams as they raise money for uniforms and equipment. They’ll be serving up delicious plates and every dollar goes towards helping the kids shine on the field and sidelines this season!
URL:https://exploremartincounty.com/event/grilled-chicken-fish-fry-fundraiser/
LOCATION:Family Dollar\, 300 West Blvd\, Williamston\, NC\, 27892\, United States
ORGANIZER;CN="Perfect Image Bulldogs":MAILTO:perfectimagebulldogs@gmail.com
END:VEVENT
BEGIN:VEVENT
DTSTART;TZID=America/New_York:20250712T070000
DTEND;TZID=America/New_York:20250712T190000
DTSTAMP:20260425T202402
CREATED:20250224T194828Z
LAST-MODIFIED:20250709T133426Z
UID:10003347-1752303600-1752346800@exploremartincounty.com
SUMMARY:SERHA Main Event & North America Reining Stakes Horse Show
DESCRIPTION:The SERHA Main Event & North America Reining Stakes Horse Show will take place at Senator Bob Martin Eastern Agricultural Center on July 7th – 13th. Spectator admission is free! Show times will be from 7 AM to 7 PM each day. Visit www.serha.org or call (919) 961-0440 for more information!
URL:https://exploremartincounty.com/event/serha-main-event-north-america-reining-stakes-horse-show/2025-07-12/
LOCATION:Senator Bob Martin Eastern Agricultural Center\, 2900 NC-125\, Williamston\, NC\, 27892\, United States
ORGANIZER;CN="SERHA":MAILTO:info@serha.org
END:VEVENT
BEGIN:VEVENT
DTSTART;TZID=America/New_York:20250712T080000
DTEND;TZID=America/New_York:20250712T120000
DTSTAMP:20260425T202402
CREATED:20250711T183324Z
LAST-MODIFIED:20250711T183324Z
UID:10004322-1752307200-1752321600@exploremartincounty.com
SUMMARY:Farmers Market
DESCRIPTION:Head to the Farmers Market on Saturday from 8 AM to noon and support local farmers and artisans. Have lunch and refreshments at the concession stand. Shop for locally made gifts\, fresh produce\, meat\, and more! \n 
URL:https://exploremartincounty.com/event/farmers-market-6/
LOCATION:Martin County Farmers Market\, 4001 W Main St\, Williamston\, NC\, 27892\, United States
END:VEVENT
BEGIN:VEVENT
DTSTART;TZID=America/New_York:20250712T100000
DTEND;TZID=America/New_York:20250712T160000
DTSTAMP:20260425T202402
CREATED:20250710T204444Z
LAST-MODIFIED:20250711T183137Z
UID:10004321-1752314400-1752336000@exploremartincounty.com
SUMMARY:A Revolutionary Experience…Celebrating America 250
DESCRIPTION:It’s the opening of Robersonville Exhibit Hall’s newest exhibit\, “A Revolutionary Experience…Celebrating America 250”! Saturday\, July 12th\, 10 AM to 4 PM\, at 112 S. Main St. in Robersonville\, come see displays on the Revolutionary War Period and experience the transformation of America\, North Carolina\, and Martin County. \n 
URL:https://exploremartincounty.com/event/a-revolutionary-experiencecelebrating-america-250/
LOCATION:Robersonville Exhibit Hall\, 112 S Main St\, Robersonville\, NC\, 27871\, United States
ORGANIZER;CN="Martin County Historical Society":MAILTO:info@martincountynchistoricalsociety.org
END:VEVENT
BEGIN:VEVENT
DTSTART;TZID=America/New_York:20250712T120000
DTEND;TZID=America/New_York:20250712T160000
DTSTAMP:20260425T202402
CREATED:20250318T203012Z
LAST-MODIFIED:20250527T162406Z
UID:10003783-1752321600-1752336000@exploremartincounty.com
SUMMARY:Bailey Phelps Art Exhibition & Reception
DESCRIPTION:This art exhibition at the Martin County Arts Council Flatiron Gallery will take place from June 12th to July 24th. The opening reception on June 12th will be from 6:30 PM to 8 PM. \n \n 
URL:https://exploremartincounty.com/event/bailey-phelps-art-exhibition-reception-2/2025-07-12/
LOCATION:Martin County Arts Council – Flat Iron Gallery\, 124 Washington St\, Williamston\, NC\, 27892\, United States
END:VEVENT
BEGIN:VEVENT
DTSTART;TZID=America/New_York:20250712T130000
DTEND;TZID=America/New_York:20250712T150000
DTSTAMP:20260425T202402
CREATED:20250411T181853Z
LAST-MODIFIED:20250411T181853Z
UID:10004009-1752325200-1752332400@exploremartincounty.com
SUMMARY:Healing Through Art
DESCRIPTION:Join AmVets Post 227\, at Healing Through Art\, a support group at Martin County Arts Council\, every 2nd and 4th Saturday March through December. Who knew art could be such a comforting experience?! All are welcome.
URL:https://exploremartincounty.com/event/healing-through-art/2025-07-12/
LOCATION:Martin County Arts Council – Flat Iron Gallery\, 124 Washington St\, Williamston\, NC\, 27892\, United States
ORGANIZER;CN="AmVets Post 227":MAILTO:cdspinney@hotmail.com
END:VEVENT
BEGIN:VEVENT
DTSTART;TZID=America/New_York:20250712T150000
DTEND;TZID=America/New_York:20250712T220000
DTSTAMP:20260425T202402
CREATED:20250707T193059Z
LAST-MODIFIED:20250707T193059Z
UID:10004312-1752332400-1752357600@exploremartincounty.com
SUMMARY:Dirt Kart Race
DESCRIPTION:Graveyard Motor Speedway will hold a dirt kart race on Saturday\, July 12th. Gates open / practice at 3 PM and racing begins at 5 PM!
URL:https://exploremartincounty.com/event/dirt-kart-race-3/
LOCATION:Graveyard Motor Speedway\, 8351 Bear Grass Rd\, Robersonville\, NC\, 27871\, United States
END:VEVENT
BEGIN:VEVENT
DTSTART;TZID=America/New_York:20250712T183000
DTEND;TZID=America/New_York:20250712T210000
DTSTAMP:20260425T202402
CREATED:20250630T201921Z
LAST-MODIFIED:20250630T201921Z
UID:10004293-1752345000-1752354000@exploremartincounty.com
SUMMARY:"Game Show" Night by E.J. Hayes
DESCRIPTION:Put together your 5-member team and join EJHAA for a summer evening of games\, fun\, food\, and lots of laughs!
URL:https://exploremartincounty.com/event/game-show-night-by-e-j-hayes/
LOCATION:E.J. Hayes Alumni Center\, 705 Washington Street\, Williamston\, NC\, 27892\, United States
END:VEVENT
END:VCALENDAR