BEGIN:VCALENDAR
VERSION:2.0
PRODID:-//Explore Martin County NC - ECPv6.14.2//NONSGML v1.0//EN
CALSCALE:GREGORIAN
METHOD:PUBLISH
X-WR-CALNAME:Explore Martin County NC
X-ORIGINAL-URL:https://exploremartincounty.com
X-WR-CALDESC:Events for Explore Martin County NC
REFRESH-INTERVAL;VALUE=DURATION:PT1H
X-Robots-Tag:noindex
X-PUBLISHED-TTL:PT1H
BEGIN:VTIMEZONE
TZID:America/New_York
BEGIN:DAYLIGHT
TZOFFSETFROM:-0500
TZOFFSETTO:-0400
TZNAME:EDT
DTSTART:20250309T070000
END:DAYLIGHT
BEGIN:STANDARD
TZOFFSETFROM:-0400
TZOFFSETTO:-0500
TZNAME:EST
DTSTART:20251102T060000
END:STANDARD
END:VTIMEZONE
BEGIN:VEVENT
DTSTART;TZID=America/New_York:20250711T070000
DTEND;TZID=America/New_York:20250711T190000
DTSTAMP:20260425T202229
CREATED:20250224T194828Z
LAST-MODIFIED:20250709T133426Z
UID:10003346-1752217200-1752260400@exploremartincounty.com
SUMMARY:SERHA Main Event & North America Reining Stakes Horse Show
DESCRIPTION:The SERHA Main Event & North America Reining Stakes Horse Show will take place at Senator Bob Martin Eastern Agricultural Center on July 7th – 13th. Spectator admission is free! Show times will be from 7 AM to 7 PM each day. Visit www.serha.org or call (919) 961-0440 for more information!
URL:https://exploremartincounty.com/event/serha-main-event-north-america-reining-stakes-horse-show/2025-07-11/
LOCATION:Senator Bob Martin Eastern Agricultural Center\, 2900 NC-125\, Williamston\, NC\, 27892\, United States
ORGANIZER;CN="SERHA":MAILTO:info@serha.org
END:VEVENT
BEGIN:VEVENT
DTSTART;TZID=America/New_York:20250711T120000
DTEND;TZID=America/New_York:20250711T160000
DTSTAMP:20260425T202229
CREATED:20250318T203012Z
LAST-MODIFIED:20250527T162406Z
UID:10003782-1752235200-1752249600@exploremartincounty.com
SUMMARY:Bailey Phelps Art Exhibition & Reception
DESCRIPTION:This art exhibition at the Martin County Arts Council Flatiron Gallery will take place from June 12th to July 24th. The opening reception on June 12th will be from 6:30 PM to 8 PM. \n \n 
URL:https://exploremartincounty.com/event/bailey-phelps-art-exhibition-reception-2/2025-07-11/
LOCATION:Martin County Arts Council – Flat Iron Gallery\, 124 Washington St\, Williamston\, NC\, 27892\, United States
END:VEVENT
BEGIN:VEVENT
DTSTART;TZID=America/New_York:20250711T190000
DTEND;TZID=America/New_York:20250711T220000
DTSTAMP:20260425T202229
CREATED:20250709T133835Z
LAST-MODIFIED:20250709T134654Z
UID:10004316-1752260400-1752271200@exploremartincounty.com
SUMMARY:Karaoke Night at The Snack Shack
DESCRIPTION:You can be a star on Karaoke Night at The Snack Shack! Join in the fun from 7 PM to 10 PM. \n  \n \n \n  \n  \n  \n  \n 
URL:https://exploremartincounty.com/event/karaoke-night-at-the-snack-shack-8/
LOCATION:The Snack Shack\, 101 B Main St\, Williamston\, NC\, 27892\, United States
END:VEVENT
END:VCALENDAR