BEGIN:VCALENDAR
VERSION:2.0
PRODID:-//Explore Martin County NC - ECPv6.14.2//NONSGML v1.0//EN
CALSCALE:GREGORIAN
METHOD:PUBLISH
X-ORIGINAL-URL:https://exploremartincounty.com
X-WR-CALDESC:Events for Explore Martin County NC
REFRESH-INTERVAL;VALUE=DURATION:PT1H
X-Robots-Tag:noindex
X-PUBLISHED-TTL:PT1H
BEGIN:VTIMEZONE
TZID:America/New_York
BEGIN:DAYLIGHT
TZOFFSETFROM:-0500
TZOFFSETTO:-0400
TZNAME:EDT
DTSTART:20250309T070000
END:DAYLIGHT
BEGIN:STANDARD
TZOFFSETFROM:-0400
TZOFFSETTO:-0500
TZNAME:EST
DTSTART:20251102T060000
END:STANDARD
END:VTIMEZONE
BEGIN:VEVENT
DTSTART;TZID=America/New_York:20250710T070000
DTEND;TZID=America/New_York:20250710T190000
DTSTAMP:20260425T202355
CREATED:20250224T194828Z
LAST-MODIFIED:20250709T133426Z
UID:10003345-1752130800-1752174000@exploremartincounty.com
SUMMARY:SERHA Main Event & North America Reining Stakes Horse Show
DESCRIPTION:The SERHA Main Event & North America Reining Stakes Horse Show will take place at Senator Bob Martin Eastern Agricultural Center on July 7th – 13th. Spectator admission is free! Show times will be from 7 AM to 7 PM each day. Visit www.serha.org or call (919) 961-0440 for more information!
URL:https://exploremartincounty.com/event/serha-main-event-north-america-reining-stakes-horse-show/2025-07-10/
LOCATION:Senator Bob Martin Eastern Agricultural Center\, 2900 NC-125\, Williamston\, NC\, 27892\, United States
ORGANIZER;CN="SERHA":MAILTO:info@serha.org
END:VEVENT
BEGIN:VEVENT
DTSTART;TZID=America/New_York:20250710T120000
DTEND;TZID=America/New_York:20250710T160000
DTSTAMP:20260425T202355
CREATED:20250318T203012Z
LAST-MODIFIED:20250527T162406Z
UID:10003781-1752148800-1752163200@exploremartincounty.com
SUMMARY:Bailey Phelps Art Exhibition & Reception
DESCRIPTION:This art exhibition at the Martin County Arts Council Flatiron Gallery will take place from June 12th to July 24th. The opening reception on June 12th will be from 6:30 PM to 8 PM. \n \n 
URL:https://exploremartincounty.com/event/bailey-phelps-art-exhibition-reception-2/2025-07-10/
LOCATION:Martin County Arts Council – Flat Iron Gallery\, 124 Washington St\, Williamston\, NC\, 27892\, United States
END:VEVENT
BEGIN:VEVENT
DTSTART;TZID=America/New_York:20250710T140000
DTEND;TZID=America/New_York:20250710T160000
DTSTAMP:20260425T202355
CREATED:20250505T193826Z
LAST-MODIFIED:20250505T193826Z
UID:10004097-1752156000-1752163200@exploremartincounty.com
SUMMARY:Teen Cuisine
DESCRIPTION:It’s SUMMER CAMP TIME! Martin County 4-H and NC Cooperative Extension will hold a Teen Cuisine event on Thursday\, July 10th from 2 PM to 4 PM. Call to register at (252)789-4370.
URL:https://exploremartincounty.com/event/teen-cuisine/
LOCATION:N.C. Cooperative Extension – Martin County Center\, 104 Kehukee Park Rd\, Williamston\, NC\, 27892\, United States
ORGANIZER;CN="Martin County 4-H":MAILTO:joy_pierce@ncsu.edu
END:VEVENT
BEGIN:VEVENT
DTSTART;TZID=America/New_York:20250710T173000
DTEND;TZID=America/New_York:20250710T213000
DTSTAMP:20260425T202355
CREATED:20250325T204517Z
LAST-MODIFIED:20250904T213658Z
UID:10003943-1752168600-1752183000@exploremartincounty.com
SUMMARY:Thursday Night Doubles - Farm Life Disc Golf
DESCRIPTION:Thursday night doubles run in spring\, summer\, and fall. Start time is 5:30 PM\, except for the summer months\, as the days get longer\, wherein 6 PM will be the new start time. \n  \nThis beautiful course is a tightly wooded course with swamps and a pond. Alt. pin placements make for a fun and challenging time. Situated on a private family farm\, so please call the owner before playing. The phone number is also posted on a sign near the 1st tee. \n  \nDebbie Roberson\nPhone: 252-217-9738
URL:https://exploremartincounty.com/event/thursday-night-doubles-farm-life-disc-golf/2025-07-10/
LOCATION:Farm Life Disc Golf\, 1233 Kent Roberson Rd.\, Williamston\, NC\, 27892\, United States
END:VEVENT
END:VCALENDAR