BEGIN:VCALENDAR
VERSION:2.0
PRODID:-//Explore Martin County NC - ECPv6.14.2//NONSGML v1.0//EN
CALSCALE:GREGORIAN
METHOD:PUBLISH
X-WR-CALNAME:Explore Martin County NC
X-ORIGINAL-URL:https://exploremartincounty.com
X-WR-CALDESC:Events for Explore Martin County NC
REFRESH-INTERVAL;VALUE=DURATION:PT1H
X-Robots-Tag:noindex
X-PUBLISHED-TTL:PT1H
BEGIN:VTIMEZONE
TZID:America/New_York
BEGIN:DAYLIGHT
TZOFFSETFROM:-0500
TZOFFSETTO:-0400
TZNAME:EDT
DTSTART:20250309T070000
END:DAYLIGHT
BEGIN:STANDARD
TZOFFSETFROM:-0400
TZOFFSETTO:-0500
TZNAME:EST
DTSTART:20251102T060000
END:STANDARD
END:VTIMEZONE
BEGIN:VTIMEZONE
TZID:UTC
BEGIN:STANDARD
TZOFFSETFROM:+0000
TZOFFSETTO:+0000
TZNAME:UTC
DTSTART:20250101T000000
END:STANDARD
END:VTIMEZONE
BEGIN:VEVENT
DTSTART;TZID=America/New_York:20250709T070000
DTEND;TZID=America/New_York:20250709T190000
DTSTAMP:20260425T202229
CREATED:20250224T194828Z
LAST-MODIFIED:20250709T133426Z
UID:10003344-1752044400-1752087600@exploremartincounty.com
SUMMARY:SERHA Main Event & North America Reining Stakes Horse Show
DESCRIPTION:The SERHA Main Event & North America Reining Stakes Horse Show will take place at Senator Bob Martin Eastern Agricultural Center on July 7th – 13th. Spectator admission is free! Show times will be from 7 AM to 7 PM each day. Visit www.serha.org or call (919) 961-0440 for more information!
URL:https://exploremartincounty.com/event/serha-main-event-north-america-reining-stakes-horse-show/2025-07-09/
LOCATION:Senator Bob Martin Eastern Agricultural Center\, 2900 NC-125\, Williamston\, NC\, 27892\, United States
ORGANIZER;CN="SERHA":MAILTO:info@serha.org
END:VEVENT
BEGIN:VEVENT
DTSTART;TZID=America/New_York:20250709T100000
DTEND;TZID=America/New_York:20250709T150000
DTSTAMP:20260425T202229
CREATED:20250630T193323Z
LAST-MODIFIED:20250630T193323Z
UID:10004279-1752055200-1752073200@exploremartincounty.com
SUMMARY:Sylvan Heights Bird Park Educational Program
DESCRIPTION:Join Martin Memorial Library at their Outdoor Pavilion for an educational program with Sylvan Heights Bird Park. This program is a great way for families to experience nature right here at the library. Program is free and open to the public. \n \n 
URL:https://exploremartincounty.com/event/sylvan-heights-bird-park-educational-program/
LOCATION:Martin Memorial Library\, 200 N. Smithwick St\, Williamston\, NC\, 27892\, United States
END:VEVENT
BEGIN:VEVENT
DTSTART;TZID=America/New_York:20250709T120000
DTEND;TZID=America/New_York:20250709T160000
DTSTAMP:20260425T202229
CREATED:20250318T203012Z
LAST-MODIFIED:20250527T162406Z
UID:10003780-1752062400-1752076800@exploremartincounty.com
SUMMARY:Bailey Phelps Art Exhibition & Reception
DESCRIPTION:This art exhibition at the Martin County Arts Council Flatiron Gallery will take place from June 12th to July 24th. The opening reception on June 12th will be from 6:30 PM to 8 PM. \n \n 
URL:https://exploremartincounty.com/event/bailey-phelps-art-exhibition-reception-2/2025-07-09/
LOCATION:Martin County Arts Council – Flat Iron Gallery\, 124 Washington St\, Williamston\, NC\, 27892\, United States
END:VEVENT
BEGIN:VEVENT
DTSTART;TZID=America/New_York:20250709T130000
DTEND;TZID=America/New_York:20250709T150000
DTSTAMP:20260425T202229
CREATED:20250609T191227Z
LAST-MODIFIED:20250609T191227Z
UID:10004191-1752066000-1752073200@exploremartincounty.com
SUMMARY:Color YOUR World Paint Party - Summer Reading Program
DESCRIPTION:Join Robersonville Public Library for a kids summer reading program with a lot of exciting events. This program is free and open to the public.
URL:https://exploremartincounty.com/event/color-your-world-paint-party-summer-reading-program-2/
LOCATION:First Christian Church – Robersonville\, 126 S Main St\, Robersonville\, 27871\, United States
ORGANIZER;CN="Robersonville Public Library":MAILTO:dburkhart@bhmlib.org
END:VEVENT
BEGIN:VEVENT
DTSTART;TZID=America/New_York:20250709T140000
DTEND;TZID=America/New_York:20250709T160000
DTSTAMP:20260425T202229
CREATED:20250317T203242Z
LAST-MODIFIED:20250317T203242Z
UID:10003473-1752069600-1752076800@exploremartincounty.com
SUMMARY:Bingo - Everetts Ruritan Club
DESCRIPTION:Bingo is every Wednesday at 2 PM at the Everetts Ruritan Club building. Price is $1 per card. Prizes are small items.
URL:https://exploremartincounty.com/event/bingo-everetts-ruritan-club/2025-07-09/
LOCATION:Everetts Ruritan Club\, 205 Ayers St\, Williamston\, NC\, 27892\, United States
END:VEVENT
BEGIN:VEVENT
DTSTART;TZID=UTC:20250709T183000
DTEND;TZID=UTC:20250709T200000
DTSTAMP:20260425T202229
CREATED:20250630T183638Z
LAST-MODIFIED:20250630T183659Z
UID:10004277-1752085800-1752091200@exploremartincounty.com
SUMMARY:Summer Night of Expression
DESCRIPTION:Teens are invited join Library Assistant Jessika Patrick in the Ella Mae Abbitt Meeting Room for fun night of karaoke and dance. Kid friendly event for youth to express themselves through the arts. For ages 13 to 18.
URL:https://exploremartincounty.com/event/summer-night-of-expression/
LOCATION:Martin Memorial Library\, 200 N. Smithwick St\, Williamston\, NC\, 27892\, United States
ATTACH;FMTTYPE=image/jpeg:https://exploremartincounty.com/wp-content/uploads/2023/11/sdfh.jpg
END:VEVENT
END:VCALENDAR