BEGIN:VCALENDAR
VERSION:2.0
PRODID:-//Explore Martin County NC - ECPv6.14.2//NONSGML v1.0//EN
CALSCALE:GREGORIAN
METHOD:PUBLISH
X-WR-CALNAME:Explore Martin County NC
X-ORIGINAL-URL:https://exploremartincounty.com
X-WR-CALDESC:Events for Explore Martin County NC
REFRESH-INTERVAL;VALUE=DURATION:PT1H
X-Robots-Tag:noindex
X-PUBLISHED-TTL:PT1H
BEGIN:VTIMEZONE
TZID:America/New_York
BEGIN:DAYLIGHT
TZOFFSETFROM:-0500
TZOFFSETTO:-0400
TZNAME:EDT
DTSTART:20250309T070000
END:DAYLIGHT
BEGIN:STANDARD
TZOFFSETFROM:-0400
TZOFFSETTO:-0500
TZNAME:EST
DTSTART:20251102T060000
END:STANDARD
END:VTIMEZONE
BEGIN:VEVENT
DTSTART;TZID=America/New_York:20250702T100000
DTEND;TZID=America/New_York:20250702T120000
DTSTAMP:20260425T202229
CREATED:20250603T130934Z
LAST-MODIFIED:20250603T130934Z
UID:10004183-1751450400-1751457600@exploremartincounty.com
SUMMARY:Interactive Theater with Jef Lambdin
DESCRIPTION:Join in the fun at the Library Outdoor Pavilion for a performance by mime\, mask theater artist\, and variety artist\, Jef Lambdin. Children as well as adults are sure to enjoy this entertaining event.
URL:https://exploremartincounty.com/event/interactive-theater-with-jef-lambdin/
LOCATION:Martin Memorial Library\, 200 N. Smithwick St\, Williamston\, NC\, 27892\, United States
END:VEVENT
BEGIN:VEVENT
DTSTART;TZID=America/New_York:20250702T120000
DTEND;TZID=America/New_York:20250702T160000
DTSTAMP:20260425T202229
CREATED:20250318T203012Z
LAST-MODIFIED:20250527T162406Z
UID:10003775-1751457600-1751472000@exploremartincounty.com
SUMMARY:Bailey Phelps Art Exhibition & Reception
DESCRIPTION:This art exhibition at the Martin County Arts Council Flatiron Gallery will take place from June 12th to July 24th. The opening reception on June 12th will be from 6:30 PM to 8 PM. \n \n 
URL:https://exploremartincounty.com/event/bailey-phelps-art-exhibition-reception-2/2025-07-02/
LOCATION:Martin County Arts Council – Flat Iron Gallery\, 124 Washington St\, Williamston\, NC\, 27892\, United States
END:VEVENT
BEGIN:VEVENT
DTSTART;TZID=America/New_York:20250702T140000
DTEND;TZID=America/New_York:20250702T160000
DTSTAMP:20260425T202229
CREATED:20250317T203242Z
LAST-MODIFIED:20250317T203242Z
UID:10003472-1751464800-1751472000@exploremartincounty.com
SUMMARY:Bingo - Everetts Ruritan Club
DESCRIPTION:Bingo is every Wednesday at 2 PM at the Everetts Ruritan Club building. Price is $1 per card. Prizes are small items.
URL:https://exploremartincounty.com/event/bingo-everetts-ruritan-club/2025-07-02/
LOCATION:Everetts Ruritan Club\, 205 Ayers St\, Williamston\, NC\, 27892\, United States
END:VEVENT
BEGIN:VEVENT
DTSTART;TZID=America/New_York:20250702T180000
DTEND;TZID=America/New_York:20250702T220000
DTSTAMP:20260425T202229
CREATED:20250623T171826Z
LAST-MODIFIED:20250623T171826Z
UID:10004248-1751479200-1751493600@exploremartincounty.com
SUMMARY:District 6 Tarheel League Softball Tournament
DESCRIPTION:All-star teams will be competing in the District 6 Tarheel League Tournament\, hosted right here in Williamston starting June 30th. Come out and support the players at Godwin-Coppage Park!
URL:https://exploremartincounty.com/event/district-6-tarheel-league-softball-tournament/2025-07-02/
LOCATION:Godwin-Coppage Park\, 1073 Tyner Rd.\, Williamston\, NC\, 27892\, United States
ORGANIZER;CN="Tarheel Leagues Inc.%2C District 6":MAILTO:sbarnes37@suddenlink.net
END:VEVENT
END:VCALENDAR