BEGIN:VCALENDAR
VERSION:2.0
PRODID:-//Explore Martin County NC - ECPv6.14.2//NONSGML v1.0//EN
CALSCALE:GREGORIAN
METHOD:PUBLISH
X-ORIGINAL-URL:https://exploremartincounty.com
X-WR-CALDESC:Events for Explore Martin County NC
REFRESH-INTERVAL;VALUE=DURATION:PT1H
X-Robots-Tag:noindex
X-PUBLISHED-TTL:PT1H
BEGIN:VTIMEZONE
TZID:America/New_York
BEGIN:DAYLIGHT
TZOFFSETFROM:-0500
TZOFFSETTO:-0400
TZNAME:EDT
DTSTART:20250309T070000
END:DAYLIGHT
BEGIN:STANDARD
TZOFFSETFROM:-0400
TZOFFSETTO:-0500
TZNAME:EST
DTSTART:20251102T060000
END:STANDARD
END:VTIMEZONE
BEGIN:VEVENT
DTSTART;TZID=America/New_York:20250630T100000
DTEND;TZID=America/New_York:20250630T110000
DTSTAMP:20260425T202355
CREATED:20250630T194853Z
LAST-MODIFIED:20250630T194853Z
UID:10004283-1751277600-1751281200@exploremartincounty.com
SUMMARY:End of Summer Celebration
DESCRIPTION:Gather up those reading logs and join Martin Memorial Library for a fun morning celebrating accomplishments over the summer! There will be a bouncy house and Kona Ice on site.
URL:https://exploremartincounty.com/event/end-of-summer-celebration/
LOCATION:Martin Memorial Library\, 200 N. Smithwick St\, Williamston\, NC\, 27892\, United States
END:VEVENT
BEGIN:VEVENT
DTSTART;TZID=America/New_York:20250630T100000
DTEND;TZID=America/New_York:20250630T120000
DTSTAMP:20260425T202355
CREATED:20250505T193510Z
LAST-MODIFIED:20250505T193510Z
UID:10004096-1751277600-1751284800@exploremartincounty.com
SUMMARY:Salute to our Veterans
DESCRIPTION:It’s SUMMER CAMP TIME! Martin County 4-H and NC Cooperative Extension will hold a Salute to Our Veterans event on Monday\, June 30th from 10 AM to 12 PM. Call to register at (252)789-4370.
URL:https://exploremartincounty.com/event/salute-to-our-veterans/
LOCATION:N.C. Cooperative Extension – Martin County Center\, 104 Kehukee Park Rd\, Williamston\, NC\, 27892\, United States
ORGANIZER;CN="Martin County 4-H":MAILTO:joy_pierce@ncsu.edu
END:VEVENT
BEGIN:VEVENT
DTSTART;TZID=America/New_York:20250630T120000
DTEND;TZID=America/New_York:20250630T170000
DTSTAMP:20260425T202355
CREATED:20250527T194641Z
LAST-MODIFIED:20250527T194641Z
UID:10004157-1751284800-1751302800@exploremartincounty.com
SUMMARY:Bowling Camp for Kids
DESCRIPTION:Williamston Bowling Center will host a bowling camp for kids\, ages 5 to 12\, on Monday\, June 30th\, from 12 PM to 5 PM. The camp theme is patriotic and the sign-up deadline is June 23rd.
URL:https://exploremartincounty.com/event/bowling-camp-for-kids/
LOCATION:Williamston Bowling Center\, 617 East Blvd\, Williamston\, NC\, 27892\, United States
END:VEVENT
BEGIN:VEVENT
DTSTART;TZID=America/New_York:20250630T180000
DTEND;TZID=America/New_York:20250630T200000
DTSTAMP:20260425T202355
CREATED:20250324T184752Z
LAST-MODIFIED:20250325T155852Z
UID:10003919-1751306400-1751313600@exploremartincounty.com
SUMMARY:Line Dancing Class
DESCRIPTION:Register now for Martin Community College’s Line Dancing Class series\, taking place on ***UPDATED DATES*** Monday nights from April 14th to July 14th. ***UPDATED DATES*** Please contact Lena Jackson at 252-789-0257 to register. \n \n 
URL:https://exploremartincounty.com/event/line-dancing-class-3-2/2025-06-30/
LOCATION:Martin Community College\, Kehukee Park Rd\, Williamston\, 27892\, United States
END:VEVENT
BEGIN:VEVENT
DTSTART;TZID=America/New_York:20250630T180000
DTEND;TZID=America/New_York:20250630T220000
DTSTAMP:20260425T202355
CREATED:20250623T171826Z
LAST-MODIFIED:20250623T171826Z
UID:10004246-1751306400-1751320800@exploremartincounty.com
SUMMARY:District 6 Tarheel League Softball Tournament
DESCRIPTION:All-star teams will be competing in the District 6 Tarheel League Tournament\, hosted right here in Williamston starting June 30th. Come out and support the players at Godwin-Coppage Park!
URL:https://exploremartincounty.com/event/district-6-tarheel-league-softball-tournament/2025-06-30/
LOCATION:Godwin-Coppage Park\, 1073 Tyner Rd.\, Williamston\, NC\, 27892\, United States
ORGANIZER;CN="Tarheel Leagues Inc.%2C District 6":MAILTO:sbarnes37@suddenlink.net
END:VEVENT
END:VCALENDAR