BEGIN:VCALENDAR
VERSION:2.0
PRODID:-//Explore Martin County NC - ECPv6.14.2//NONSGML v1.0//EN
CALSCALE:GREGORIAN
METHOD:PUBLISH
X-WR-CALNAME:Explore Martin County NC
X-ORIGINAL-URL:https://exploremartincounty.com
X-WR-CALDESC:Events for Explore Martin County NC
REFRESH-INTERVAL;VALUE=DURATION:PT1H
X-Robots-Tag:noindex
X-PUBLISHED-TTL:PT1H
BEGIN:VTIMEZONE
TZID:America/New_York
BEGIN:DAYLIGHT
TZOFFSETFROM:-0500
TZOFFSETTO:-0400
TZNAME:EDT
DTSTART:20250309T070000
END:DAYLIGHT
BEGIN:STANDARD
TZOFFSETFROM:-0400
TZOFFSETTO:-0500
TZNAME:EST
DTSTART:20251102T060000
END:STANDARD
END:VTIMEZONE
BEGIN:VEVENT
DTSTART;TZID=America/New_York:20250628T080000
DTEND;TZID=America/New_York:20250628T120000
DTSTAMP:20260425T234132
CREATED:20250627T174852Z
LAST-MODIFIED:20250627T174852Z
UID:10004269-1751097600-1751112000@exploremartincounty.com
SUMMARY:Farmers Market
DESCRIPTION:Head to the Farmers Market on Saturday from 8 AM to noon and support local farmers and artisans. Have lunch and refreshments at the concession stand. Shop for locally made gifts\, fresh produce\, meat\, and more!
URL:https://exploremartincounty.com/event/farmers-market-5/
LOCATION:Martin County Farmers Market\, 4001 W Main St\, Williamston\, NC\, 27892\, United States
END:VEVENT
BEGIN:VEVENT
DTSTART;TZID=America/New_York:20250628T090000
DTEND;TZID=America/New_York:20250628T170000
DTSTAMP:20260425T234132
CREATED:20250612T164813Z
LAST-MODIFIED:20250612T164813Z
UID:10004197-1751101200-1751130000@exploremartincounty.com
SUMMARY:Member/Member & Member/Guest Golf Tournament
DESCRIPTION:Calling all golfers! Robersonville Country Club has several tournaments coming up. Some events are open to guests. Please call the Pro Shop at 252-795-4212 for more info.
URL:https://exploremartincounty.com/event/member-member-member-guest-golf-tournament/2025-06-28/
LOCATION:Robersonville Country Club\, 20720 NC Highway 903\, Robersonville\, NC\, 27871\, United States
END:VEVENT
BEGIN:VEVENT
DTSTART;TZID=America/New_York:20250628T120000
DTEND;TZID=America/New_York:20250628T160000
DTSTAMP:20260425T234132
CREATED:20250318T203012Z
LAST-MODIFIED:20250527T162406Z
UID:10003773-1751112000-1751126400@exploremartincounty.com
SUMMARY:Bailey Phelps Art Exhibition & Reception
DESCRIPTION:This art exhibition at the Martin County Arts Council Flatiron Gallery will take place from June 12th to July 24th. The opening reception on June 12th will be from 6:30 PM to 8 PM. \n \n 
URL:https://exploremartincounty.com/event/bailey-phelps-art-exhibition-reception-2/2025-06-28/
LOCATION:Martin County Arts Council – Flat Iron Gallery\, 124 Washington St\, Williamston\, NC\, 27892\, United States
END:VEVENT
BEGIN:VEVENT
DTSTART;TZID=America/New_York:20250628T130000
DTEND;TZID=America/New_York:20250628T150000
DTSTAMP:20260425T234132
CREATED:20250411T181853Z
LAST-MODIFIED:20250411T181853Z
UID:10004008-1751115600-1751122800@exploremartincounty.com
SUMMARY:Healing Through Art
DESCRIPTION:Join AmVets Post 227\, at Healing Through Art\, a support group at Martin County Arts Council\, every 2nd and 4th Saturday March through December. Who knew art could be such a comforting experience?! All are welcome.
URL:https://exploremartincounty.com/event/healing-through-art/2025-06-28/
LOCATION:Martin County Arts Council – Flat Iron Gallery\, 124 Washington St\, Williamston\, NC\, 27892\, United States
ORGANIZER;CN="AmVets Post 227":MAILTO:cdspinney@hotmail.com
END:VEVENT
BEGIN:VEVENT
DTSTART;TZID=America/New_York:20250628T130000
DTEND;TZID=America/New_York:20250628T150000
DTSTAMP:20260425T234132
CREATED:20250625T174510Z
LAST-MODIFIED:20250625T174510Z
UID:10004260-1751115600-1751122800@exploremartincounty.com
SUMMARY:Open Hours - Robersonville Exhibit Hall
DESCRIPTION:Robersonville Exhibit Hall will be open Thursday\, Friday\, & Saturday\, June 26th to 28th\, from 1 PM to 3 PM for guests to peruse the current historical exhibits on display at the new museum.
URL:https://exploremartincounty.com/event/open-hours-robersonville-exhibit-hall/2025-06-28/
LOCATION:Robersonville Exhibit Hall\, 112 S Main St\, Robersonville\, NC\, 27871\, United States
ORGANIZER;CN="Martin County Historical Society":MAILTO:info@martincountynchistoricalsociety.org
END:VEVENT
BEGIN:VEVENT
DTSTART;TZID=America/New_York:20250628T160000
DTEND;TZID=America/New_York:20250628T180000
DTSTAMP:20260425T234132
CREATED:20250626T180426Z
LAST-MODIFIED:20250626T180426Z
UID:10004268-1751126400-1751133600@exploremartincounty.com
SUMMARY:Tienda Sinai's 1-Year Anniversary Celebration
DESCRIPTION:Tienda Sinai is a a specialty grocery store\, open Monday through Saturday from 10 AM to 8 PM\, and on Sunday from 2 PM to 8 PM. The store offers a variety of products including meats\, drinks\, candy\, and medicine. \nQueridos Clientes: Ven a celebrar con nosotros nuestro primer aniversario\, Tendremos comida y bebidas GRATIS para todos! Junio 28 (4:00pm – 6:00pm)Dear Customers:Come celebrate our first anniversary. We will have FREE food and drinks for everyone! June 28 (4:00pm – 6:00pm)
URL:https://exploremartincounty.com/event/tienda-sinais-1-year-anniversary-celebration/
LOCATION:Tienda Sinai\, 540A E Main St\, Williamston\, NC\, 27892\, United States
END:VEVENT
BEGIN:VEVENT
DTSTART;TZID=America/New_York:20250628T180000
DTEND;TZID=America/New_York:20250628T200000
DTSTAMP:20260425T234132
CREATED:20250626T145610Z
LAST-MODIFIED:20250626T145610Z
UID:10004266-1751133600-1751140800@exploremartincounty.com
SUMMARY:Farm Life Independence Day Celebration
DESCRIPTION:Please join the Farm Life Ruritans and Smithwick Creek Primitive Baptist Church for an Independence Day celebration featuring a speaker and patriotic music on Saturday\, June 28th\, 2025\, at 6 PM. Bring your favorite light refreshment and enjoy the program!
URL:https://exploremartincounty.com/event/farm-life-independence-day-celebration/
LOCATION:Smithwick Creek Primitive Baptist Church\, 3781 Smithwick Creek Church Rd\, Williamston\, NC\, 27892\, United States
END:VEVENT
BEGIN:VEVENT
DTSTART;TZID=America/New_York:20250628T190000
DTEND;TZID=America/New_York:20250628T220000
DTSTAMP:20260425T234132
CREATED:20250520T164715Z
LAST-MODIFIED:20250616T164956Z
UID:10004127-1751137200-1751148000@exploremartincounty.com
SUMMARY:Next Stop Comedy at Hook Hand Brewery\, Taproom\, & Art Gallery
DESCRIPTION:Next Stop Comedy brings the best comedians\, with new lineups every time\, straight to your neighborhood for an unforgettable night of laughter! Our shows feature top-tier talent from across the country\, delivering high-energy performances in intimate\, local venues. Whether you need an exciting date night\, you’re a die-hard comedy fan\, or you’re just looking for a fun night out\, Next Stop Comedy guarantees big laughs\, great vibes\, and an experience you won’t want to miss. More info and tickets HERE. \n\nLine-Up for Comedy Night\, Saturday June 28th:\n\n\nHost name: Philip Walker\nHost IG: (@poppunkphil)\nFeature name: Matt Hammy\nFeature IG: (@mbhammy)\nHeadliner name: Mark Brady\nHeadliner IG: (@markbradyyy)
URL:https://exploremartincounty.com/event/next-stop-comedy-at-hook-hand-brewery-taproom-art-gallery/
LOCATION:Hook Hand Brewery\, Taproom\, & Art Gallery\, 106 Railroad St\, Williamston\, NC\, 27892\, United States
END:VEVENT
BEGIN:VEVENT
DTSTART;TZID=America/New_York:20250628T190000
DTEND;TZID=America/New_York:20250628T220000
DTSTAMP:20260425T234132
CREATED:20250625T172846Z
LAST-MODIFIED:20250625T172846Z
UID:10004252-1751137200-1751148000@exploremartincounty.com
SUMMARY:Jason Johnson Live at Main Street Haven
DESCRIPTION:Local musician\, Jason Johnson will be performing at Main Street Haven on Saturday\, June 28th from 7 PM to 10 PM. Enjoy dinner at a local food truck during the performance!
URL:https://exploremartincounty.com/event/jason-johnson-live-at-main-street-haven/
LOCATION:Main Street Haven\, 111 W. Main St\, Williamston\, NC\, 27892\, United States
END:VEVENT
END:VCALENDAR